BEGIN:VCALENDAR
VERSION:2.0
PRODID:-//New Resident Club of Cape Coral - ECPv6.15.20//NONSGML v1.0//EN
CALSCALE:GREGORIAN
METHOD:PUBLISH
X-WR-CALNAME:New Resident Club of Cape Coral
X-ORIGINAL-URL:https://capecoralnewresident.com
X-WR-CALDESC:Events for New Resident Club of Cape Coral
REFRESH-INTERVAL;VALUE=DURATION:PT1H
X-Robots-Tag:noindex
X-PUBLISHED-TTL:PT1H
BEGIN:VTIMEZONE
TZID:America/New_York
BEGIN:DAYLIGHT
TZOFFSETFROM:-0500
TZOFFSETTO:-0400
TZNAME:EDT
DTSTART:20240310T070000
END:DAYLIGHT
BEGIN:STANDARD
TZOFFSETFROM:-0400
TZOFFSETTO:-0500
TZNAME:EST
DTSTART:20241103T060000
END:STANDARD
BEGIN:DAYLIGHT
TZOFFSETFROM:-0500
TZOFFSETTO:-0400
TZNAME:EDT
DTSTART:20250309T070000
END:DAYLIGHT
BEGIN:STANDARD
TZOFFSETFROM:-0400
TZOFFSETTO:-0500
TZNAME:EST
DTSTART:20251102T060000
END:STANDARD
BEGIN:DAYLIGHT
TZOFFSETFROM:-0500
TZOFFSETTO:-0400
TZNAME:EDT
DTSTART:20260308T070000
END:DAYLIGHT
BEGIN:STANDARD
TZOFFSETFROM:-0400
TZOFFSETTO:-0500
TZNAME:EST
DTSTART:20261101T060000
END:STANDARD
END:VTIMEZONE
BEGIN:VEVENT
DTSTART;TZID=America/New_York:20250508T170000
DTEND;TZID=America/New_York:20250508T200000
DTSTAMP:20260424T193317
CREATED:20250404T201549Z
LAST-MODIFIED:20250404T201628Z
UID:10005713-1746723600-1746734400@capecoralnewresident.com
SUMMARY:General Meeting at Cape Cabaret
DESCRIPTION: \nThis months general meeting will be at 5:00 pm at the Cape Cabaret at 4725 Vincennes Blvd.\nWe will be on the patio and will have a server available.\nThere is an opportunity to sign up for membership as well as member events at the General Meeting.\n 
URL:https://capecoralnewresident.com/event/general-meeting-at-the-lake-kennedy-center-15/
LOCATION:FL\, United States
CATEGORIES:Meeting
ATTACH;FMTTYPE=image/png:https://capecoralnewresident.com/wp-content/uploads/2023/09/meeting-notice-ssbc-e1582041008823.png
END:VEVENT
BEGIN:VEVENT
DTSTART;TZID=America/New_York:20250508T183000
DTEND;TZID=America/New_York:20250508T203000
DTSTAMP:20260424T193317
CREATED:20250405T191153Z
LAST-MODIFIED:20250505T194845Z
UID:10005714-1746729000-1746736200@capecoralnewresident.com
SUMMARY:Singo Bingo after May 8 General Meeting
DESCRIPTION:NRC has arranged for up to 60 participants to join in Singo Bingo after the general meeting.  The general meeting starts at 5p on the outside deck of Cape Cabaret.  Singo Bingo follows at 6:30p.   \nNO Cover Charge / $10 minimum purchase per person required \n 
URL:https://capecoralnewresident.com/event/singo-bingo-after-may-8-general-meeting/
LOCATION:FL\, United States
CATEGORIES:Monthly Events & Activities
ATTACH;FMTTYPE=image/png:https://capecoralnewresident.com/wp-content/uploads/2025/04/Add-a-heading-1.png
END:VEVENT
END:VCALENDAR