BEGIN:VCALENDAR
VERSION:2.0
PRODID:-//New Resident Club of Cape Coral - ECPv6.15.20//NONSGML v1.0//EN
CALSCALE:GREGORIAN
METHOD:PUBLISH
X-ORIGINAL-URL:https://capecoralnewresident.com
X-WR-CALDESC:Events for New Resident Club of Cape Coral
REFRESH-INTERVAL;VALUE=DURATION:PT1H
X-Robots-Tag:noindex
X-PUBLISHED-TTL:PT1H
BEGIN:VTIMEZONE
TZID:America/New_York
BEGIN:DAYLIGHT
TZOFFSETFROM:-0500
TZOFFSETTO:-0400
TZNAME:EDT
DTSTART:20240310T070000
END:DAYLIGHT
BEGIN:STANDARD
TZOFFSETFROM:-0400
TZOFFSETTO:-0500
TZNAME:EST
DTSTART:20241103T060000
END:STANDARD
BEGIN:DAYLIGHT
TZOFFSETFROM:-0500
TZOFFSETTO:-0400
TZNAME:EDT
DTSTART:20250309T070000
END:DAYLIGHT
BEGIN:STANDARD
TZOFFSETFROM:-0400
TZOFFSETTO:-0500
TZNAME:EST
DTSTART:20251102T060000
END:STANDARD
BEGIN:DAYLIGHT
TZOFFSETFROM:-0500
TZOFFSETTO:-0400
TZNAME:EDT
DTSTART:20260308T070000
END:DAYLIGHT
BEGIN:STANDARD
TZOFFSETFROM:-0400
TZOFFSETTO:-0500
TZNAME:EST
DTSTART:20261101T060000
END:STANDARD
END:VTIMEZONE
BEGIN:VEVENT
DTSTART;TZID=America/New_York:20250525T090000
DTEND;TZID=America/New_York:20250525T163000
DTSTAMP:20260424T051106
CREATED:20250416T152010Z
LAST-MODIFIED:20250506T142724Z
UID:10005715-1748163600-1748190600@capecoralnewresident.com
SUMMARY:Cruise to Cabbage Key from Fisherman's Village
DESCRIPTION:Sign up on line @ https://kingfisherfleet.com/cruises/   Go to cruises – scroll down to Cabbage Key – Click on BOOK – Choose June 2 Date – Add NRC in comments. \nOR \nCall King Fisher Fleet at 941-639-0969.  Be sure to tell them you are with NRC (Cape Coral New Resident Club)
URL:https://capecoralnewresident.com/event/cruise-to-cabbage-key-from-fishermans-village/
LOCATION:King Fisher Fleets @ Fisherman’s Village Punta Gorda\, 1200 W Retta Esplanade #16a\, Punta Gorda\, 33950\, United States
CATEGORIES:Monthly Events & Activities
ATTACH;FMTTYPE=image/jpeg:https://capecoralnewresident.com/wp-content/uploads/2025/04/Cabbage-Key-Cruise-5-25-2025-004.jpg
END:VEVENT
END:VCALENDAR