BEGIN:VCALENDAR
VERSION:2.0
PRODID:-//New Resident Club of Cape Coral - ECPv6.15.20//NONSGML v1.0//EN
CALSCALE:GREGORIAN
METHOD:PUBLISH
X-WR-CALNAME:New Resident Club of Cape Coral
X-ORIGINAL-URL:https://capecoralnewresident.com
X-WR-CALDESC:Events for New Resident Club of Cape Coral
REFRESH-INTERVAL;VALUE=DURATION:PT1H
X-Robots-Tag:noindex
X-PUBLISHED-TTL:PT1H
BEGIN:VTIMEZONE
TZID:America/New_York
BEGIN:DAYLIGHT
TZOFFSETFROM:-0500
TZOFFSETTO:-0400
TZNAME:EDT
DTSTART:20240310T070000
END:DAYLIGHT
BEGIN:STANDARD
TZOFFSETFROM:-0400
TZOFFSETTO:-0500
TZNAME:EST
DTSTART:20241103T060000
END:STANDARD
BEGIN:DAYLIGHT
TZOFFSETFROM:-0500
TZOFFSETTO:-0400
TZNAME:EDT
DTSTART:20250309T070000
END:DAYLIGHT
BEGIN:STANDARD
TZOFFSETFROM:-0400
TZOFFSETTO:-0500
TZNAME:EST
DTSTART:20251102T060000
END:STANDARD
BEGIN:DAYLIGHT
TZOFFSETFROM:-0500
TZOFFSETTO:-0400
TZNAME:EDT
DTSTART:20260308T070000
END:DAYLIGHT
BEGIN:STANDARD
TZOFFSETFROM:-0400
TZOFFSETTO:-0500
TZNAME:EST
DTSTART:20261101T060000
END:STANDARD
END:VTIMEZONE
BEGIN:VEVENT
DTSTART;TZID=America/New_York:20250620T173000
DTEND;TZID=America/New_York:20250620T210000
DTSTAMP:20260423T222251
CREATED:20250515T192410Z
LAST-MODIFIED:20250516T203408Z
UID:10005723-1750440600-1750453200@capecoralnewresident.com
SUMMARY:Flying Solo Together's Dance Party June 2025
DESCRIPTION:Event: Flying Solo Together’s Dance Party \nDate: Friday June 20th \nDoors Open at 5:30pm\, Dance Floor Opens at 7:30pm till 10:00pm \nTickets: Free – However\, required to purchase $10 in drinks/food. \nRSVP: Dot Binder at nrcdotbinder@gmail.com \n  \nAdditional Info:  ECHO 70’s & 80’s DANCE BAND \nECHO is a five piece high energy Classic Rock dance band that plays your favorites from the 70’s & 80’s including music by: Journey\, Styx\, The Steve Miller Band\, \, ZZ Top\, Foreigner\, Kansas & more… They have one of the best female vocalists in SWFL. \nEarly Bird 20% Off Dinner Menu 5-6pm (Specials excluded)\nHappy Hour 50% Off House wines\, Wells & Dom. Draft Beer \n  \nFlying Solo Together are NRC members who are single\, separated\, divorced\, widowed\, or have a spouse who doesn’t like to attend events.  This is a social group that enjoys getting together.
URL:https://capecoralnewresident.com/event/flying-solo-togethers-dance-party-june-2025/
LOCATION:Cape Cabaret\, 4725 Vincennes Blvd\, Cape Coral\, 33904\, United States
CATEGORIES:Monthly Events & Activities
ATTACH;FMTTYPE=image/jpeg:https://capecoralnewresident.com/wp-content/uploads/2025/05/Invitation-5.jpg
ORGANIZER;CN="Dot Binder":MAILTO:nrcdotbinder@gmail.com
END:VEVENT
END:VCALENDAR