BEGIN:VCALENDAR
VERSION:2.0
PRODID:-//New Resident Club of Cape Coral - ECPv6.15.20//NONSGML v1.0//EN
CALSCALE:GREGORIAN
METHOD:PUBLISH
X-WR-CALNAME:New Resident Club of Cape Coral
X-ORIGINAL-URL:https://capecoralnewresident.com
X-WR-CALDESC:Events for New Resident Club of Cape Coral
REFRESH-INTERVAL;VALUE=DURATION:PT1H
X-Robots-Tag:noindex
X-PUBLISHED-TTL:PT1H
BEGIN:VTIMEZONE
TZID:America/New_York
BEGIN:DAYLIGHT
TZOFFSETFROM:-0500
TZOFFSETTO:-0400
TZNAME:EDT
DTSTART:20250309T070000
END:DAYLIGHT
BEGIN:STANDARD
TZOFFSETFROM:-0400
TZOFFSETTO:-0500
TZNAME:EST
DTSTART:20251102T060000
END:STANDARD
BEGIN:DAYLIGHT
TZOFFSETFROM:-0500
TZOFFSETTO:-0400
TZNAME:EDT
DTSTART:20260308T070000
END:DAYLIGHT
BEGIN:STANDARD
TZOFFSETFROM:-0400
TZOFFSETTO:-0500
TZNAME:EST
DTSTART:20261101T060000
END:STANDARD
BEGIN:DAYLIGHT
TZOFFSETFROM:-0500
TZOFFSETTO:-0400
TZNAME:EDT
DTSTART:20270314T070000
END:DAYLIGHT
BEGIN:STANDARD
TZOFFSETFROM:-0400
TZOFFSETTO:-0500
TZNAME:EST
DTSTART:20271107T060000
END:STANDARD
END:VTIMEZONE
BEGIN:VEVENT
DTSTART;TZID=America/New_York:20260222T130000
DTEND;TZID=America/New_York:20260222T150000
DTSTAMP:20260422T233138
CREATED:20260107T213052Z
LAST-MODIFIED:20260107T213052Z
UID:10005828-1771765200-1771772400@capecoralnewresident.com
SUMMARY:Red House Distillery Tour
DESCRIPTION:Tour begins at 1pm
URL:https://capecoralnewresident.com/event/red-house-distillery-tour/
LOCATION:Red House Distillery\, 11000 Metro Parkway #23\, Fort Myers\, United States
CATEGORIES:Monthly Events & Activities
ATTACH;FMTTYPE=image/jpeg:https://capecoralnewresident.com/wp-content/uploads/2026/01/Red-House-Distillery.jpg
END:VEVENT
END:VCALENDAR