BEGIN:VCALENDAR
VERSION:2.0
PRODID:-//New Resident Club of Cape Coral - ECPv6.15.20//NONSGML v1.0//EN
CALSCALE:GREGORIAN
METHOD:PUBLISH
X-WR-CALNAME:New Resident Club of Cape Coral
X-ORIGINAL-URL:https://capecoralnewresident.com
X-WR-CALDESC:Events for New Resident Club of Cape Coral
REFRESH-INTERVAL;VALUE=DURATION:PT1H
X-Robots-Tag:noindex
X-PUBLISHED-TTL:PT1H
BEGIN:VTIMEZONE
TZID:America/New_York
BEGIN:DAYLIGHT
TZOFFSETFROM:-0500
TZOFFSETTO:-0400
TZNAME:EDT
DTSTART:20260308T070000
END:DAYLIGHT
BEGIN:STANDARD
TZOFFSETFROM:-0400
TZOFFSETTO:-0500
TZNAME:EST
DTSTART:20261101T060000
END:STANDARD
BEGIN:DAYLIGHT
TZOFFSETFROM:-0500
TZOFFSETTO:-0400
TZNAME:EDT
DTSTART:20270314T070000
END:DAYLIGHT
BEGIN:STANDARD
TZOFFSETFROM:-0400
TZOFFSETTO:-0500
TZNAME:EST
DTSTART:20271107T060000
END:STANDARD
BEGIN:DAYLIGHT
TZOFFSETFROM:-0500
TZOFFSETTO:-0400
TZNAME:EDT
DTSTART:20280312T070000
END:DAYLIGHT
BEGIN:STANDARD
TZOFFSETFROM:-0400
TZOFFSETTO:-0500
TZNAME:EST
DTSTART:20281105T060000
END:STANDARD
BEGIN:DAYLIGHT
TZOFFSETFROM:-0500
TZOFFSETTO:-0400
TZNAME:EDT
DTSTART:20290311T070000
END:DAYLIGHT
BEGIN:STANDARD
TZOFFSETFROM:-0400
TZOFFSETTO:-0500
TZNAME:EST
DTSTART:20291104T060000
END:STANDARD
END:VTIMEZONE
BEGIN:VEVENT
DTSTART;VALUE=DATE:20270901
DTEND;VALUE=DATE:20270902
DTSTAMP:20260423T051954
CREATED:20260330T201338Z
LAST-MODIFIED:20260330T201341Z
UID:10005112-1819756800-1819843199@capecoralnewresident.com
SUMMARY:Sunset with Friends
DESCRIPTION:
URL:https://capecoralnewresident.com/event/sunset-with-friends-2/2027-09-01/
LOCATION:Four Freedoms Park\, 4818 Tarpon Court\, Cape Coral\, FL\, 33904\, United States
CATEGORIES:Monthly Events & Activities
ATTACH;FMTTYPE=image/jpeg:https://capecoralnewresident.com/wp-content/uploads/2024/02/Four-Freedoms.jpg
END:VEVENT
BEGIN:VEVENT
DTSTART;TZID=America/New_York:20270901T183000
DTEND;TZID=America/New_York:20270901T201500
DTSTAMP:20260423T051954
CREATED:20260330T202332Z
LAST-MODIFIED:20260330T203315Z
UID:10005946-1819823400-1819829700@capecoralnewresident.com
SUMMARY:Sunset with Friends @ Four Freedoms Park
DESCRIPTION:Join fellow NRC members and enjoy our slice of paradise as we watch the sunset together.
URL:https://capecoralnewresident.com/event/sunset-with-friends-four-freedoms-park/2027-09-01/
LOCATION:Four Freedoms Park\, 4818 Tarpon Court\, Cape Coral\, FL\, 33904\, United States
CATEGORIES:Monthly Events & Activities
ATTACH;FMTTYPE=image/jpeg:https://capecoralnewresident.com/wp-content/uploads/2024/02/Four-Freedoms.jpg
END:VEVENT
BEGIN:VEVENT
DTSTART;VALUE=DATE:20270913
DTEND;VALUE=DATE:20270914
DTSTAMP:20260423T051954
CREATED:20240301T030226Z
LAST-MODIFIED:20240301T030226Z
UID:10005233-1820793600-1820879999@capecoralnewresident.com
SUMMARY:Cocktails on the Cape
DESCRIPTION:
URL:https://capecoralnewresident.com/event/cocktails-on-the-cape-4/2027-09-13/
LOCATION:FL
CATEGORIES:Monthly Events & Activities
END:VEVENT
BEGIN:VEVENT
DTSTART;VALUE=DATE:20270916
DTEND;VALUE=DATE:20270917
DTSTAMP:20260423T051954
CREATED:20240420T195816Z
LAST-MODIFIED:20240420T195831Z
UID:10005478-1821052800-1821139199@capecoralnewresident.com
SUMMARY:Ladies Luncheon
DESCRIPTION:
URL:https://capecoralnewresident.com/event/monthly-ladies-luncheon/2027-09-16/
LOCATION:FL
CATEGORIES:Monthly Events & Activities
END:VEVENT
BEGIN:VEVENT
DTSTART;TZID=America/New_York:20270916T090000
DTEND;TZID=America/New_York:20270916T110000
DTSTAMP:20260423T051954
CREATED:20231217T185244Z
LAST-MODIFIED:20260405T203320Z
UID:10006067-1821085200-1821092400@capecoralnewresident.com
SUMMARY:Men's Breakfast
DESCRIPTION:Men’s Breakfast\n\nThird Thursday 9am House of Omelet’s 900 SW Pine Island Rd \nThe Men’s Breakfast is a long standing tradition of the NRC & provides an opportunity for a hearty meal among friends. \nNo Sign-Up required. Select from menu & pay individually. \n 
URL:https://capecoralnewresident.com/event/mens-breakfast/2027-09-16/
LOCATION:House of Omelet’s\, 900 SW Pine Island Rd\, Cape Coral\, FL\, 33991\, United States
CATEGORIES:Monthly Events & Activities
END:VEVENT
BEGIN:VEVENT
DTSTART;VALUE=DATE:20271006
DTEND;VALUE=DATE:20271007
DTSTAMP:20260423T051954
CREATED:20260330T201338Z
LAST-MODIFIED:20260330T201341Z
UID:10005113-1822780800-1822867199@capecoralnewresident.com
SUMMARY:Sunset with Friends
DESCRIPTION:
URL:https://capecoralnewresident.com/event/sunset-with-friends-2/2027-10-06/
LOCATION:Four Freedoms Park\, 4818 Tarpon Court\, Cape Coral\, FL\, 33904\, United States
CATEGORIES:Monthly Events & Activities
ATTACH;FMTTYPE=image/jpeg:https://capecoralnewresident.com/wp-content/uploads/2024/02/Four-Freedoms.jpg
END:VEVENT
BEGIN:VEVENT
DTSTART;TZID=America/New_York:20271006T183000
DTEND;TZID=America/New_York:20271006T201500
DTSTAMP:20260423T051954
CREATED:20260330T202332Z
LAST-MODIFIED:20260330T203315Z
UID:10005947-1822847400-1822853700@capecoralnewresident.com
SUMMARY:Sunset with Friends @ Four Freedoms Park
DESCRIPTION:Join fellow NRC members and enjoy our slice of paradise as we watch the sunset together.
URL:https://capecoralnewresident.com/event/sunset-with-friends-four-freedoms-park/2027-10-06/
LOCATION:Four Freedoms Park\, 4818 Tarpon Court\, Cape Coral\, FL\, 33904\, United States
CATEGORIES:Monthly Events & Activities
ATTACH;FMTTYPE=image/jpeg:https://capecoralnewresident.com/wp-content/uploads/2024/02/Four-Freedoms.jpg
END:VEVENT
BEGIN:VEVENT
DTSTART;VALUE=DATE:20271011
DTEND;VALUE=DATE:20271012
DTSTAMP:20260423T051954
CREATED:20240301T030226Z
LAST-MODIFIED:20240301T030226Z
UID:10005234-1823212800-1823299199@capecoralnewresident.com
SUMMARY:Cocktails on the Cape
DESCRIPTION:
URL:https://capecoralnewresident.com/event/cocktails-on-the-cape-4/2027-10-11/
LOCATION:FL
CATEGORIES:Monthly Events & Activities
END:VEVENT
BEGIN:VEVENT
DTSTART;VALUE=DATE:20271021
DTEND;VALUE=DATE:20271022
DTSTAMP:20260423T051954
CREATED:20240420T195816Z
LAST-MODIFIED:20240420T195831Z
UID:10005479-1824076800-1824163199@capecoralnewresident.com
SUMMARY:Ladies Luncheon
DESCRIPTION:
URL:https://capecoralnewresident.com/event/monthly-ladies-luncheon/2027-10-21/
LOCATION:FL
CATEGORIES:Monthly Events & Activities
END:VEVENT
BEGIN:VEVENT
DTSTART;TZID=America/New_York:20271021T090000
DTEND;TZID=America/New_York:20271021T110000
DTSTAMP:20260423T051954
CREATED:20231217T185244Z
LAST-MODIFIED:20260405T203320Z
UID:10006068-1824109200-1824116400@capecoralnewresident.com
SUMMARY:Men's Breakfast
DESCRIPTION:Men’s Breakfast\n\nThird Thursday 9am House of Omelet’s 900 SW Pine Island Rd \nThe Men’s Breakfast is a long standing tradition of the NRC & provides an opportunity for a hearty meal among friends. \nNo Sign-Up required. Select from menu & pay individually. \n 
URL:https://capecoralnewresident.com/event/mens-breakfast/2027-10-21/
LOCATION:House of Omelet’s\, 900 SW Pine Island Rd\, Cape Coral\, FL\, 33991\, United States
CATEGORIES:Monthly Events & Activities
END:VEVENT
BEGIN:VEVENT
DTSTART;VALUE=DATE:20271103
DTEND;VALUE=DATE:20271104
DTSTAMP:20260423T051954
CREATED:20260330T201338Z
LAST-MODIFIED:20260330T201341Z
UID:10005114-1825200000-1825286399@capecoralnewresident.com
SUMMARY:Sunset with Friends
DESCRIPTION:
URL:https://capecoralnewresident.com/event/sunset-with-friends-2/2027-11-03/
LOCATION:Four Freedoms Park\, 4818 Tarpon Court\, Cape Coral\, FL\, 33904\, United States
CATEGORIES:Monthly Events & Activities
ATTACH;FMTTYPE=image/jpeg:https://capecoralnewresident.com/wp-content/uploads/2024/02/Four-Freedoms.jpg
END:VEVENT
BEGIN:VEVENT
DTSTART;TZID=America/New_York:20271103T183000
DTEND;TZID=America/New_York:20271103T201500
DTSTAMP:20260423T051954
CREATED:20260330T202332Z
LAST-MODIFIED:20260330T203315Z
UID:10005948-1825266600-1825272900@capecoralnewresident.com
SUMMARY:Sunset with Friends @ Four Freedoms Park
DESCRIPTION:Join fellow NRC members and enjoy our slice of paradise as we watch the sunset together.
URL:https://capecoralnewresident.com/event/sunset-with-friends-four-freedoms-park/2027-11-03/
LOCATION:Four Freedoms Park\, 4818 Tarpon Court\, Cape Coral\, FL\, 33904\, United States
CATEGORIES:Monthly Events & Activities
ATTACH;FMTTYPE=image/jpeg:https://capecoralnewresident.com/wp-content/uploads/2024/02/Four-Freedoms.jpg
END:VEVENT
BEGIN:VEVENT
DTSTART;VALUE=DATE:20271108
DTEND;VALUE=DATE:20271109
DTSTAMP:20260423T051954
CREATED:20240301T030226Z
LAST-MODIFIED:20240301T030226Z
UID:10005235-1825632000-1825718399@capecoralnewresident.com
SUMMARY:Cocktails on the Cape
DESCRIPTION:
URL:https://capecoralnewresident.com/event/cocktails-on-the-cape-4/2027-11-08/
LOCATION:FL
CATEGORIES:Monthly Events & Activities
END:VEVENT
BEGIN:VEVENT
DTSTART;VALUE=DATE:20271118
DTEND;VALUE=DATE:20271119
DTSTAMP:20260423T051954
CREATED:20240420T195816Z
LAST-MODIFIED:20240420T195831Z
UID:10005480-1826496000-1826582399@capecoralnewresident.com
SUMMARY:Ladies Luncheon
DESCRIPTION:
URL:https://capecoralnewresident.com/event/monthly-ladies-luncheon/2027-11-18/
LOCATION:FL
CATEGORIES:Monthly Events & Activities
END:VEVENT
BEGIN:VEVENT
DTSTART;TZID=America/New_York:20271118T090000
DTEND;TZID=America/New_York:20271118T110000
DTSTAMP:20260423T051954
CREATED:20231217T185244Z
LAST-MODIFIED:20260405T203320Z
UID:10006069-1826528400-1826535600@capecoralnewresident.com
SUMMARY:Men's Breakfast
DESCRIPTION:Men’s Breakfast\n\nThird Thursday 9am House of Omelet’s 900 SW Pine Island Rd \nThe Men’s Breakfast is a long standing tradition of the NRC & provides an opportunity for a hearty meal among friends. \nNo Sign-Up required. Select from menu & pay individually. \n 
URL:https://capecoralnewresident.com/event/mens-breakfast/2027-11-18/
LOCATION:House of Omelet’s\, 900 SW Pine Island Rd\, Cape Coral\, FL\, 33991\, United States
CATEGORIES:Monthly Events & Activities
END:VEVENT
BEGIN:VEVENT
DTSTART;VALUE=DATE:20271201
DTEND;VALUE=DATE:20271202
DTSTAMP:20260423T051954
CREATED:20260330T201338Z
LAST-MODIFIED:20260330T201341Z
UID:10005115-1827619200-1827705599@capecoralnewresident.com
SUMMARY:Sunset with Friends
DESCRIPTION:
URL:https://capecoralnewresident.com/event/sunset-with-friends-2/2027-12-01/
LOCATION:Four Freedoms Park\, 4818 Tarpon Court\, Cape Coral\, FL\, 33904\, United States
CATEGORIES:Monthly Events & Activities
ATTACH;FMTTYPE=image/jpeg:https://capecoralnewresident.com/wp-content/uploads/2024/02/Four-Freedoms.jpg
END:VEVENT
BEGIN:VEVENT
DTSTART;TZID=America/New_York:20271201T183000
DTEND;TZID=America/New_York:20271201T201500
DTSTAMP:20260423T051954
CREATED:20260330T202332Z
LAST-MODIFIED:20260330T203315Z
UID:10005949-1827685800-1827692100@capecoralnewresident.com
SUMMARY:Sunset with Friends @ Four Freedoms Park
DESCRIPTION:Join fellow NRC members and enjoy our slice of paradise as we watch the sunset together.
URL:https://capecoralnewresident.com/event/sunset-with-friends-four-freedoms-park/2027-12-01/
LOCATION:Four Freedoms Park\, 4818 Tarpon Court\, Cape Coral\, FL\, 33904\, United States
CATEGORIES:Monthly Events & Activities
ATTACH;FMTTYPE=image/jpeg:https://capecoralnewresident.com/wp-content/uploads/2024/02/Four-Freedoms.jpg
END:VEVENT
BEGIN:VEVENT
DTSTART;VALUE=DATE:20271213
DTEND;VALUE=DATE:20271214
DTSTAMP:20260423T051954
CREATED:20240301T030226Z
LAST-MODIFIED:20240301T030226Z
UID:10005236-1828656000-1828742399@capecoralnewresident.com
SUMMARY:Cocktails on the Cape
DESCRIPTION:
URL:https://capecoralnewresident.com/event/cocktails-on-the-cape-4/2027-12-13/
LOCATION:FL
CATEGORIES:Monthly Events & Activities
END:VEVENT
BEGIN:VEVENT
DTSTART;VALUE=DATE:20271216
DTEND;VALUE=DATE:20271217
DTSTAMP:20260423T051955
CREATED:20240420T195816Z
LAST-MODIFIED:20240420T195831Z
UID:10005481-1828915200-1829001599@capecoralnewresident.com
SUMMARY:Ladies Luncheon
DESCRIPTION:
URL:https://capecoralnewresident.com/event/monthly-ladies-luncheon/2027-12-16/
LOCATION:FL
CATEGORIES:Monthly Events & Activities
END:VEVENT
BEGIN:VEVENT
DTSTART;TZID=America/New_York:20271216T090000
DTEND;TZID=America/New_York:20271216T110000
DTSTAMP:20260423T051955
CREATED:20231217T185244Z
LAST-MODIFIED:20260405T203320Z
UID:10006070-1828947600-1828954800@capecoralnewresident.com
SUMMARY:Men's Breakfast
DESCRIPTION:Men’s Breakfast\n\nThird Thursday 9am House of Omelet’s 900 SW Pine Island Rd \nThe Men’s Breakfast is a long standing tradition of the NRC & provides an opportunity for a hearty meal among friends. \nNo Sign-Up required. Select from menu & pay individually. \n 
URL:https://capecoralnewresident.com/event/mens-breakfast/2027-12-16/
LOCATION:House of Omelet’s\, 900 SW Pine Island Rd\, Cape Coral\, FL\, 33991\, United States
CATEGORIES:Monthly Events & Activities
END:VEVENT
BEGIN:VEVENT
DTSTART;VALUE=DATE:20280105
DTEND;VALUE=DATE:20280106
DTSTAMP:20260423T051955
CREATED:20260330T201338Z
LAST-MODIFIED:20260330T201341Z
UID:10005116-1830643200-1830729599@capecoralnewresident.com
SUMMARY:Sunset with Friends
DESCRIPTION:
URL:https://capecoralnewresident.com/event/sunset-with-friends-2/2028-01-05/
LOCATION:Four Freedoms Park\, 4818 Tarpon Court\, Cape Coral\, FL\, 33904\, United States
CATEGORIES:Monthly Events & Activities
ATTACH;FMTTYPE=image/jpeg:https://capecoralnewresident.com/wp-content/uploads/2024/02/Four-Freedoms.jpg
END:VEVENT
BEGIN:VEVENT
DTSTART;TZID=America/New_York:20280105T183000
DTEND;TZID=America/New_York:20280105T201500
DTSTAMP:20260423T051955
CREATED:20260330T202332Z
LAST-MODIFIED:20260330T203315Z
UID:10005950-1830709800-1830716100@capecoralnewresident.com
SUMMARY:Sunset with Friends @ Four Freedoms Park
DESCRIPTION:Join fellow NRC members and enjoy our slice of paradise as we watch the sunset together.
URL:https://capecoralnewresident.com/event/sunset-with-friends-four-freedoms-park/2028-01-05/
LOCATION:Four Freedoms Park\, 4818 Tarpon Court\, Cape Coral\, FL\, 33904\, United States
CATEGORIES:Monthly Events & Activities
ATTACH;FMTTYPE=image/jpeg:https://capecoralnewresident.com/wp-content/uploads/2024/02/Four-Freedoms.jpg
END:VEVENT
BEGIN:VEVENT
DTSTART;VALUE=DATE:20280110
DTEND;VALUE=DATE:20280111
DTSTAMP:20260423T051955
CREATED:20240301T030226Z
LAST-MODIFIED:20240301T030226Z
UID:10005237-1831075200-1831161599@capecoralnewresident.com
SUMMARY:Cocktails on the Cape
DESCRIPTION:
URL:https://capecoralnewresident.com/event/cocktails-on-the-cape-4/2028-01-10/
LOCATION:FL
CATEGORIES:Monthly Events & Activities
END:VEVENT
BEGIN:VEVENT
DTSTART;VALUE=DATE:20280120
DTEND;VALUE=DATE:20280121
DTSTAMP:20260423T051955
CREATED:20240420T195816Z
LAST-MODIFIED:20240420T195831Z
UID:10005482-1831939200-1832025599@capecoralnewresident.com
SUMMARY:Ladies Luncheon
DESCRIPTION:
URL:https://capecoralnewresident.com/event/monthly-ladies-luncheon/2028-01-20/
LOCATION:FL
CATEGORIES:Monthly Events & Activities
END:VEVENT
BEGIN:VEVENT
DTSTART;TZID=America/New_York:20280120T090000
DTEND;TZID=America/New_York:20280120T110000
DTSTAMP:20260423T051955
CREATED:20231217T185244Z
LAST-MODIFIED:20260405T203320Z
UID:10006071-1831971600-1831978800@capecoralnewresident.com
SUMMARY:Men's Breakfast
DESCRIPTION:Men’s Breakfast\n\nThird Thursday 9am House of Omelet’s 900 SW Pine Island Rd \nThe Men’s Breakfast is a long standing tradition of the NRC & provides an opportunity for a hearty meal among friends. \nNo Sign-Up required. Select from menu & pay individually. \n 
URL:https://capecoralnewresident.com/event/mens-breakfast/2028-01-20/
LOCATION:House of Omelet’s\, 900 SW Pine Island Rd\, Cape Coral\, FL\, 33991\, United States
CATEGORIES:Monthly Events & Activities
END:VEVENT
BEGIN:VEVENT
DTSTART;VALUE=DATE:20280202
DTEND;VALUE=DATE:20280203
DTSTAMP:20260423T051955
CREATED:20260330T201338Z
LAST-MODIFIED:20260330T201341Z
UID:10005117-1833062400-1833148799@capecoralnewresident.com
SUMMARY:Sunset with Friends
DESCRIPTION:
URL:https://capecoralnewresident.com/event/sunset-with-friends-2/2028-02-02/
LOCATION:Four Freedoms Park\, 4818 Tarpon Court\, Cape Coral\, FL\, 33904\, United States
CATEGORIES:Monthly Events & Activities
ATTACH;FMTTYPE=image/jpeg:https://capecoralnewresident.com/wp-content/uploads/2024/02/Four-Freedoms.jpg
END:VEVENT
BEGIN:VEVENT
DTSTART;TZID=America/New_York:20280202T183000
DTEND;TZID=America/New_York:20280202T201500
DTSTAMP:20260423T051955
CREATED:20260330T202332Z
LAST-MODIFIED:20260330T203315Z
UID:10005951-1833129000-1833135300@capecoralnewresident.com
SUMMARY:Sunset with Friends @ Four Freedoms Park
DESCRIPTION:Join fellow NRC members and enjoy our slice of paradise as we watch the sunset together.
URL:https://capecoralnewresident.com/event/sunset-with-friends-four-freedoms-park/2028-02-02/
LOCATION:Four Freedoms Park\, 4818 Tarpon Court\, Cape Coral\, FL\, 33904\, United States
CATEGORIES:Monthly Events & Activities
ATTACH;FMTTYPE=image/jpeg:https://capecoralnewresident.com/wp-content/uploads/2024/02/Four-Freedoms.jpg
END:VEVENT
BEGIN:VEVENT
DTSTART;VALUE=DATE:20280214
DTEND;VALUE=DATE:20280215
DTSTAMP:20260423T051955
CREATED:20240301T030226Z
LAST-MODIFIED:20240301T030226Z
UID:10005238-1834099200-1834185599@capecoralnewresident.com
SUMMARY:Cocktails on the Cape
DESCRIPTION:
URL:https://capecoralnewresident.com/event/cocktails-on-the-cape-4/2028-02-14/
LOCATION:FL
CATEGORIES:Monthly Events & Activities
END:VEVENT
BEGIN:VEVENT
DTSTART;VALUE=DATE:20280217
DTEND;VALUE=DATE:20280218
DTSTAMP:20260423T051955
CREATED:20240420T195816Z
LAST-MODIFIED:20240420T195831Z
UID:10005483-1834358400-1834444799@capecoralnewresident.com
SUMMARY:Ladies Luncheon
DESCRIPTION:
URL:https://capecoralnewresident.com/event/monthly-ladies-luncheon/2028-02-17/
LOCATION:FL
CATEGORIES:Monthly Events & Activities
END:VEVENT
BEGIN:VEVENT
DTSTART;TZID=America/New_York:20280217T090000
DTEND;TZID=America/New_York:20280217T110000
DTSTAMP:20260423T051955
CREATED:20231217T185244Z
LAST-MODIFIED:20260405T203320Z
UID:10006072-1834390800-1834398000@capecoralnewresident.com
SUMMARY:Men's Breakfast
DESCRIPTION:Men’s Breakfast\n\nThird Thursday 9am House of Omelet’s 900 SW Pine Island Rd \nThe Men’s Breakfast is a long standing tradition of the NRC & provides an opportunity for a hearty meal among friends. \nNo Sign-Up required. Select from menu & pay individually. \n 
URL:https://capecoralnewresident.com/event/mens-breakfast/2028-02-17/
LOCATION:House of Omelet’s\, 900 SW Pine Island Rd\, Cape Coral\, FL\, 33991\, United States
CATEGORIES:Monthly Events & Activities
END:VEVENT
END:VCALENDAR