BEGIN:VCALENDAR
VERSION:2.0
PRODID:-//New Resident Club of Cape Coral - ECPv6.15.20//NONSGML v1.0//EN
CALSCALE:GREGORIAN
METHOD:PUBLISH
X-ORIGINAL-URL:https://capecoralnewresident.com
X-WR-CALDESC:Events for New Resident Club of Cape Coral
REFRESH-INTERVAL;VALUE=DURATION:PT1H
X-Robots-Tag:noindex
X-PUBLISHED-TTL:PT1H
BEGIN:VTIMEZONE
TZID:America/New_York
BEGIN:DAYLIGHT
TZOFFSETFROM:-0500
TZOFFSETTO:-0400
TZNAME:EDT
DTSTART:20230312T070000
END:DAYLIGHT
BEGIN:STANDARD
TZOFFSETFROM:-0400
TZOFFSETTO:-0500
TZNAME:EST
DTSTART:20231105T060000
END:STANDARD
BEGIN:DAYLIGHT
TZOFFSETFROM:-0500
TZOFFSETTO:-0400
TZNAME:EDT
DTSTART:20240310T070000
END:DAYLIGHT
BEGIN:STANDARD
TZOFFSETFROM:-0400
TZOFFSETTO:-0500
TZNAME:EST
DTSTART:20241103T060000
END:STANDARD
BEGIN:DAYLIGHT
TZOFFSETFROM:-0500
TZOFFSETTO:-0400
TZNAME:EDT
DTSTART:20250309T070000
END:DAYLIGHT
BEGIN:STANDARD
TZOFFSETFROM:-0400
TZOFFSETTO:-0500
TZNAME:EST
DTSTART:20251102T060000
END:STANDARD
END:VTIMEZONE
BEGIN:VEVENT
DTSTART;TZID=America/New_York:20240513T170000
DTEND;TZID=America/New_York:20240513T200000
DTSTAMP:20260423T203716
CREATED:20240420T193946Z
LAST-MODIFIED:20240420T193946Z
UID:10005377-1715619600-1715630400@capecoralnewresident.com
SUMMARY:Cocktails on the Cape
DESCRIPTION:RSVP Link available May 1\, 2024
URL:https://capecoralnewresident.com/event/cocktails-on-the-cape-6/
LOCATION:Big 10 Tavern\, 4703 SW 16th Pl\, Cape Coral\, FL\, 33914\, United States
CATEGORIES:Monthly Events & Activities
ATTACH;FMTTYPE=image/png:https://capecoralnewresident.com/wp-content/uploads/2024/04/Cocktails-on-the-Cape-Big-10-Tavern-May-2024.png
END:VEVENT
BEGIN:VEVENT
DTSTART;TZID=America/New_York:20240509T173000
DTEND;TZID=America/New_York:20240509T193000
DTSTAMP:20260423T203716
CREATED:20240422T123956Z
LAST-MODIFIED:20240502T190310Z
UID:10005312-1715275800-1715283000@capecoralnewresident.com
SUMMARY:Flying Solo Together Cocktails
DESCRIPTION:Flying Solo Together is a social group made up of members who are single\, separated\, divorced\, widowed or have a spouse who is not interested in participating in events. \nPlease RSVP to meet on the Stevie Tomato’s Patio the second Thursday of each month.  Drinks and food available for purchase. \nRSVP Link will be available on the 1st of each month. \n  \n 
URL:https://capecoralnewresident.com/event/flying-solo-together-cocktails-3-2/
LOCATION:FL\, United States
CATEGORIES:Monthly Events & Activities
ORGANIZER;CN="Dot Binder":MAILTO:nrcdotbinder@gmail.com
END:VEVENT
BEGIN:VEVENT
DTSTART;TZID=America/New_York:20240507T170000
DTEND;TZID=America/New_York:20240507T210000
DTSTAMP:20260423T203716
CREATED:20231021T183130Z
LAST-MODIFIED:20231222T095724Z
UID:10004997-1715101200-1715115600@capecoralnewresident.com
SUMMARY:New Member Social (By Invitation Only)
DESCRIPTION:New Member Social\n— By Invitation Only — \nRSVP Opens May 2-6 \nNew Member Social is dinner and drinks held by invitation only to our newest members.  \nThe event is hosted by our Hospitality Board Chair and conducted by the 1st Vice President; additional Board members may also attend. This meeting provides an orientation to the history and structure of the NRC with information on signing up for activities\, and\, if enough new members have signed up\, they will form a group during the evening by choosing a name\, selecting a Group Leader\, Group Reporter and a committee to create the group table mascot and logo. \nThe first pot luck of the group is scheduled with a volunteer host.   This is usually the first activity a new member attends kicking off getting to know one another. \nIf you have questions or need more information contact info@capecoralnewresident.com
URL:https://capecoralnewresident.com/event/new-member-social-by-invitation-only-5/
LOCATION:FL
CATEGORIES:Monthly Events & Activities
END:VEVENT
BEGIN:VEVENT
DTSTART;VALUE=DATE:20240501
DTEND;VALUE=DATE:20240502
DTSTAMP:20260423T203716
CREATED:20240301T015551Z
LAST-MODIFIED:20250813T190119Z
UID:10005072-1714521600-1714607999@capecoralnewresident.com
SUMMARY:Sunset with Friends
DESCRIPTION:
URL:https://capecoralnewresident.com/event/sunset-with-friends/2024-05-01/
LOCATION:Cape Coral Yacht Club Beach\, 5819 Driftwood Pkwy\, Cape Coral\, 33904\, United States
CATEGORIES:Monthly Events & Activities
END:VEVENT
BEGIN:VEVENT
DTSTART;TZID=America/New_York:20240420T173000
DTEND;TZID=America/New_York:20240420T210000
DTSTAMP:20260423T203717
CREATED:20240326T012924Z
LAST-MODIFIED:20240326T012924Z
UID:10005376-1713634200-1713646800@capecoralnewresident.com
SUMMARY:April Dinner Dance
DESCRIPTION:
URL:https://capecoralnewresident.com/event/april-dinner-dance/
LOCATION:Lake Kennedy Center\, 400 Santa Barbara Blvd.\, Cape Coral\, FL\, 33915\, United States
CATEGORIES:Monthly Events & Activities
ATTACH;FMTTYPE=image/png:https://capecoralnewresident.com/wp-content/uploads/2024/03/April-2024-Dance.png
END:VEVENT
BEGIN:VEVENT
DTSTART;TZID=America/New_York:20240418T110000
DTEND;TZID=America/New_York:20240418T133000
DTSTAMP:20260423T203717
CREATED:20240326T011112Z
LAST-MODIFIED:20240326T011112Z
UID:10005373-1713438000-1713447000@capecoralnewresident.com
SUMMARY:April Ladies Luncheon
DESCRIPTION:
URL:https://capecoralnewresident.com/event/april-ladies-luncheon/
LOCATION:Torched\, 2408 Surfside Blvd\, Cape Coral\, FL\, 33991\, United States
CATEGORIES:Monthly Events & Activities
ATTACH;FMTTYPE=image/png:https://capecoralnewresident.com/wp-content/uploads/2024/03/Ladies-Luncheon-Torched-April-2024-1.png
END:VEVENT
BEGIN:VEVENT
DTSTART;TZID=America/New_York:20240418T090000
DTEND;TZID=America/New_York:20240418T110000
DTSTAMP:20260423T203717
CREATED:20231217T185244Z
LAST-MODIFIED:20260405T203320Z
UID:10005044-1713430800-1713438000@capecoralnewresident.com
SUMMARY:Men's Breakfast
DESCRIPTION:Men’s Breakfast\n\nThird Thursday 9am House of Omelet’s 900 SW Pine Island Rd \nThe Men’s Breakfast is a long standing tradition of the NRC & provides an opportunity for a hearty meal among friends. \nNo Sign-Up required. Select from menu & pay individually. \n 
URL:https://capecoralnewresident.com/event/mens-breakfast/2024-04-18/
LOCATION:House of Omelet’s\, 900 SW Pine Island Rd\, Cape Coral\, FL\, 33991\, United States
CATEGORIES:Monthly Events & Activities
END:VEVENT
BEGIN:VEVENT
DTSTART;TZID=America/New_York:20240415T120000
DTEND;TZID=America/New_York:20240415T160000
DTSTAMP:20260423T203717
CREATED:20240326T012331Z
LAST-MODIFIED:20240326T013346Z
UID:10005374-1713182400-1713196800@capecoralnewresident.com
SUMMARY:Cape Coral re:Made Art Class
DESCRIPTION: \n\n \n \n 
URL:https://capecoralnewresident.com/event/cape-coral-remade-art-class/
LOCATION:Cape Coral re:Made\, 1327 Cape Coral Parkway E\, Cape Coral\, 33904\, United States
CATEGORIES:Monthly Events & Activities
ATTACH;FMTTYPE=image/png:https://capecoralnewresident.com/wp-content/uploads/2024/03/Cape-Coral-ReMade-April-2024.png
END:VEVENT
BEGIN:VEVENT
DTSTART;TZID=America/New_York:20240411T173000
DTEND;TZID=America/New_York:20240411T193000
DTSTAMP:20260423T203717
CREATED:20240326T000405Z
LAST-MODIFIED:20240326T010828Z
UID:10005310-1712856600-1712863800@capecoralnewresident.com
SUMMARY:Flying Solo Together Cocktails
DESCRIPTION:Flying Solo Together is a social group made up of members who are single\, separated\, divorced\, widowed or have a spouse who is not interested in participating in events. \nPlease RSVP to meet on the Stevie Tomato’s Patio the second Thursday of each month.  Drinks and food available for purchase. To view entertainment visit https://www.stevietomato.com/calendar \nRSVP Link will be available on the 1st of each month. \n  \n 
URL:https://capecoralnewresident.com/event/flying-solo-together-cocktails-2/
LOCATION:FL\, United States
CATEGORIES:Monthly Events & Activities
ATTACH;FMTTYPE=image/png:https://capecoralnewresident.com/wp-content/uploads/2024/03/Flying-Solo-Together-General-2024.png
ORGANIZER;CN="Dot Binder":MAILTO:nrcdotbinder@gmail.com
END:VEVENT
BEGIN:VEVENT
DTSTART;TZID=America/New_York:20240409T170000
DTEND;TZID=America/New_York:20240409T210000
DTSTAMP:20260423T203717
CREATED:20231021T183053Z
LAST-MODIFIED:20240402T190831Z
UID:10004996-1712682000-1712696400@capecoralnewresident.com
SUMMARY:New Member Social (By Invitation Only)
DESCRIPTION:New Member Social\n— By Invitation Only — \nNew Member Social is dinner and drinks held by invitation only to our newest members.  \nThe event is hosted by our Hospitality Board Chair and conducted by the 1st Vice President; additional Board members may also attend. This meeting provides an orientation to the history and structure of the NRC with information on signing up for activities\, and\, if enough new members have signed up\, they will form a group during the evening by choosing a name\, selecting a Group Leader\, Group Reporter and a committee to create the group table mascot and logo. \nThe first pot luck of the group is scheduled with a volunteer host.   This is usually the first activity a new member attends kicking off getting to know one another. \nIf you have questions or need more information contact info@capecoralnewresident.com
URL:https://capecoralnewresident.com/event/new-member-social-by-invitation-only-4/
LOCATION:FL
CATEGORIES:Monthly Events & Activities
END:VEVENT
BEGIN:VEVENT
DTSTART;TZID=America/New_York:20240408T180000
DTEND;TZID=America/New_York:20240408T210000
DTSTAMP:20260423T203717
CREATED:20240326T003453Z
LAST-MODIFIED:20240326T010733Z
UID:10005371-1712599200-1712610000@capecoralnewresident.com
SUMMARY:Cocktails on the Cape
DESCRIPTION:RSVP Link available April 1\, 2024
URL:https://capecoralnewresident.com/event/cocktails-on-the-cape-5/
LOCATION:Beef O’Brady’s\, 2514 Santa Barbara Blvd\, Cape Coral\, 33914\, United States
CATEGORIES:Monthly Events & Activities
ATTACH;FMTTYPE=image/png:https://capecoralnewresident.com/wp-content/uploads/2024/03/Cocktails-on-the-Cape-Beef-OBradys-April-2024.png
END:VEVENT
BEGIN:VEVENT
DTSTART;VALUE=DATE:20240403
DTEND;VALUE=DATE:20240404
DTSTAMP:20260423T203717
CREATED:20240301T015551Z
LAST-MODIFIED:20250813T190119Z
UID:10005071-1712102400-1712188799@capecoralnewresident.com
SUMMARY:Sunset with Friends
DESCRIPTION:
URL:https://capecoralnewresident.com/event/sunset-with-friends/2024-04-03/
LOCATION:Cape Coral Yacht Club Beach\, 5819 Driftwood Pkwy\, Cape Coral\, 33904\, United States
CATEGORIES:Monthly Events & Activities
END:VEVENT
BEGIN:VEVENT
DTSTART;TZID=America/New_York:20240323T130000
DTEND;TZID=America/New_York:20240323T170000
DTSTAMP:20260423T203717
CREATED:20240216T215759Z
LAST-MODIFIED:20240219T165601Z
UID:10005064-1711198800-1711213200@capecoralnewresident.com
SUMMARY:Brew Fest - March NRC Event
DESCRIPTION:PLEASE NOTE: You will receive two emails – one with your receipt and one with a ticket. \nTickets will be required for entry; please print them out and bring them with you.\n 
URL:https://capecoralnewresident.com/event/brew-fest-march-nrc-event/
LOCATION:Cultural Park\, 544 Cultural Park Blvd.\, Cape Coral\, 33990\, United States
CATEGORIES:Monthly Events & Activities
END:VEVENT
BEGIN:VEVENT
DTSTART;TZID=America/New_York:20240321T110000
DTEND;TZID=America/New_York:20240321T133000
DTSTAMP:20260423T203717
CREATED:20240219T173322Z
LAST-MODIFIED:20240224T181003Z
UID:10005066-1711018800-1711027800@capecoralnewresident.com
SUMMARY:March Ladies Luncheon
DESCRIPTION:
URL:https://capecoralnewresident.com/event/march-ladies-luncheon/
LOCATION:FL\, United States
CATEGORIES:Monthly Events & Activities
ATTACH;FMTTYPE=image/png:https://capecoralnewresident.com/wp-content/uploads/2024/02/Ladies-Luncheon-Cape-Cabaret-March-2024-1.png
END:VEVENT
BEGIN:VEVENT
DTSTART;TZID=America/New_York:20240321T090000
DTEND;TZID=America/New_York:20240321T110000
DTSTAMP:20260423T203717
CREATED:20231217T185244Z
LAST-MODIFIED:20260405T203320Z
UID:10005043-1711011600-1711018800@capecoralnewresident.com
SUMMARY:Men's Breakfast
DESCRIPTION:Men’s Breakfast\n\nThird Thursday 9am House of Omelet’s 900 SW Pine Island Rd \nThe Men’s Breakfast is a long standing tradition of the NRC & provides an opportunity for a hearty meal among friends. \nNo Sign-Up required. Select from menu & pay individually. \n 
URL:https://capecoralnewresident.com/event/mens-breakfast/2024-03-21/
LOCATION:House of Omelet’s\, 900 SW Pine Island Rd\, Cape Coral\, FL\, 33991\, United States
CATEGORIES:Monthly Events & Activities
END:VEVENT
BEGIN:VEVENT
DTSTART;TZID=America/New_York:20240319T090000
DTEND;TZID=America/New_York:20240319T170000
DTSTAMP:20260423T203717
CREATED:20240301T023054Z
LAST-MODIFIED:20240301T153959Z
UID:10005132-1710838800-1710867600@capecoralnewresident.com
SUMMARY:Myakka Elephant Encounter - Bus Trip
DESCRIPTION: \n\n \n \nVisit the Myakka Elephant Encounter website here: www.myakkaelephantranch.org
URL:https://capecoralnewresident.com/event/myakka-elephant-encounter-bus-trip/
LOCATION:Lake Kennedy Center\, 400 Santa Barbara Blvd.\, Cape Coral\, FL\, 33915\, United States
CATEGORIES:Monthly Events & Activities
ATTACH;FMTTYPE=image/png:https://capecoralnewresident.com/wp-content/uploads/2024/02/Myakka-Elephant-Encounter-Bus-Trip-March-2024.png
END:VEVENT
BEGIN:VEVENT
DTSTART;TZID=America/New_York:20240312T170000
DTEND;TZID=America/New_York:20240312T210000
DTSTAMP:20260423T203717
CREATED:20231021T183013Z
LAST-MODIFIED:20231222T095403Z
UID:10004995-1710262800-1710277200@capecoralnewresident.com
SUMMARY:New Member Social (By Invitation Only)
DESCRIPTION:New Member Social\n— By Invitation Only — \nRSVP Opens March 7-11 \nNew Member Social is dinner and drinks held by invitation only to our newest members.  \nThe event is hosted by our Hospitality Board Chair and conducted by the 1st Vice President; additional Board members may also attend. This meeting provides an orientation to the history and structure of the NRC with information on signing up for activities\, and\, if enough new members have signed up\, they will form a group during the evening by choosing a name\, selecting a Group Leader\, Group Reporter and a committee to create the group table mascot and logo. \nThe first pot luck of the group is scheduled with a volunteer host. This is usually the first activity a new member attends kicking off getting to know one another. \nIf you have questions or need more information contact info@capecoralnewresident.com
URL:https://capecoralnewresident.com/event/new-member-social-by-invitation-only-3/
LOCATION:FL
CATEGORIES:Monthly Events & Activities
END:VEVENT
BEGIN:VEVENT
DTSTART;TZID=America/New_York:20240312T103000
DTEND;TZID=America/New_York:20240312T120000
DTSTAMP:20260423T203717
CREATED:20240301T022523Z
LAST-MODIFIED:20240301T022523Z
UID:10005131-1710239400-1710244800@capecoralnewresident.com
SUMMARY:Fort Myers River District History Tour
DESCRIPTION: \n\n \n \n 
URL:https://capecoralnewresident.com/event/fort-myers-river-district-history-tour/
LOCATION:True Tours\, 2200 First St\, Fort Myers\, FL\, 33901\, United States
CATEGORIES:Monthly Events & Activities
END:VEVENT
BEGIN:VEVENT
DTSTART;TZID=America/New_York:20240311T170000
DTEND;TZID=America/New_York:20240311T190000
DTSTAMP:20260423T203717
CREATED:20240301T021107Z
LAST-MODIFIED:20240301T021107Z
UID:10005130-1710176400-1710183600@capecoralnewresident.com
SUMMARY:Cocktails on the Cape
DESCRIPTION:Tickets available March 1\, 2024
URL:https://capecoralnewresident.com/event/cocktails-on-the-cape-3/
LOCATION:Fins Seafood & Dive Bar\, 3422 Del Prado Blvd S\, Cape Coral\, FL\, 33904\, United States
CATEGORIES:Monthly Events & Activities
ATTACH;FMTTYPE=image/png:https://capecoralnewresident.com/wp-content/uploads/2024/02/Cocktails-on-the-Cape-Fins-Dive-Bar-March-2024.png
END:VEVENT
BEGIN:VEVENT
DTSTART;VALUE=DATE:20240306
DTEND;VALUE=DATE:20240307
DTSTAMP:20260423T203717
CREATED:20240301T015551Z
LAST-MODIFIED:20250813T190119Z
UID:10005070-1709683200-1709769599@capecoralnewresident.com
SUMMARY:Sunset with Friends
DESCRIPTION:
URL:https://capecoralnewresident.com/event/sunset-with-friends/2024-03-06/
LOCATION:Cape Coral Yacht Club Beach\, 5819 Driftwood Pkwy\, Cape Coral\, 33904\, United States
CATEGORIES:Monthly Events & Activities
END:VEVENT
BEGIN:VEVENT
DTSTART;TZID=America/New_York:20240301T173000
DTEND;TZID=America/New_York:20240301T223000
DTSTAMP:20260423T203717
CREATED:20240111T033535Z
LAST-MODIFIED:20240208T020421Z
UID:10005060-1709314200-1709332200@capecoralnewresident.com
SUMMARY:"Beautiful - Carole King Musical"
DESCRIPTION:
URL:https://capecoralnewresident.com/event/beautiful-carole-king-musical/
LOCATION:Broadway Palm Theatre\, 1380 Colonial Blvd\, Fort Myers\, 33907\, United States
CATEGORIES:Monthly Events & Activities
ORGANIZER;CN="Dot Binder":MAILTO:nrcdotbinder@gmail.com
END:VEVENT
BEGIN:VEVENT
DTSTART;TZID=America/New_York:20240227T160000
DTEND;TZID=America/New_York:20240227T183000
DTSTAMP:20260423T203717
CREATED:20240123T025001Z
LAST-MODIFIED:20240123T025349Z
UID:10005062-1709049600-1709058600@capecoralnewresident.com
SUMMARY:Meet The Author Carol Freeman at Nice Guys Pizza
DESCRIPTION:Join author Carol Freeman as she introduces her newest book\, “The Cape Coral Pickleball Murders.” This lively\, interactive event will be held on Tuesday\, February\n27\, 2024\, at 4:00 at Nice Guys Pizza. Carol will be joined by Mark Fleming and Bill Freeman\, her husband and partner in crime. \nIn pickleball\, standing in the kitchen is undeniably a fault. But in “The Cape Coral Pickleball Murders”\, standing in the kitchen is undeniably – DEADLY! Why are pickleball players being targeted? Who will be next? Ellen and Charlie Green\, seventy-something amateur sleuths\, are reckless and resourceful as they delve into this murder investigation. As always\, the Bird-Watchers secretly watch over them. The theatrical climax has a surprising twist. \nCarol began writing murder mysteries when she turned 70. She looks forward to sharing what inspired her to become an author. And it all began with a challenge—and a hot tub! Carol will discuss how humor is woven into her murder mysteries. So\, be prepared to laugh! You will be treated to a few amusing back stories regarding her earlier books\, as well. Carol looks forward to answering your questions. All of Carol’s books will be available for you to purchase and for her to sign. \nCarol Freeman’s Cape Coral Series (6 books) takes the reader throughout the Cape Coral\, Fort Myers area on the madcap adventures of Ellen and Charlie Green\, seventy-something amateur sleuths. As they become embroiled in murder investigations\, their reckless and unconventional methods often put them in harm’s way. But no worries! The Bird-Watchers\, their dear friends\, secretly come to their rescue. \nLook for Carol at the Cape Coral Downtown Farmers’ Market on Saturdays from February 17 through March 16\, 2024. \nCarol Freeman’s books are in paperback and eBook format and can be read in any order. They are available through www.amazon.com. \nThe Cape Coral Series: The Cape  Coral Caper\, The Cape Coral Casanova\, The Cape Coral Cameo\, The Cape Coral Collector\, The Cape Coral Cannoli. The Cape Coral Pickleball Murders \nNortheast Mysteries: The New Paltz Town Crier\, The Baron of Brimfield \nRSVP Available February 1\, 2024
URL:https://capecoralnewresident.com/event/meet-the-author-carol-freeman-at-nice-guys-pizza/
LOCATION:Nice Guys Pizza\, 1404 Cape Coral Pkwy E\, Cape Coral\, 33904\, United States
CATEGORIES:Monthly Events & Activities
ATTACH;FMTTYPE=image/png:https://capecoralnewresident.com/wp-content/uploads/2024/01/February-2024-Meet-the-Author-Nice-Guys-Pizza-Activity.png
END:VEVENT
BEGIN:VEVENT
DTSTART;TZID=America/New_York:20240224T173000
DTEND;TZID=America/New_York:20240224T190000
DTSTAMP:20260423T203717
CREATED:20240123T023853Z
LAST-MODIFIED:20240123T023853Z
UID:10005061-1708795800-1708801200@capecoralnewresident.com
SUMMARY:Splatter Spot Party at Pineapple Picasso
DESCRIPTION:
URL:https://capecoralnewresident.com/event/splatter-spot-party-at-pineapple-picasso/
LOCATION:Pineapple Picasso\, 2612 Santa Barbara Blvd Suite #2\, Cape Coral\, FL\, 33914
CATEGORIES:Monthly Events & Activities
ATTACH;FMTTYPE=image/png:https://capecoralnewresident.com/wp-content/uploads/2024/01/February-2024-Pineapple-Picasso-Activity.png
END:VEVENT
BEGIN:VEVENT
DTSTART;TZID=America/New_York:20240217T173000
DTEND;TZID=America/New_York:20240217T213000
DTSTAMP:20260423T203717
CREATED:20231217T151656Z
LAST-MODIFIED:20240213T194440Z
UID:10005039-1708191000-1708205400@capecoralnewresident.com
SUMMARY:Dinner Dance
DESCRIPTION:
URL:https://capecoralnewresident.com/event/dinner-dance/
LOCATION:Lake Kennedy Center\, 400 Santa Barbara Blvd.\, Cape Coral\, FL\, 33915\, United States
CATEGORIES:Monthly Events & Activities
ATTACH;FMTTYPE=image/png:https://capecoralnewresident.com/wp-content/uploads/2023/12/February-2024-Dance.png
END:VEVENT
BEGIN:VEVENT
DTSTART;TZID=America/New_York:20240215T111500
DTEND;TZID=America/New_York:20240215T133000
DTSTAMP:20260423T203717
CREATED:20231217T151256Z
LAST-MODIFIED:20240201T151938Z
UID:10005038-1707995700-1708003800@capecoralnewresident.com
SUMMARY:Ladies Luncheon
DESCRIPTION:
URL:https://capecoralnewresident.com/event/ladies-luncheon-2/
LOCATION:Overtime Pizza\, 1708 Cape Coral Pkwy\, Cape Coral\, FL\, 33914\, United States
CATEGORIES:Monthly Events & Activities
ATTACH;FMTTYPE=image/png:https://capecoralnewresident.com/wp-content/uploads/2023/12/Ladies-Luncheon-Overtime-February-2024.png
END:VEVENT
BEGIN:VEVENT
DTSTART;TZID=America/New_York:20240215T090000
DTEND;TZID=America/New_York:20240215T110000
DTSTAMP:20260423T203717
CREATED:20231217T185244Z
LAST-MODIFIED:20260405T203320Z
UID:10005042-1707987600-1707994800@capecoralnewresident.com
SUMMARY:Men's Breakfast
DESCRIPTION:Men’s Breakfast\n\nThird Thursday 9am House of Omelet’s 900 SW Pine Island Rd \nThe Men’s Breakfast is a long standing tradition of the NRC & provides an opportunity for a hearty meal among friends. \nNo Sign-Up required. Select from menu & pay individually. \n 
URL:https://capecoralnewresident.com/event/mens-breakfast/2024-02-15/
LOCATION:House of Omelet’s\, 900 SW Pine Island Rd\, Cape Coral\, FL\, 33991\, United States
CATEGORIES:Monthly Events & Activities
END:VEVENT
BEGIN:VEVENT
DTSTART;TZID=America/New_York:20240212T170000
DTEND;TZID=America/New_York:20240212T200000
DTSTAMP:20260423T203717
CREATED:20231217T150840Z
LAST-MODIFIED:20240123T021844Z
UID:10005037-1707757200-1707768000@capecoralnewresident.com
SUMMARY:Cocktails on the Cape
DESCRIPTION:Tickets available February 1\, 2024
URL:https://capecoralnewresident.com/event/cocktails-on-the-cape-2/
LOCATION:Stevie Tomato’s Sports Page\, 814 SW Pine Island Rd\, Cape Coral\, 33991\, United States
CATEGORIES:Monthly Events & Activities
ATTACH;FMTTYPE=image/png:https://capecoralnewresident.com/wp-content/uploads/2023/12/Cocktails-on-the-Cape-Stevie-Tomatos-February-2024.png
END:VEVENT
BEGIN:VEVENT
DTSTART;TZID=America/New_York:20240206T170000
DTEND;TZID=America/New_York:20240206T210000
DTSTAMP:20260423T203717
CREATED:20231021T182930Z
LAST-MODIFIED:20231229T154424Z
UID:10004994-1707238800-1707253200@capecoralnewresident.com
SUMMARY:New Member Social (By Invitation Only)
DESCRIPTION:New Member Social\n— By Invitation Only — \nRSVP opens Feb 1-5 \nNew Member Social is dinner and drinks held by invitation only to our newest members.  \nThe event is hosted by our Hospitality Board Chair and conducted by the 1st Vice President; additional Board members may also attend. This meeting provides an orientation to the history and structure of the NRC with information on signing up for activities\, and\, if enough new members have signed up\, they will form a group during the evening by choosing a name\, selecting a Group Leader\, Group Reporter and a committee to create the group table mascot and logo. \nThe first pot luck of the group is scheduled with a volunteer host.   This is usually the first activity a new member attends kicking off getting to know one another. \nIf you have questions or need more information contact info@capecoralnewresident.com
URL:https://capecoralnewresident.com/event/new-member-social-by-invitation-only-2/
LOCATION:FL
CATEGORIES:Monthly Events & Activities
END:VEVENT
BEGIN:VEVENT
DTSTART;TZID=America/New_York:20240130T180000
DTEND;TZID=America/New_York:20240130T200000
DTSTAMP:20260423T203717
CREATED:20231217T152932Z
LAST-MODIFIED:20231226T225235Z
UID:10005040-1706637600-1706644800@capecoralnewresident.com
SUMMARY:Headpinz Bowling (by Ft. Myers Airport)
DESCRIPTION:We have 8 lanes so we can have a total of 48 people\n \nCost will be $20 per person \n \nMembers will be able to buy their own food and drinks. \n\n\n \n 
URL:https://capecoralnewresident.com/event/headpinz-bowling-by-ft-myers-airport/
LOCATION:Headpinz Bowling\, 14513 Global Pkwy\, Fort Myers\, 33913\, United States
CATEGORIES:Monthly Events & Activities
ATTACH;FMTTYPE=image/png:https://capecoralnewresident.com/wp-content/uploads/2023/12/listing-239-10999869_913172925394568_6590870263619916982_o.png
END:VEVENT
BEGIN:VEVENT
DTSTART;TZID=America/New_York:20240127T053000
DTEND;TZID=America/New_York:20240127T220000
DTSTAMP:20260423T203717
CREATED:20231217T144059Z
LAST-MODIFIED:20231217T184740Z
UID:10005034-1706333400-1706392800@capecoralnewresident.com
SUMMARY:ELVIS — A Musical Revolution
DESCRIPTION:
URL:https://capecoralnewresident.com/event/elvis-a-musical-revolution/
LOCATION:Broadway Palm Theatre\, 1380 Colonial Blvd\, Fort Myers\, 33907\, United States
CATEGORIES:Monthly Events & Activities
ATTACH;FMTTYPE=image/png:https://capecoralnewresident.com/wp-content/uploads/2023/12/elvis-small.png
ORGANIZER;CN="Dot Binder":MAILTO:nrcdotbinder@gmail.com
END:VEVENT
END:VCALENDAR