BEGIN:VCALENDAR
VERSION:2.0
PRODID:-//New Resident Club of Cape Coral - ECPv6.15.20//NONSGML v1.0//EN
CALSCALE:GREGORIAN
METHOD:PUBLISH
X-ORIGINAL-URL:https://capecoralnewresident.com
X-WR-CALDESC:Events for New Resident Club of Cape Coral
REFRESH-INTERVAL;VALUE=DURATION:PT1H
X-Robots-Tag:noindex
X-PUBLISHED-TTL:PT1H
BEGIN:VTIMEZONE
TZID:America/New_York
BEGIN:DAYLIGHT
TZOFFSETFROM:-0500
TZOFFSETTO:-0400
TZNAME:EDT
DTSTART:20280312T070000
END:DAYLIGHT
BEGIN:STANDARD
TZOFFSETFROM:-0400
TZOFFSETTO:-0500
TZNAME:EST
DTSTART:20281105T060000
END:STANDARD
BEGIN:DAYLIGHT
TZOFFSETFROM:-0500
TZOFFSETTO:-0400
TZNAME:EDT
DTSTART:20290311T070000
END:DAYLIGHT
BEGIN:STANDARD
TZOFFSETFROM:-0400
TZOFFSETTO:-0500
TZNAME:EST
DTSTART:20291104T060000
END:STANDARD
BEGIN:DAYLIGHT
TZOFFSETFROM:-0500
TZOFFSETTO:-0400
TZNAME:EDT
DTSTART:20300310T070000
END:DAYLIGHT
BEGIN:STANDARD
TZOFFSETFROM:-0400
TZOFFSETTO:-0500
TZNAME:EST
DTSTART:20301103T060000
END:STANDARD
END:VTIMEZONE
BEGIN:VEVENT
DTSTART;VALUE=DATE:20290215
DTEND;VALUE=DATE:20290216
DTSTAMP:20260423T070519
CREATED:20240420T195816Z
LAST-MODIFIED:20240420T195831Z
UID:10005495-1865808000-1865894399@capecoralnewresident.com
SUMMARY:Ladies Luncheon
DESCRIPTION:
URL:https://capecoralnewresident.com/event/monthly-ladies-luncheon/2029-02-15/
LOCATION:FL
CATEGORIES:Monthly Events & Activities
END:VEVENT
BEGIN:VEVENT
DTSTART;TZID=America/New_York:20290215T090000
DTEND;TZID=America/New_York:20290215T110000
DTSTAMP:20260423T070519
CREATED:20231217T185244Z
LAST-MODIFIED:20260405T203320Z
UID:10006084-1865840400-1865847600@capecoralnewresident.com
SUMMARY:Men's Breakfast
DESCRIPTION:Men’s Breakfast\n\nThird Thursday 9am House of Omelet’s 900 SW Pine Island Rd \nThe Men’s Breakfast is a long standing tradition of the NRC & provides an opportunity for a hearty meal among friends. \nNo Sign-Up required. Select from menu & pay individually. \n 
URL:https://capecoralnewresident.com/event/mens-breakfast/2029-02-15/
LOCATION:House of Omelet’s\, 900 SW Pine Island Rd\, Cape Coral\, FL\, 33991\, United States
CATEGORIES:Monthly Events & Activities
END:VEVENT
BEGIN:VEVENT
DTSTART;VALUE=DATE:20290307
DTEND;VALUE=DATE:20290308
DTSTAMP:20260423T070519
CREATED:20260330T201338Z
LAST-MODIFIED:20260330T201341Z
UID:10005767-1867536000-1867622399@capecoralnewresident.com
SUMMARY:Sunset with Friends
DESCRIPTION:
URL:https://capecoralnewresident.com/event/sunset-with-friends-2/2029-03-07/
LOCATION:Four Freedoms Park\, 4818 Tarpon Court\, Cape Coral\, FL\, 33904\, United States
CATEGORIES:Monthly Events & Activities
ATTACH;FMTTYPE=image/jpeg:https://capecoralnewresident.com/wp-content/uploads/2024/02/Four-Freedoms.jpg
END:VEVENT
BEGIN:VEVENT
DTSTART;TZID=America/New_York:20290307T183000
DTEND;TZID=America/New_York:20290307T201500
DTSTAMP:20260423T070519
CREATED:20260330T202332Z
LAST-MODIFIED:20260330T203315Z
UID:10005964-1867602600-1867608900@capecoralnewresident.com
SUMMARY:Sunset with Friends @ Four Freedoms Park
DESCRIPTION:Join fellow NRC members and enjoy our slice of paradise as we watch the sunset together.
URL:https://capecoralnewresident.com/event/sunset-with-friends-four-freedoms-park/2029-03-07/
LOCATION:Four Freedoms Park\, 4818 Tarpon Court\, Cape Coral\, FL\, 33904\, United States
CATEGORIES:Monthly Events & Activities
ATTACH;FMTTYPE=image/jpeg:https://capecoralnewresident.com/wp-content/uploads/2024/02/Four-Freedoms.jpg
END:VEVENT
BEGIN:VEVENT
DTSTART;VALUE=DATE:20290312
DTEND;VALUE=DATE:20290313
DTSTAMP:20260423T070519
CREATED:20240301T030226Z
LAST-MODIFIED:20240301T030226Z
UID:10005311-1867968000-1868054399@capecoralnewresident.com
SUMMARY:Cocktails on the Cape
DESCRIPTION:
URL:https://capecoralnewresident.com/event/cocktails-on-the-cape-4/2029-03-12/
LOCATION:FL
CATEGORIES:Monthly Events & Activities
END:VEVENT
BEGIN:VEVENT
DTSTART;VALUE=DATE:20290315
DTEND;VALUE=DATE:20290316
DTSTAMP:20260423T070520
CREATED:20240420T195816Z
LAST-MODIFIED:20240420T195831Z
UID:10005496-1868227200-1868313599@capecoralnewresident.com
SUMMARY:Ladies Luncheon
DESCRIPTION:
URL:https://capecoralnewresident.com/event/monthly-ladies-luncheon/2029-03-15/
LOCATION:FL
CATEGORIES:Monthly Events & Activities
END:VEVENT
BEGIN:VEVENT
DTSTART;TZID=America/New_York:20290315T090000
DTEND;TZID=America/New_York:20290315T110000
DTSTAMP:20260423T070520
CREATED:20231217T185244Z
LAST-MODIFIED:20260405T203320Z
UID:10006085-1868259600-1868266800@capecoralnewresident.com
SUMMARY:Men's Breakfast
DESCRIPTION:Men’s Breakfast\n\nThird Thursday 9am House of Omelet’s 900 SW Pine Island Rd \nThe Men’s Breakfast is a long standing tradition of the NRC & provides an opportunity for a hearty meal among friends. \nNo Sign-Up required. Select from menu & pay individually. \n 
URL:https://capecoralnewresident.com/event/mens-breakfast/2029-03-15/
LOCATION:House of Omelet’s\, 900 SW Pine Island Rd\, Cape Coral\, FL\, 33991\, United States
CATEGORIES:Monthly Events & Activities
END:VEVENT
BEGIN:VEVENT
DTSTART;VALUE=DATE:20290404
DTEND;VALUE=DATE:20290405
DTSTAMP:20260423T070520
CREATED:20260330T201338Z
LAST-MODIFIED:20260330T201341Z
UID:10005768-1869955200-1870041599@capecoralnewresident.com
SUMMARY:Sunset with Friends
DESCRIPTION:
URL:https://capecoralnewresident.com/event/sunset-with-friends-2/2029-04-04/
LOCATION:Four Freedoms Park\, 4818 Tarpon Court\, Cape Coral\, FL\, 33904\, United States
CATEGORIES:Monthly Events & Activities
ATTACH;FMTTYPE=image/jpeg:https://capecoralnewresident.com/wp-content/uploads/2024/02/Four-Freedoms.jpg
END:VEVENT
BEGIN:VEVENT
DTSTART;TZID=America/New_York:20290404T183000
DTEND;TZID=America/New_York:20290404T201500
DTSTAMP:20260423T070520
CREATED:20260330T202332Z
LAST-MODIFIED:20260330T203315Z
UID:10005965-1870021800-1870028100@capecoralnewresident.com
SUMMARY:Sunset with Friends @ Four Freedoms Park
DESCRIPTION:Join fellow NRC members and enjoy our slice of paradise as we watch the sunset together.
URL:https://capecoralnewresident.com/event/sunset-with-friends-four-freedoms-park/2029-04-04/
LOCATION:Four Freedoms Park\, 4818 Tarpon Court\, Cape Coral\, FL\, 33904\, United States
CATEGORIES:Monthly Events & Activities
ATTACH;FMTTYPE=image/jpeg:https://capecoralnewresident.com/wp-content/uploads/2024/02/Four-Freedoms.jpg
END:VEVENT
BEGIN:VEVENT
DTSTART;VALUE=DATE:20290409
DTEND;VALUE=DATE:20290410
DTSTAMP:20260423T070520
CREATED:20240301T030226Z
LAST-MODIFIED:20240301T030226Z
UID:10005378-1870387200-1870473599@capecoralnewresident.com
SUMMARY:Cocktails on the Cape
DESCRIPTION:
URL:https://capecoralnewresident.com/event/cocktails-on-the-cape-4/2029-04-09/
LOCATION:FL
CATEGORIES:Monthly Events & Activities
END:VEVENT
BEGIN:VEVENT
DTSTART;VALUE=DATE:20290419
DTEND;VALUE=DATE:20290420
DTSTAMP:20260423T070520
CREATED:20240420T195816Z
LAST-MODIFIED:20240420T195831Z
UID:10005497-1871251200-1871337599@capecoralnewresident.com
SUMMARY:Ladies Luncheon
DESCRIPTION:
URL:https://capecoralnewresident.com/event/monthly-ladies-luncheon/2029-04-19/
LOCATION:FL
CATEGORIES:Monthly Events & Activities
END:VEVENT
BEGIN:VEVENT
DTSTART;TZID=America/New_York:20290419T090000
DTEND;TZID=America/New_York:20290419T110000
DTSTAMP:20260423T070520
CREATED:20231217T185244Z
LAST-MODIFIED:20260405T203320Z
UID:10006086-1871283600-1871290800@capecoralnewresident.com
SUMMARY:Men's Breakfast
DESCRIPTION:Men’s Breakfast\n\nThird Thursday 9am House of Omelet’s 900 SW Pine Island Rd \nThe Men’s Breakfast is a long standing tradition of the NRC & provides an opportunity for a hearty meal among friends. \nNo Sign-Up required. Select from menu & pay individually. \n 
URL:https://capecoralnewresident.com/event/mens-breakfast/2029-04-19/
LOCATION:House of Omelet’s\, 900 SW Pine Island Rd\, Cape Coral\, FL\, 33991\, United States
CATEGORIES:Monthly Events & Activities
END:VEVENT
BEGIN:VEVENT
DTSTART;VALUE=DATE:20290502
DTEND;VALUE=DATE:20290503
DTSTAMP:20260423T070520
CREATED:20260330T201338Z
LAST-MODIFIED:20260330T201341Z
UID:10005769-1872374400-1872460799@capecoralnewresident.com
SUMMARY:Sunset with Friends
DESCRIPTION:
URL:https://capecoralnewresident.com/event/sunset-with-friends-2/2029-05-02/
LOCATION:Four Freedoms Park\, 4818 Tarpon Court\, Cape Coral\, FL\, 33904\, United States
CATEGORIES:Monthly Events & Activities
ATTACH;FMTTYPE=image/jpeg:https://capecoralnewresident.com/wp-content/uploads/2024/02/Four-Freedoms.jpg
END:VEVENT
BEGIN:VEVENT
DTSTART;TZID=America/New_York:20290502T183000
DTEND;TZID=America/New_York:20290502T201500
DTSTAMP:20260423T070520
CREATED:20260330T202332Z
LAST-MODIFIED:20260330T203315Z
UID:10005966-1872441000-1872447300@capecoralnewresident.com
SUMMARY:Sunset with Friends @ Four Freedoms Park
DESCRIPTION:Join fellow NRC members and enjoy our slice of paradise as we watch the sunset together.
URL:https://capecoralnewresident.com/event/sunset-with-friends-four-freedoms-park/2029-05-02/
LOCATION:Four Freedoms Park\, 4818 Tarpon Court\, Cape Coral\, FL\, 33904\, United States
CATEGORIES:Monthly Events & Activities
ATTACH;FMTTYPE=image/jpeg:https://capecoralnewresident.com/wp-content/uploads/2024/02/Four-Freedoms.jpg
END:VEVENT
BEGIN:VEVENT
DTSTART;VALUE=DATE:20290514
DTEND;VALUE=DATE:20290515
DTSTAMP:20260423T070520
CREATED:20240301T030226Z
LAST-MODIFIED:20240301T030226Z
UID:10005502-1873411200-1873497599@capecoralnewresident.com
SUMMARY:Cocktails on the Cape
DESCRIPTION:
URL:https://capecoralnewresident.com/event/cocktails-on-the-cape-4/2029-05-14/
LOCATION:FL
CATEGORIES:Monthly Events & Activities
END:VEVENT
BEGIN:VEVENT
DTSTART;VALUE=DATE:20290517
DTEND;VALUE=DATE:20290518
DTSTAMP:20260423T070520
CREATED:20240420T195816Z
LAST-MODIFIED:20240420T195831Z
UID:10005504-1873670400-1873756799@capecoralnewresident.com
SUMMARY:Ladies Luncheon
DESCRIPTION:
URL:https://capecoralnewresident.com/event/monthly-ladies-luncheon/2029-05-17/
LOCATION:FL
CATEGORIES:Monthly Events & Activities
END:VEVENT
BEGIN:VEVENT
DTSTART;TZID=America/New_York:20290517T090000
DTEND;TZID=America/New_York:20290517T110000
DTSTAMP:20260423T070520
CREATED:20231217T185244Z
LAST-MODIFIED:20260405T203320Z
UID:10006087-1873702800-1873710000@capecoralnewresident.com
SUMMARY:Men's Breakfast
DESCRIPTION:Men’s Breakfast\n\nThird Thursday 9am House of Omelet’s 900 SW Pine Island Rd \nThe Men’s Breakfast is a long standing tradition of the NRC & provides an opportunity for a hearty meal among friends. \nNo Sign-Up required. Select from menu & pay individually. \n 
URL:https://capecoralnewresident.com/event/mens-breakfast/2029-05-17/
LOCATION:House of Omelet’s\, 900 SW Pine Island Rd\, Cape Coral\, FL\, 33991\, United States
CATEGORIES:Monthly Events & Activities
END:VEVENT
BEGIN:VEVENT
DTSTART;VALUE=DATE:20290606
DTEND;VALUE=DATE:20290607
DTSTAMP:20260423T070520
CREATED:20260330T201338Z
LAST-MODIFIED:20260330T201341Z
UID:10005770-1875398400-1875484799@capecoralnewresident.com
SUMMARY:Sunset with Friends
DESCRIPTION:
URL:https://capecoralnewresident.com/event/sunset-with-friends-2/2029-06-06/
LOCATION:Four Freedoms Park\, 4818 Tarpon Court\, Cape Coral\, FL\, 33904\, United States
CATEGORIES:Monthly Events & Activities
ATTACH;FMTTYPE=image/jpeg:https://capecoralnewresident.com/wp-content/uploads/2024/02/Four-Freedoms.jpg
END:VEVENT
BEGIN:VEVENT
DTSTART;TZID=America/New_York:20290606T183000
DTEND;TZID=America/New_York:20290606T201500
DTSTAMP:20260423T070520
CREATED:20260330T202332Z
LAST-MODIFIED:20260330T203315Z
UID:10005967-1875465000-1875471300@capecoralnewresident.com
SUMMARY:Sunset with Friends @ Four Freedoms Park
DESCRIPTION:Join fellow NRC members and enjoy our slice of paradise as we watch the sunset together.
URL:https://capecoralnewresident.com/event/sunset-with-friends-four-freedoms-park/2029-06-06/
LOCATION:Four Freedoms Park\, 4818 Tarpon Court\, Cape Coral\, FL\, 33904\, United States
CATEGORIES:Monthly Events & Activities
ATTACH;FMTTYPE=image/jpeg:https://capecoralnewresident.com/wp-content/uploads/2024/02/Four-Freedoms.jpg
END:VEVENT
BEGIN:VEVENT
DTSTART;VALUE=DATE:20290611
DTEND;VALUE=DATE:20290612
DTSTAMP:20260423T070520
CREATED:20240301T030226Z
LAST-MODIFIED:20240301T030226Z
UID:10005570-1875830400-1875916799@capecoralnewresident.com
SUMMARY:Cocktails on the Cape
DESCRIPTION:
URL:https://capecoralnewresident.com/event/cocktails-on-the-cape-4/2029-06-11/
LOCATION:FL
CATEGORIES:Monthly Events & Activities
END:VEVENT
BEGIN:VEVENT
DTSTART;VALUE=DATE:20290621
DTEND;VALUE=DATE:20290622
DTSTAMP:20260423T070520
CREATED:20240420T195816Z
LAST-MODIFIED:20240420T195831Z
UID:10005572-1876694400-1876780799@capecoralnewresident.com
SUMMARY:Ladies Luncheon
DESCRIPTION:
URL:https://capecoralnewresident.com/event/monthly-ladies-luncheon/2029-06-21/
LOCATION:FL
CATEGORIES:Monthly Events & Activities
END:VEVENT
BEGIN:VEVENT
DTSTART;TZID=America/New_York:20290621T090000
DTEND;TZID=America/New_York:20290621T110000
DTSTAMP:20260423T070520
CREATED:20231217T185244Z
LAST-MODIFIED:20260405T203320Z
UID:10006088-1876726800-1876734000@capecoralnewresident.com
SUMMARY:Men's Breakfast
DESCRIPTION:Men’s Breakfast\n\nThird Thursday 9am House of Omelet’s 900 SW Pine Island Rd \nThe Men’s Breakfast is a long standing tradition of the NRC & provides an opportunity for a hearty meal among friends. \nNo Sign-Up required. Select from menu & pay individually. \n 
URL:https://capecoralnewresident.com/event/mens-breakfast/2029-06-21/
LOCATION:House of Omelet’s\, 900 SW Pine Island Rd\, Cape Coral\, FL\, 33991\, United States
CATEGORIES:Monthly Events & Activities
END:VEVENT
BEGIN:VEVENT
DTSTART;VALUE=DATE:20290704
DTEND;VALUE=DATE:20290705
DTSTAMP:20260423T070520
CREATED:20260330T201338Z
LAST-MODIFIED:20260330T201341Z
UID:10005771-1877817600-1877903999@capecoralnewresident.com
SUMMARY:Sunset with Friends
DESCRIPTION:
URL:https://capecoralnewresident.com/event/sunset-with-friends-2/2029-07-04/
LOCATION:Four Freedoms Park\, 4818 Tarpon Court\, Cape Coral\, FL\, 33904\, United States
CATEGORIES:Monthly Events & Activities
ATTACH;FMTTYPE=image/jpeg:https://capecoralnewresident.com/wp-content/uploads/2024/02/Four-Freedoms.jpg
END:VEVENT
BEGIN:VEVENT
DTSTART;TZID=America/New_York:20290704T183000
DTEND;TZID=America/New_York:20290704T201500
DTSTAMP:20260423T070520
CREATED:20260330T202332Z
LAST-MODIFIED:20260330T203315Z
UID:10005968-1877884200-1877890500@capecoralnewresident.com
SUMMARY:Sunset with Friends @ Four Freedoms Park
DESCRIPTION:Join fellow NRC members and enjoy our slice of paradise as we watch the sunset together.
URL:https://capecoralnewresident.com/event/sunset-with-friends-four-freedoms-park/2029-07-04/
LOCATION:Four Freedoms Park\, 4818 Tarpon Court\, Cape Coral\, FL\, 33904\, United States
CATEGORIES:Monthly Events & Activities
ATTACH;FMTTYPE=image/jpeg:https://capecoralnewresident.com/wp-content/uploads/2024/02/Four-Freedoms.jpg
END:VEVENT
BEGIN:VEVENT
DTSTART;VALUE=DATE:20290709
DTEND;VALUE=DATE:20290710
DTSTAMP:20260423T070520
CREATED:20240301T030226Z
LAST-MODIFIED:20240301T030226Z
UID:10005580-1878249600-1878335999@capecoralnewresident.com
SUMMARY:Cocktails on the Cape
DESCRIPTION:
URL:https://capecoralnewresident.com/event/cocktails-on-the-cape-4/2029-07-09/
LOCATION:FL
CATEGORIES:Monthly Events & Activities
END:VEVENT
BEGIN:VEVENT
DTSTART;VALUE=DATE:20290719
DTEND;VALUE=DATE:20290720
DTSTAMP:20260423T070520
CREATED:20240420T195816Z
LAST-MODIFIED:20240420T195831Z
UID:10005597-1879113600-1879199999@capecoralnewresident.com
SUMMARY:Ladies Luncheon
DESCRIPTION:
URL:https://capecoralnewresident.com/event/monthly-ladies-luncheon/2029-07-19/
LOCATION:FL
CATEGORIES:Monthly Events & Activities
END:VEVENT
BEGIN:VEVENT
DTSTART;TZID=America/New_York:20290719T090000
DTEND;TZID=America/New_York:20290719T110000
DTSTAMP:20260423T070520
CREATED:20231217T185244Z
LAST-MODIFIED:20260405T203320Z
UID:10006089-1879146000-1879153200@capecoralnewresident.com
SUMMARY:Men's Breakfast
DESCRIPTION:Men’s Breakfast\n\nThird Thursday 9am House of Omelet’s 900 SW Pine Island Rd \nThe Men’s Breakfast is a long standing tradition of the NRC & provides an opportunity for a hearty meal among friends. \nNo Sign-Up required. Select from menu & pay individually. \n 
URL:https://capecoralnewresident.com/event/mens-breakfast/2029-07-19/
LOCATION:House of Omelet’s\, 900 SW Pine Island Rd\, Cape Coral\, FL\, 33991\, United States
CATEGORIES:Monthly Events & Activities
END:VEVENT
BEGIN:VEVENT
DTSTART;VALUE=DATE:20290801
DTEND;VALUE=DATE:20290802
DTSTAMP:20260423T070520
CREATED:20260330T201338Z
LAST-MODIFIED:20260330T201341Z
UID:10005772-1880236800-1880323199@capecoralnewresident.com
SUMMARY:Sunset with Friends
DESCRIPTION:
URL:https://capecoralnewresident.com/event/sunset-with-friends-2/2029-08-01/
LOCATION:Four Freedoms Park\, 4818 Tarpon Court\, Cape Coral\, FL\, 33904\, United States
CATEGORIES:Monthly Events & Activities
ATTACH;FMTTYPE=image/jpeg:https://capecoralnewresident.com/wp-content/uploads/2024/02/Four-Freedoms.jpg
END:VEVENT
BEGIN:VEVENT
DTSTART;TZID=America/New_York:20290801T183000
DTEND;TZID=America/New_York:20290801T201500
DTSTAMP:20260423T070520
CREATED:20260330T202332Z
LAST-MODIFIED:20260330T203315Z
UID:10005969-1880303400-1880309700@capecoralnewresident.com
SUMMARY:Sunset with Friends @ Four Freedoms Park
DESCRIPTION:Join fellow NRC members and enjoy our slice of paradise as we watch the sunset together.
URL:https://capecoralnewresident.com/event/sunset-with-friends-four-freedoms-park/2029-08-01/
LOCATION:Four Freedoms Park\, 4818 Tarpon Court\, Cape Coral\, FL\, 33904\, United States
CATEGORIES:Monthly Events & Activities
ATTACH;FMTTYPE=image/jpeg:https://capecoralnewresident.com/wp-content/uploads/2024/02/Four-Freedoms.jpg
END:VEVENT
BEGIN:VEVENT
DTSTART;VALUE=DATE:20290813
DTEND;VALUE=DATE:20290814
DTSTAMP:20260423T070520
CREATED:20240301T030226Z
LAST-MODIFIED:20240301T030226Z
UID:10005592-1881273600-1881359999@capecoralnewresident.com
SUMMARY:Cocktails on the Cape
DESCRIPTION:
URL:https://capecoralnewresident.com/event/cocktails-on-the-cape-4/2029-08-13/
LOCATION:FL
CATEGORIES:Monthly Events & Activities
END:VEVENT
END:VCALENDAR