BEGIN:VCALENDAR
VERSION:2.0
PRODID:-//New Resident Club of Cape Coral - ECPv6.15.20//NONSGML v1.0//EN
CALSCALE:GREGORIAN
METHOD:PUBLISH
X-WR-CALNAME:New Resident Club of Cape Coral
X-ORIGINAL-URL:https://capecoralnewresident.com
X-WR-CALDESC:Events for New Resident Club of Cape Coral
REFRESH-INTERVAL;VALUE=DURATION:PT1H
X-Robots-Tag:noindex
X-PUBLISHED-TTL:PT1H
BEGIN:VTIMEZONE
TZID:America/New_York
BEGIN:DAYLIGHT
TZOFFSETFROM:-0500
TZOFFSETTO:-0400
TZNAME:EDT
DTSTART:20280312T070000
END:DAYLIGHT
BEGIN:STANDARD
TZOFFSETFROM:-0400
TZOFFSETTO:-0500
TZNAME:EST
DTSTART:20281105T060000
END:STANDARD
BEGIN:DAYLIGHT
TZOFFSETFROM:-0500
TZOFFSETTO:-0400
TZNAME:EDT
DTSTART:20290311T070000
END:DAYLIGHT
BEGIN:STANDARD
TZOFFSETFROM:-0400
TZOFFSETTO:-0500
TZNAME:EST
DTSTART:20291104T060000
END:STANDARD
BEGIN:DAYLIGHT
TZOFFSETFROM:-0500
TZOFFSETTO:-0400
TZNAME:EDT
DTSTART:20300310T070000
END:DAYLIGHT
BEGIN:STANDARD
TZOFFSETFROM:-0400
TZOFFSETTO:-0500
TZNAME:EST
DTSTART:20301103T060000
END:STANDARD
BEGIN:DAYLIGHT
TZOFFSETFROM:-0500
TZOFFSETTO:-0400
TZNAME:EDT
DTSTART:20310309T070000
END:DAYLIGHT
BEGIN:STANDARD
TZOFFSETFROM:-0400
TZOFFSETTO:-0500
TZNAME:EST
DTSTART:20311102T060000
END:STANDARD
END:VTIMEZONE
BEGIN:VEVENT
DTSTART;VALUE=DATE:20290813
DTEND;VALUE=DATE:20290814
DTSTAMP:20260423T112742
CREATED:20240301T030226Z
LAST-MODIFIED:20240301T030226Z
UID:10005592-1881273600-1881359999@capecoralnewresident.com
SUMMARY:Cocktails on the Cape
DESCRIPTION:
URL:https://capecoralnewresident.com/event/cocktails-on-the-cape-4/2029-08-13/
LOCATION:FL
CATEGORIES:Monthly Events & Activities
END:VEVENT
BEGIN:VEVENT
DTSTART;VALUE=DATE:20290816
DTEND;VALUE=DATE:20290817
DTSTAMP:20260423T112742
CREATED:20240420T195816Z
LAST-MODIFIED:20240420T195831Z
UID:10005598-1881532800-1881619199@capecoralnewresident.com
SUMMARY:Ladies Luncheon
DESCRIPTION:
URL:https://capecoralnewresident.com/event/monthly-ladies-luncheon/2029-08-16/
LOCATION:FL
CATEGORIES:Monthly Events & Activities
END:VEVENT
BEGIN:VEVENT
DTSTART;TZID=America/New_York:20290816T090000
DTEND;TZID=America/New_York:20290816T110000
DTSTAMP:20260423T112742
CREATED:20231217T185244Z
LAST-MODIFIED:20260405T203320Z
UID:10006090-1881565200-1881572400@capecoralnewresident.com
SUMMARY:Men's Breakfast
DESCRIPTION:Men’s Breakfast\n\nThird Thursday 9am House of Omelet’s 900 SW Pine Island Rd \nThe Men’s Breakfast is a long standing tradition of the NRC & provides an opportunity for a hearty meal among friends. \nNo Sign-Up required. Select from menu & pay individually. \n 
URL:https://capecoralnewresident.com/event/mens-breakfast/2029-08-16/
LOCATION:House of Omelet’s\, 900 SW Pine Island Rd\, Cape Coral\, FL\, 33991\, United States
CATEGORIES:Monthly Events & Activities
END:VEVENT
BEGIN:VEVENT
DTSTART;VALUE=DATE:20290905
DTEND;VALUE=DATE:20290906
DTSTAMP:20260423T112742
CREATED:20260330T201338Z
LAST-MODIFIED:20260330T201341Z
UID:10005773-1883260800-1883347199@capecoralnewresident.com
SUMMARY:Sunset with Friends
DESCRIPTION:
URL:https://capecoralnewresident.com/event/sunset-with-friends-2/2029-09-05/
LOCATION:Four Freedoms Park\, 4818 Tarpon Court\, Cape Coral\, FL\, 33904\, United States
CATEGORIES:Monthly Events & Activities
ATTACH;FMTTYPE=image/jpeg:https://capecoralnewresident.com/wp-content/uploads/2024/02/Four-Freedoms.jpg
END:VEVENT
BEGIN:VEVENT
DTSTART;TZID=America/New_York:20290905T183000
DTEND;TZID=America/New_York:20290905T201500
DTSTAMP:20260423T112742
CREATED:20260330T202332Z
LAST-MODIFIED:20260330T203315Z
UID:10005970-1883327400-1883333700@capecoralnewresident.com
SUMMARY:Sunset with Friends @ Four Freedoms Park
DESCRIPTION:Join fellow NRC members and enjoy our slice of paradise as we watch the sunset together.
URL:https://capecoralnewresident.com/event/sunset-with-friends-four-freedoms-park/2029-09-05/
LOCATION:Four Freedoms Park\, 4818 Tarpon Court\, Cape Coral\, FL\, 33904\, United States
CATEGORIES:Monthly Events & Activities
ATTACH;FMTTYPE=image/jpeg:https://capecoralnewresident.com/wp-content/uploads/2024/02/Four-Freedoms.jpg
END:VEVENT
BEGIN:VEVENT
DTSTART;VALUE=DATE:20290910
DTEND;VALUE=DATE:20290911
DTSTAMP:20260423T112742
CREATED:20240301T030226Z
LAST-MODIFIED:20240301T030226Z
UID:10005601-1883692800-1883779199@capecoralnewresident.com
SUMMARY:Cocktails on the Cape
DESCRIPTION:
URL:https://capecoralnewresident.com/event/cocktails-on-the-cape-4/2029-09-10/
LOCATION:FL
CATEGORIES:Monthly Events & Activities
END:VEVENT
BEGIN:VEVENT
DTSTART;VALUE=DATE:20290920
DTEND;VALUE=DATE:20290921
DTSTAMP:20260423T112742
CREATED:20240420T195816Z
LAST-MODIFIED:20240420T195831Z
UID:10005599-1884556800-1884643199@capecoralnewresident.com
SUMMARY:Ladies Luncheon
DESCRIPTION:
URL:https://capecoralnewresident.com/event/monthly-ladies-luncheon/2029-09-20/
LOCATION:FL
CATEGORIES:Monthly Events & Activities
END:VEVENT
BEGIN:VEVENT
DTSTART;TZID=America/New_York:20290920T090000
DTEND;TZID=America/New_York:20290920T110000
DTSTAMP:20260423T112742
CREATED:20231217T185244Z
LAST-MODIFIED:20260405T203320Z
UID:10006091-1884589200-1884596400@capecoralnewresident.com
SUMMARY:Men's Breakfast
DESCRIPTION:Men’s Breakfast\n\nThird Thursday 9am House of Omelet’s 900 SW Pine Island Rd \nThe Men’s Breakfast is a long standing tradition of the NRC & provides an opportunity for a hearty meal among friends. \nNo Sign-Up required. Select from menu & pay individually. \n 
URL:https://capecoralnewresident.com/event/mens-breakfast/2029-09-20/
LOCATION:House of Omelet’s\, 900 SW Pine Island Rd\, Cape Coral\, FL\, 33991\, United States
CATEGORIES:Monthly Events & Activities
END:VEVENT
BEGIN:VEVENT
DTSTART;VALUE=DATE:20291003
DTEND;VALUE=DATE:20291004
DTSTAMP:20260423T112742
CREATED:20260330T201338Z
LAST-MODIFIED:20260330T201341Z
UID:10005774-1885680000-1885766399@capecoralnewresident.com
SUMMARY:Sunset with Friends
DESCRIPTION:
URL:https://capecoralnewresident.com/event/sunset-with-friends-2/2029-10-03/
LOCATION:Four Freedoms Park\, 4818 Tarpon Court\, Cape Coral\, FL\, 33904\, United States
CATEGORIES:Monthly Events & Activities
ATTACH;FMTTYPE=image/jpeg:https://capecoralnewresident.com/wp-content/uploads/2024/02/Four-Freedoms.jpg
END:VEVENT
BEGIN:VEVENT
DTSTART;TZID=America/New_York:20291003T183000
DTEND;TZID=America/New_York:20291003T201500
DTSTAMP:20260423T112742
CREATED:20260330T202332Z
LAST-MODIFIED:20260330T203315Z
UID:10005971-1885746600-1885752900@capecoralnewresident.com
SUMMARY:Sunset with Friends @ Four Freedoms Park
DESCRIPTION:Join fellow NRC members and enjoy our slice of paradise as we watch the sunset together.
URL:https://capecoralnewresident.com/event/sunset-with-friends-four-freedoms-park/2029-10-03/
LOCATION:Four Freedoms Park\, 4818 Tarpon Court\, Cape Coral\, FL\, 33904\, United States
CATEGORIES:Monthly Events & Activities
ATTACH;FMTTYPE=image/jpeg:https://capecoralnewresident.com/wp-content/uploads/2024/02/Four-Freedoms.jpg
END:VEVENT
BEGIN:VEVENT
DTSTART;VALUE=DATE:20291008
DTEND;VALUE=DATE:20291009
DTSTAMP:20260423T112742
CREATED:20240301T030226Z
LAST-MODIFIED:20240301T030226Z
UID:10005602-1886112000-1886198399@capecoralnewresident.com
SUMMARY:Cocktails on the Cape
DESCRIPTION:
URL:https://capecoralnewresident.com/event/cocktails-on-the-cape-4/2029-10-08/
LOCATION:FL
CATEGORIES:Monthly Events & Activities
END:VEVENT
BEGIN:VEVENT
DTSTART;VALUE=DATE:20291018
DTEND;VALUE=DATE:20291019
DTSTAMP:20260423T112742
CREATED:20240420T195816Z
LAST-MODIFIED:20240420T195831Z
UID:10005603-1886976000-1887062399@capecoralnewresident.com
SUMMARY:Ladies Luncheon
DESCRIPTION:
URL:https://capecoralnewresident.com/event/monthly-ladies-luncheon/2029-10-18/
LOCATION:FL
CATEGORIES:Monthly Events & Activities
END:VEVENT
BEGIN:VEVENT
DTSTART;TZID=America/New_York:20291018T090000
DTEND;TZID=America/New_York:20291018T110000
DTSTAMP:20260423T112742
CREATED:20231217T185244Z
LAST-MODIFIED:20260405T203320Z
UID:10006092-1887008400-1887015600@capecoralnewresident.com
SUMMARY:Men's Breakfast
DESCRIPTION:Men’s Breakfast\n\nThird Thursday 9am House of Omelet’s 900 SW Pine Island Rd \nThe Men’s Breakfast is a long standing tradition of the NRC & provides an opportunity for a hearty meal among friends. \nNo Sign-Up required. Select from menu & pay individually. \n 
URL:https://capecoralnewresident.com/event/mens-breakfast/2029-10-18/
LOCATION:House of Omelet’s\, 900 SW Pine Island Rd\, Cape Coral\, FL\, 33991\, United States
CATEGORIES:Monthly Events & Activities
END:VEVENT
BEGIN:VEVENT
DTSTART;VALUE=DATE:20291107
DTEND;VALUE=DATE:20291108
DTSTAMP:20260423T112742
CREATED:20260330T201338Z
LAST-MODIFIED:20260330T201341Z
UID:10005775-1888704000-1888790399@capecoralnewresident.com
SUMMARY:Sunset with Friends
DESCRIPTION:
URL:https://capecoralnewresident.com/event/sunset-with-friends-2/2029-11-07/
LOCATION:Four Freedoms Park\, 4818 Tarpon Court\, Cape Coral\, FL\, 33904\, United States
CATEGORIES:Monthly Events & Activities
ATTACH;FMTTYPE=image/jpeg:https://capecoralnewresident.com/wp-content/uploads/2024/02/Four-Freedoms.jpg
END:VEVENT
BEGIN:VEVENT
DTSTART;TZID=America/New_York:20291107T183000
DTEND;TZID=America/New_York:20291107T201500
DTSTAMP:20260423T112742
CREATED:20260330T202332Z
LAST-MODIFIED:20260330T203315Z
UID:10005972-1888770600-1888776900@capecoralnewresident.com
SUMMARY:Sunset with Friends @ Four Freedoms Park
DESCRIPTION:Join fellow NRC members and enjoy our slice of paradise as we watch the sunset together.
URL:https://capecoralnewresident.com/event/sunset-with-friends-four-freedoms-park/2029-11-07/
LOCATION:Four Freedoms Park\, 4818 Tarpon Court\, Cape Coral\, FL\, 33904\, United States
CATEGORIES:Monthly Events & Activities
ATTACH;FMTTYPE=image/jpeg:https://capecoralnewresident.com/wp-content/uploads/2024/02/Four-Freedoms.jpg
END:VEVENT
BEGIN:VEVENT
DTSTART;VALUE=DATE:20291112
DTEND;VALUE=DATE:20291113
DTSTAMP:20260423T112742
CREATED:20240301T030226Z
LAST-MODIFIED:20240301T030226Z
UID:10005607-1889136000-1889222399@capecoralnewresident.com
SUMMARY:Cocktails on the Cape
DESCRIPTION:
URL:https://capecoralnewresident.com/event/cocktails-on-the-cape-4/2029-11-12/
LOCATION:FL
CATEGORIES:Monthly Events & Activities
END:VEVENT
BEGIN:VEVENT
DTSTART;VALUE=DATE:20291115
DTEND;VALUE=DATE:20291116
DTSTAMP:20260423T112742
CREATED:20240420T195816Z
LAST-MODIFIED:20240420T195831Z
UID:10005692-1889395200-1889481599@capecoralnewresident.com
SUMMARY:Ladies Luncheon
DESCRIPTION:
URL:https://capecoralnewresident.com/event/monthly-ladies-luncheon/2029-11-15/
LOCATION:FL
CATEGORIES:Monthly Events & Activities
END:VEVENT
BEGIN:VEVENT
DTSTART;TZID=America/New_York:20291115T090000
DTEND;TZID=America/New_York:20291115T110000
DTSTAMP:20260423T112742
CREATED:20231217T185244Z
LAST-MODIFIED:20260405T203320Z
UID:10006093-1889427600-1889434800@capecoralnewresident.com
SUMMARY:Men's Breakfast
DESCRIPTION:Men’s Breakfast\n\nThird Thursday 9am House of Omelet’s 900 SW Pine Island Rd \nThe Men’s Breakfast is a long standing tradition of the NRC & provides an opportunity for a hearty meal among friends. \nNo Sign-Up required. Select from menu & pay individually. \n 
URL:https://capecoralnewresident.com/event/mens-breakfast/2029-11-15/
LOCATION:House of Omelet’s\, 900 SW Pine Island Rd\, Cape Coral\, FL\, 33991\, United States
CATEGORIES:Monthly Events & Activities
END:VEVENT
BEGIN:VEVENT
DTSTART;VALUE=DATE:20291205
DTEND;VALUE=DATE:20291206
DTSTAMP:20260423T112742
CREATED:20260330T201338Z
LAST-MODIFIED:20260330T201341Z
UID:10005776-1891123200-1891209599@capecoralnewresident.com
SUMMARY:Sunset with Friends
DESCRIPTION:
URL:https://capecoralnewresident.com/event/sunset-with-friends-2/2029-12-05/
LOCATION:Four Freedoms Park\, 4818 Tarpon Court\, Cape Coral\, FL\, 33904\, United States
CATEGORIES:Monthly Events & Activities
ATTACH;FMTTYPE=image/jpeg:https://capecoralnewresident.com/wp-content/uploads/2024/02/Four-Freedoms.jpg
END:VEVENT
BEGIN:VEVENT
DTSTART;TZID=America/New_York:20291205T183000
DTEND;TZID=America/New_York:20291205T201500
DTSTAMP:20260423T112742
CREATED:20260330T202332Z
LAST-MODIFIED:20260330T203315Z
UID:10005973-1891189800-1891196100@capecoralnewresident.com
SUMMARY:Sunset with Friends @ Four Freedoms Park
DESCRIPTION:Join fellow NRC members and enjoy our slice of paradise as we watch the sunset together.
URL:https://capecoralnewresident.com/event/sunset-with-friends-four-freedoms-park/2029-12-05/
LOCATION:Four Freedoms Park\, 4818 Tarpon Court\, Cape Coral\, FL\, 33904\, United States
CATEGORIES:Monthly Events & Activities
ATTACH;FMTTYPE=image/jpeg:https://capecoralnewresident.com/wp-content/uploads/2024/02/Four-Freedoms.jpg
END:VEVENT
BEGIN:VEVENT
DTSTART;VALUE=DATE:20291210
DTEND;VALUE=DATE:20291211
DTSTAMP:20260423T112742
CREATED:20240301T030226Z
LAST-MODIFIED:20240301T030226Z
UID:10005695-1891555200-1891641599@capecoralnewresident.com
SUMMARY:Cocktails on the Cape
DESCRIPTION:
URL:https://capecoralnewresident.com/event/cocktails-on-the-cape-4/2029-12-10/
LOCATION:FL
CATEGORIES:Monthly Events & Activities
END:VEVENT
BEGIN:VEVENT
DTSTART;VALUE=DATE:20291220
DTEND;VALUE=DATE:20291221
DTSTAMP:20260423T112742
CREATED:20240420T195816Z
LAST-MODIFIED:20240420T195831Z
UID:10005693-1892419200-1892505599@capecoralnewresident.com
SUMMARY:Ladies Luncheon
DESCRIPTION:
URL:https://capecoralnewresident.com/event/monthly-ladies-luncheon/2029-12-20/
LOCATION:FL
CATEGORIES:Monthly Events & Activities
END:VEVENT
BEGIN:VEVENT
DTSTART;TZID=America/New_York:20291220T090000
DTEND;TZID=America/New_York:20291220T110000
DTSTAMP:20260423T112742
CREATED:20231217T185244Z
LAST-MODIFIED:20260405T203320Z
UID:10006094-1892451600-1892458800@capecoralnewresident.com
SUMMARY:Men's Breakfast
DESCRIPTION:Men’s Breakfast\n\nThird Thursday 9am House of Omelet’s 900 SW Pine Island Rd \nThe Men’s Breakfast is a long standing tradition of the NRC & provides an opportunity for a hearty meal among friends. \nNo Sign-Up required. Select from menu & pay individually. \n 
URL:https://capecoralnewresident.com/event/mens-breakfast/2029-12-20/
LOCATION:House of Omelet’s\, 900 SW Pine Island Rd\, Cape Coral\, FL\, 33991\, United States
CATEGORIES:Monthly Events & Activities
END:VEVENT
BEGIN:VEVENT
DTSTART;VALUE=DATE:20300102
DTEND;VALUE=DATE:20300103
DTSTAMP:20260423T112742
CREATED:20260330T201338Z
LAST-MODIFIED:20260330T201341Z
UID:10005777-1893542400-1893628799@capecoralnewresident.com
SUMMARY:Sunset with Friends
DESCRIPTION:
URL:https://capecoralnewresident.com/event/sunset-with-friends-2/2030-01-02/
LOCATION:Four Freedoms Park\, 4818 Tarpon Court\, Cape Coral\, FL\, 33904\, United States
CATEGORIES:Monthly Events & Activities
ATTACH;FMTTYPE=image/jpeg:https://capecoralnewresident.com/wp-content/uploads/2024/02/Four-Freedoms.jpg
END:VEVENT
BEGIN:VEVENT
DTSTART;TZID=America/New_York:20300102T183000
DTEND;TZID=America/New_York:20300102T201500
DTSTAMP:20260423T112742
CREATED:20260330T202332Z
LAST-MODIFIED:20260330T203315Z
UID:10005974-1893609000-1893615300@capecoralnewresident.com
SUMMARY:Sunset with Friends @ Four Freedoms Park
DESCRIPTION:Join fellow NRC members and enjoy our slice of paradise as we watch the sunset together.
URL:https://capecoralnewresident.com/event/sunset-with-friends-four-freedoms-park/2030-01-02/
LOCATION:Four Freedoms Park\, 4818 Tarpon Court\, Cape Coral\, FL\, 33904\, United States
CATEGORIES:Monthly Events & Activities
ATTACH;FMTTYPE=image/jpeg:https://capecoralnewresident.com/wp-content/uploads/2024/02/Four-Freedoms.jpg
END:VEVENT
BEGIN:VEVENT
DTSTART;VALUE=DATE:20300114
DTEND;VALUE=DATE:20300115
DTSTAMP:20260423T112742
CREATED:20240301T030226Z
LAST-MODIFIED:20240301T030226Z
UID:10005708-1894579200-1894665599@capecoralnewresident.com
SUMMARY:Cocktails on the Cape
DESCRIPTION:
URL:https://capecoralnewresident.com/event/cocktails-on-the-cape-4/2030-01-14/
LOCATION:FL
CATEGORIES:Monthly Events & Activities
END:VEVENT
BEGIN:VEVENT
DTSTART;VALUE=DATE:20300117
DTEND;VALUE=DATE:20300118
DTSTAMP:20260423T112742
CREATED:20240420T195816Z
LAST-MODIFIED:20240420T195831Z
UID:10005697-1894838400-1894924799@capecoralnewresident.com
SUMMARY:Ladies Luncheon
DESCRIPTION:
URL:https://capecoralnewresident.com/event/monthly-ladies-luncheon/2030-01-17/
LOCATION:FL
CATEGORIES:Monthly Events & Activities
END:VEVENT
BEGIN:VEVENT
DTSTART;TZID=America/New_York:20300117T090000
DTEND;TZID=America/New_York:20300117T110000
DTSTAMP:20260423T112742
CREATED:20231217T185244Z
LAST-MODIFIED:20260405T203320Z
UID:10006095-1894870800-1894878000@capecoralnewresident.com
SUMMARY:Men's Breakfast
DESCRIPTION:Men’s Breakfast\n\nThird Thursday 9am House of Omelet’s 900 SW Pine Island Rd \nThe Men’s Breakfast is a long standing tradition of the NRC & provides an opportunity for a hearty meal among friends. \nNo Sign-Up required. Select from menu & pay individually. \n 
URL:https://capecoralnewresident.com/event/mens-breakfast/2030-01-17/
LOCATION:House of Omelet’s\, 900 SW Pine Island Rd\, Cape Coral\, FL\, 33991\, United States
CATEGORIES:Monthly Events & Activities
END:VEVENT
BEGIN:VEVENT
DTSTART;VALUE=DATE:20300206
DTEND;VALUE=DATE:20300207
DTSTAMP:20260423T112742
CREATED:20260330T201338Z
LAST-MODIFIED:20260330T201341Z
UID:10005778-1896566400-1896652799@capecoralnewresident.com
SUMMARY:Sunset with Friends
DESCRIPTION:
URL:https://capecoralnewresident.com/event/sunset-with-friends-2/2030-02-06/
LOCATION:Four Freedoms Park\, 4818 Tarpon Court\, Cape Coral\, FL\, 33904\, United States
CATEGORIES:Monthly Events & Activities
ATTACH;FMTTYPE=image/jpeg:https://capecoralnewresident.com/wp-content/uploads/2024/02/Four-Freedoms.jpg
END:VEVENT
BEGIN:VEVENT
DTSTART;VALUE=DATE:20300211
DTEND;VALUE=DATE:20300212
DTSTAMP:20260423T112742
CREATED:20240301T030226Z
LAST-MODIFIED:20240301T030226Z
UID:10005709-1896998400-1897084799@capecoralnewresident.com
SUMMARY:Cocktails on the Cape
DESCRIPTION:
URL:https://capecoralnewresident.com/event/cocktails-on-the-cape-4/2030-02-11/
LOCATION:FL
CATEGORIES:Monthly Events & Activities
END:VEVENT
END:VCALENDAR