BEGIN:VCALENDAR
VERSION:2.0
PRODID:-//New Resident Club of Cape Coral - ECPv6.15.20//NONSGML v1.0//EN
CALSCALE:GREGORIAN
METHOD:PUBLISH
X-WR-CALNAME:New Resident Club of Cape Coral
X-ORIGINAL-URL:https://capecoralnewresident.com
X-WR-CALDESC:Events for New Resident Club of Cape Coral
REFRESH-INTERVAL;VALUE=DURATION:PT1H
X-Robots-Tag:noindex
X-PUBLISHED-TTL:PT1H
BEGIN:VTIMEZONE
TZID:America/New_York
BEGIN:DAYLIGHT
TZOFFSETFROM:-0500
TZOFFSETTO:-0400
TZNAME:EDT
DTSTART:20290311T070000
END:DAYLIGHT
BEGIN:STANDARD
TZOFFSETFROM:-0400
TZOFFSETTO:-0500
TZNAME:EST
DTSTART:20291104T060000
END:STANDARD
BEGIN:DAYLIGHT
TZOFFSETFROM:-0500
TZOFFSETTO:-0400
TZNAME:EDT
DTSTART:20300310T070000
END:DAYLIGHT
BEGIN:STANDARD
TZOFFSETFROM:-0400
TZOFFSETTO:-0500
TZNAME:EST
DTSTART:20301103T060000
END:STANDARD
BEGIN:DAYLIGHT
TZOFFSETFROM:-0500
TZOFFSETTO:-0400
TZNAME:EDT
DTSTART:20310309T070000
END:DAYLIGHT
BEGIN:STANDARD
TZOFFSETFROM:-0400
TZOFFSETTO:-0500
TZNAME:EST
DTSTART:20311102T060000
END:STANDARD
BEGIN:DAYLIGHT
TZOFFSETFROM:-0500
TZOFFSETTO:-0400
TZNAME:EDT
DTSTART:20320314T070000
END:DAYLIGHT
BEGIN:STANDARD
TZOFFSETFROM:-0400
TZOFFSETTO:-0500
TZNAME:EST
DTSTART:20321107T060000
END:STANDARD
END:VTIMEZONE
BEGIN:VEVENT
DTSTART;VALUE=DATE:20300807
DTEND;VALUE=DATE:20300808
DTSTAMP:20260423T113351
CREATED:20260330T201338Z
LAST-MODIFIED:20260330T201341Z
UID:10005784-1912291200-1912377599@capecoralnewresident.com
SUMMARY:Sunset with Friends
DESCRIPTION:
URL:https://capecoralnewresident.com/event/sunset-with-friends-2/2030-08-07/
LOCATION:Four Freedoms Park\, 4818 Tarpon Court\, Cape Coral\, FL\, 33904\, United States
CATEGORIES:Monthly Events & Activities
ATTACH;FMTTYPE=image/jpeg:https://capecoralnewresident.com/wp-content/uploads/2024/02/Four-Freedoms.jpg
END:VEVENT
BEGIN:VEVENT
DTSTART;VALUE=DATE:20300812
DTEND;VALUE=DATE:20300813
DTSTAMP:20260423T113351
CREATED:20240301T030226Z
LAST-MODIFIED:20240301T030226Z
UID:10005802-1912723200-1912809599@capecoralnewresident.com
SUMMARY:Cocktails on the Cape
DESCRIPTION:
URL:https://capecoralnewresident.com/event/cocktails-on-the-cape-4/2030-08-12/
CATEGORIES:Monthly Events & Activities
END:VEVENT
BEGIN:VEVENT
DTSTART;VALUE=DATE:20300815
DTEND;VALUE=DATE:20300816
DTSTAMP:20260423T113351
CREATED:20240420T195816Z
LAST-MODIFIED:20240420T195831Z
UID:10005795-1912982400-1913068799@capecoralnewresident.com
SUMMARY:Ladies Luncheon
DESCRIPTION:
URL:https://capecoralnewresident.com/event/monthly-ladies-luncheon/2030-08-15/
CATEGORIES:Monthly Events & Activities
END:VEVENT
BEGIN:VEVENT
DTSTART;TZID=America/New_York:20300815T090000
DTEND;TZID=America/New_York:20300815T110000
DTSTAMP:20260423T113351
CREATED:20231217T185244Z
LAST-MODIFIED:20260405T203320Z
UID:10006102-1913014800-1913022000@capecoralnewresident.com
SUMMARY:Men's Breakfast
DESCRIPTION:Men’s Breakfast\n\nThird Thursday 9am House of Omelet’s 900 SW Pine Island Rd \nThe Men’s Breakfast is a long standing tradition of the NRC & provides an opportunity for a hearty meal among friends. \nNo Sign-Up required. Select from menu & pay individually. \n 
URL:https://capecoralnewresident.com/event/mens-breakfast/2030-08-15/
LOCATION:House of Omelet’s\, 900 SW Pine Island Rd\, Cape Coral\, FL\, 33991\, United States
CATEGORIES:Monthly Events & Activities
END:VEVENT
BEGIN:VEVENT
DTSTART;VALUE=DATE:20300904
DTEND;VALUE=DATE:20300905
DTSTAMP:20260423T113351
CREATED:20260330T201338Z
LAST-MODIFIED:20260330T201341Z
UID:10005852-1914710400-1914796799@capecoralnewresident.com
SUMMARY:Sunset with Friends
DESCRIPTION:
URL:https://capecoralnewresident.com/event/sunset-with-friends-2/2030-09-04/
LOCATION:Four Freedoms Park\, 4818 Tarpon Court\, Cape Coral\, FL\, 33904\, United States
CATEGORIES:Monthly Events & Activities
ATTACH;FMTTYPE=image/jpeg:https://capecoralnewresident.com/wp-content/uploads/2024/02/Four-Freedoms.jpg
END:VEVENT
BEGIN:VEVENT
DTSTART;VALUE=DATE:20300909
DTEND;VALUE=DATE:20300910
DTSTAMP:20260423T113351
CREATED:20240301T030226Z
LAST-MODIFIED:20240301T030226Z
UID:10005803-1915142400-1915228799@capecoralnewresident.com
SUMMARY:Cocktails on the Cape
DESCRIPTION:
URL:https://capecoralnewresident.com/event/cocktails-on-the-cape-4/2030-09-09/
CATEGORIES:Monthly Events & Activities
END:VEVENT
BEGIN:VEVENT
DTSTART;VALUE=DATE:20300919
DTEND;VALUE=DATE:20300920
DTSTAMP:20260423T113351
CREATED:20240420T195816Z
LAST-MODIFIED:20240420T195831Z
UID:10005796-1916006400-1916092799@capecoralnewresident.com
SUMMARY:Ladies Luncheon
DESCRIPTION:
URL:https://capecoralnewresident.com/event/monthly-ladies-luncheon/2030-09-19/
CATEGORIES:Monthly Events & Activities
END:VEVENT
BEGIN:VEVENT
DTSTART;TZID=America/New_York:20300919T090000
DTEND;TZID=America/New_York:20300919T110000
DTSTAMP:20260423T113351
CREATED:20231217T185244Z
LAST-MODIFIED:20260405T203320Z
UID:10006103-1916038800-1916046000@capecoralnewresident.com
SUMMARY:Men's Breakfast
DESCRIPTION:Men’s Breakfast\n\nThird Thursday 9am House of Omelet’s 900 SW Pine Island Rd \nThe Men’s Breakfast is a long standing tradition of the NRC & provides an opportunity for a hearty meal among friends. \nNo Sign-Up required. Select from menu & pay individually. \n 
URL:https://capecoralnewresident.com/event/mens-breakfast/2030-09-19/
LOCATION:House of Omelet’s\, 900 SW Pine Island Rd\, Cape Coral\, FL\, 33991\, United States
CATEGORIES:Monthly Events & Activities
END:VEVENT
BEGIN:VEVENT
DTSTART;VALUE=DATE:20301002
DTEND;VALUE=DATE:20301003
DTSTAMP:20260423T113351
CREATED:20260330T201338Z
LAST-MODIFIED:20260330T201341Z
UID:10005853-1917129600-1917215999@capecoralnewresident.com
SUMMARY:Sunset with Friends
DESCRIPTION:
URL:https://capecoralnewresident.com/event/sunset-with-friends-2/2030-10-02/
LOCATION:Four Freedoms Park\, 4818 Tarpon Court\, Cape Coral\, FL\, 33904\, United States
CATEGORIES:Monthly Events & Activities
ATTACH;FMTTYPE=image/jpeg:https://capecoralnewresident.com/wp-content/uploads/2024/02/Four-Freedoms.jpg
END:VEVENT
BEGIN:VEVENT
DTSTART;VALUE=DATE:20301014
DTEND;VALUE=DATE:20301015
DTSTAMP:20260423T113351
CREATED:20240301T030226Z
LAST-MODIFIED:20240301T030226Z
UID:10005804-1918166400-1918252799@capecoralnewresident.com
SUMMARY:Cocktails on the Cape
DESCRIPTION:
URL:https://capecoralnewresident.com/event/cocktails-on-the-cape-4/2030-10-14/
CATEGORIES:Monthly Events & Activities
END:VEVENT
BEGIN:VEVENT
DTSTART;VALUE=DATE:20301017
DTEND;VALUE=DATE:20301018
DTSTAMP:20260423T113351
CREATED:20240420T195816Z
LAST-MODIFIED:20240420T195831Z
UID:10005797-1918425600-1918511999@capecoralnewresident.com
SUMMARY:Ladies Luncheon
DESCRIPTION:
URL:https://capecoralnewresident.com/event/monthly-ladies-luncheon/2030-10-17/
CATEGORIES:Monthly Events & Activities
END:VEVENT
BEGIN:VEVENT
DTSTART;TZID=America/New_York:20301017T090000
DTEND;TZID=America/New_York:20301017T110000
DTSTAMP:20260423T113351
CREATED:20231217T185244Z
LAST-MODIFIED:20260405T203320Z
UID:10006104-1918458000-1918465200@capecoralnewresident.com
SUMMARY:Men's Breakfast
DESCRIPTION:Men’s Breakfast\n\nThird Thursday 9am House of Omelet’s 900 SW Pine Island Rd \nThe Men’s Breakfast is a long standing tradition of the NRC & provides an opportunity for a hearty meal among friends. \nNo Sign-Up required. Select from menu & pay individually. \n 
URL:https://capecoralnewresident.com/event/mens-breakfast/2030-10-17/
LOCATION:House of Omelet’s\, 900 SW Pine Island Rd\, Cape Coral\, FL\, 33991\, United States
CATEGORIES:Monthly Events & Activities
END:VEVENT
BEGIN:VEVENT
DTSTART;VALUE=DATE:20301106
DTEND;VALUE=DATE:20301107
DTSTAMP:20260423T113351
CREATED:20260330T201338Z
LAST-MODIFIED:20260330T201341Z
UID:10005854-1920153600-1920239999@capecoralnewresident.com
SUMMARY:Sunset with Friends
DESCRIPTION:
URL:https://capecoralnewresident.com/event/sunset-with-friends-2/2030-11-06/
LOCATION:Four Freedoms Park\, 4818 Tarpon Court\, Cape Coral\, FL\, 33904\, United States
CATEGORIES:Monthly Events & Activities
ATTACH;FMTTYPE=image/jpeg:https://capecoralnewresident.com/wp-content/uploads/2024/02/Four-Freedoms.jpg
END:VEVENT
BEGIN:VEVENT
DTSTART;VALUE=DATE:20301111
DTEND;VALUE=DATE:20301112
DTSTAMP:20260423T113351
CREATED:20240301T030226Z
LAST-MODIFIED:20240301T030226Z
UID:10005832-1920585600-1920671999@capecoralnewresident.com
SUMMARY:Cocktails on the Cape
DESCRIPTION:
URL:https://capecoralnewresident.com/event/cocktails-on-the-cape-4/2030-11-11/
CATEGORIES:Monthly Events & Activities
END:VEVENT
BEGIN:VEVENT
DTSTART;VALUE=DATE:20301121
DTEND;VALUE=DATE:20301122
DTSTAMP:20260423T113351
CREATED:20240420T195816Z
LAST-MODIFIED:20240420T195831Z
UID:10005826-1921449600-1921535999@capecoralnewresident.com
SUMMARY:Ladies Luncheon
DESCRIPTION:
URL:https://capecoralnewresident.com/event/monthly-ladies-luncheon/2030-11-21/
CATEGORIES:Monthly Events & Activities
END:VEVENT
BEGIN:VEVENT
DTSTART;TZID=America/New_York:20301121T090000
DTEND;TZID=America/New_York:20301121T110000
DTSTAMP:20260423T113351
CREATED:20231217T185244Z
LAST-MODIFIED:20260405T203320Z
UID:10006105-1921482000-1921489200@capecoralnewresident.com
SUMMARY:Men's Breakfast
DESCRIPTION:Men’s Breakfast\n\nThird Thursday 9am House of Omelet’s 900 SW Pine Island Rd \nThe Men’s Breakfast is a long standing tradition of the NRC & provides an opportunity for a hearty meal among friends. \nNo Sign-Up required. Select from menu & pay individually. \n 
URL:https://capecoralnewresident.com/event/mens-breakfast/2030-11-21/
LOCATION:House of Omelet’s\, 900 SW Pine Island Rd\, Cape Coral\, FL\, 33991\, United States
CATEGORIES:Monthly Events & Activities
END:VEVENT
BEGIN:VEVENT
DTSTART;VALUE=DATE:20301204
DTEND;VALUE=DATE:20301205
DTSTAMP:20260423T113351
CREATED:20260330T201338Z
LAST-MODIFIED:20260330T201341Z
UID:10005855-1922572800-1922659199@capecoralnewresident.com
SUMMARY:Sunset with Friends
DESCRIPTION:
URL:https://capecoralnewresident.com/event/sunset-with-friends-2/2030-12-04/
LOCATION:Four Freedoms Park\, 4818 Tarpon Court\, Cape Coral\, FL\, 33904\, United States
CATEGORIES:Monthly Events & Activities
ATTACH;FMTTYPE=image/jpeg:https://capecoralnewresident.com/wp-content/uploads/2024/02/Four-Freedoms.jpg
END:VEVENT
BEGIN:VEVENT
DTSTART;VALUE=DATE:20301209
DTEND;VALUE=DATE:20301210
DTSTAMP:20260423T113351
CREATED:20240301T030226Z
LAST-MODIFIED:20240301T030226Z
UID:10005833-1923004800-1923091199@capecoralnewresident.com
SUMMARY:Cocktails on the Cape
DESCRIPTION:
URL:https://capecoralnewresident.com/event/cocktails-on-the-cape-4/2030-12-09/
CATEGORIES:Monthly Events & Activities
END:VEVENT
BEGIN:VEVENT
DTSTART;VALUE=DATE:20301219
DTEND;VALUE=DATE:20301220
DTSTAMP:20260423T113351
CREATED:20240420T195816Z
LAST-MODIFIED:20240420T195831Z
UID:10005827-1923868800-1923955199@capecoralnewresident.com
SUMMARY:Ladies Luncheon
DESCRIPTION:
URL:https://capecoralnewresident.com/event/monthly-ladies-luncheon/2030-12-19/
CATEGORIES:Monthly Events & Activities
END:VEVENT
BEGIN:VEVENT
DTSTART;TZID=America/New_York:20301219T090000
DTEND;TZID=America/New_York:20301219T110000
DTSTAMP:20260423T113351
CREATED:20231217T185244Z
LAST-MODIFIED:20260405T203320Z
UID:10006106-1923901200-1923908400@capecoralnewresident.com
SUMMARY:Men's Breakfast
DESCRIPTION:Men’s Breakfast\n\nThird Thursday 9am House of Omelet’s 900 SW Pine Island Rd \nThe Men’s Breakfast is a long standing tradition of the NRC & provides an opportunity for a hearty meal among friends. \nNo Sign-Up required. Select from menu & pay individually. \n 
URL:https://capecoralnewresident.com/event/mens-breakfast/2030-12-19/
LOCATION:House of Omelet’s\, 900 SW Pine Island Rd\, Cape Coral\, FL\, 33991\, United States
CATEGORIES:Monthly Events & Activities
END:VEVENT
BEGIN:VEVENT
DTSTART;VALUE=DATE:20310101
DTEND;VALUE=DATE:20310102
DTSTAMP:20260423T113351
CREATED:20260330T201338Z
LAST-MODIFIED:20260330T201341Z
UID:10005856-1924992000-1925078399@capecoralnewresident.com
SUMMARY:Sunset with Friends
DESCRIPTION:
URL:https://capecoralnewresident.com/event/sunset-with-friends-2/2031-01-01/
LOCATION:Four Freedoms Park\, 4818 Tarpon Court\, Cape Coral\, FL\, 33904\, United States
CATEGORIES:Monthly Events & Activities
ATTACH;FMTTYPE=image/jpeg:https://capecoralnewresident.com/wp-content/uploads/2024/02/Four-Freedoms.jpg
END:VEVENT
BEGIN:VEVENT
DTSTART;VALUE=DATE:20310113
DTEND;VALUE=DATE:20310114
DTSTAMP:20260423T113351
CREATED:20240301T030226Z
LAST-MODIFIED:20240301T030226Z
UID:10005834-1926028800-1926115199@capecoralnewresident.com
SUMMARY:Cocktails on the Cape
DESCRIPTION:
URL:https://capecoralnewresident.com/event/cocktails-on-the-cape-4/2031-01-13/
CATEGORIES:Monthly Events & Activities
END:VEVENT
BEGIN:VEVENT
DTSTART;VALUE=DATE:20310116
DTEND;VALUE=DATE:20310117
DTSTAMP:20260423T113351
CREATED:20240420T195816Z
LAST-MODIFIED:20240420T195831Z
UID:10005843-1926288000-1926374399@capecoralnewresident.com
SUMMARY:Ladies Luncheon
DESCRIPTION:
URL:https://capecoralnewresident.com/event/monthly-ladies-luncheon/2031-01-16/
CATEGORIES:Monthly Events & Activities
END:VEVENT
BEGIN:VEVENT
DTSTART;TZID=America/New_York:20310116T090000
DTEND;TZID=America/New_York:20310116T110000
DTSTAMP:20260423T113351
CREATED:20231217T185244Z
LAST-MODIFIED:20260405T203320Z
UID:10006107-1926320400-1926327600@capecoralnewresident.com
SUMMARY:Men's Breakfast
DESCRIPTION:Men’s Breakfast\n\nThird Thursday 9am House of Omelet’s 900 SW Pine Island Rd \nThe Men’s Breakfast is a long standing tradition of the NRC & provides an opportunity for a hearty meal among friends. \nNo Sign-Up required. Select from menu & pay individually. \n 
URL:https://capecoralnewresident.com/event/mens-breakfast/2031-01-16/
LOCATION:House of Omelet’s\, 900 SW Pine Island Rd\, Cape Coral\, FL\, 33991\, United States
CATEGORIES:Monthly Events & Activities
END:VEVENT
BEGIN:VEVENT
DTSTART;VALUE=DATE:20310205
DTEND;VALUE=DATE:20310206
DTSTAMP:20260423T113351
CREATED:20260330T201338Z
LAST-MODIFIED:20260330T201341Z
UID:10005857-1928016000-1928102399@capecoralnewresident.com
SUMMARY:Sunset with Friends
DESCRIPTION:
URL:https://capecoralnewresident.com/event/sunset-with-friends-2/2031-02-05/
LOCATION:Four Freedoms Park\, 4818 Tarpon Court\, Cape Coral\, FL\, 33904\, United States
CATEGORIES:Monthly Events & Activities
ATTACH;FMTTYPE=image/jpeg:https://capecoralnewresident.com/wp-content/uploads/2024/02/Four-Freedoms.jpg
END:VEVENT
BEGIN:VEVENT
DTSTART;VALUE=DATE:20310210
DTEND;VALUE=DATE:20310211
DTSTAMP:20260423T113351
CREATED:20240301T030226Z
LAST-MODIFIED:20240301T030226Z
UID:10005838-1928448000-1928534399@capecoralnewresident.com
SUMMARY:Cocktails on the Cape
DESCRIPTION:
URL:https://capecoralnewresident.com/event/cocktails-on-the-cape-4/2031-02-10/
CATEGORIES:Monthly Events & Activities
END:VEVENT
BEGIN:VEVENT
DTSTART;VALUE=DATE:20310220
DTEND;VALUE=DATE:20310221
DTSTAMP:20260423T113351
CREATED:20240420T195816Z
LAST-MODIFIED:20240420T195831Z
UID:10005844-1929312000-1929398399@capecoralnewresident.com
SUMMARY:Ladies Luncheon
DESCRIPTION:
URL:https://capecoralnewresident.com/event/monthly-ladies-luncheon/2031-02-20/
CATEGORIES:Monthly Events & Activities
END:VEVENT
BEGIN:VEVENT
DTSTART;TZID=America/New_York:20310220T090000
DTEND;TZID=America/New_York:20310220T110000
DTSTAMP:20260423T113351
CREATED:20231217T185244Z
LAST-MODIFIED:20260405T203320Z
UID:10006108-1929344400-1929351600@capecoralnewresident.com
SUMMARY:Men's Breakfast
DESCRIPTION:Men’s Breakfast\n\nThird Thursday 9am House of Omelet’s 900 SW Pine Island Rd \nThe Men’s Breakfast is a long standing tradition of the NRC & provides an opportunity for a hearty meal among friends. \nNo Sign-Up required. Select from menu & pay individually. \n 
URL:https://capecoralnewresident.com/event/mens-breakfast/2031-02-20/
LOCATION:House of Omelet’s\, 900 SW Pine Island Rd\, Cape Coral\, FL\, 33991\, United States
CATEGORIES:Monthly Events & Activities
END:VEVENT
BEGIN:VEVENT
DTSTART;VALUE=DATE:20310305
DTEND;VALUE=DATE:20310306
DTSTAMP:20260423T113351
CREATED:20260330T201338Z
LAST-MODIFIED:20260330T201341Z
UID:10005858-1930435200-1930521599@capecoralnewresident.com
SUMMARY:Sunset with Friends
DESCRIPTION:
URL:https://capecoralnewresident.com/event/sunset-with-friends-2/2031-03-05/
LOCATION:Four Freedoms Park\, 4818 Tarpon Court\, Cape Coral\, FL\, 33904\, United States
CATEGORIES:Monthly Events & Activities
ATTACH;FMTTYPE=image/jpeg:https://capecoralnewresident.com/wp-content/uploads/2024/02/Four-Freedoms.jpg
END:VEVENT
BEGIN:VEVENT
DTSTART;TZID=America/New_York:20310320T090000
DTEND;TZID=America/New_York:20310320T110000
DTSTAMP:20260423T113351
CREATED:20231217T185244Z
LAST-MODIFIED:20260405T203320Z
UID:10006109-1931763600-1931770800@capecoralnewresident.com
SUMMARY:Men's Breakfast
DESCRIPTION:Men’s Breakfast\n\nThird Thursday 9am House of Omelet’s 900 SW Pine Island Rd \nThe Men’s Breakfast is a long standing tradition of the NRC & provides an opportunity for a hearty meal among friends. \nNo Sign-Up required. Select from menu & pay individually. \n 
URL:https://capecoralnewresident.com/event/mens-breakfast/2031-03-20/
LOCATION:House of Omelet’s\, 900 SW Pine Island Rd\, Cape Coral\, FL\, 33991\, United States
CATEGORIES:Monthly Events & Activities
END:VEVENT
END:VCALENDAR