BEGIN:VCALENDAR
VERSION:2.0
PRODID:-//New Resident Club of Cape Coral - ECPv6.15.20//NONSGML v1.0//EN
CALSCALE:GREGORIAN
METHOD:PUBLISH
X-ORIGINAL-URL:https://capecoralnewresident.com
X-WR-CALDESC:Events for New Resident Club of Cape Coral
REFRESH-INTERVAL;VALUE=DURATION:PT1H
X-Robots-Tag:noindex
X-PUBLISHED-TTL:PT1H
BEGIN:VTIMEZONE
TZID:America/New_York
BEGIN:DAYLIGHT
TZOFFSETFROM:-0500
TZOFFSETTO:-0400
TZNAME:EDT
DTSTART:20290311T070000
END:DAYLIGHT
BEGIN:STANDARD
TZOFFSETFROM:-0400
TZOFFSETTO:-0500
TZNAME:EST
DTSTART:20291104T060000
END:STANDARD
BEGIN:DAYLIGHT
TZOFFSETFROM:-0500
TZOFFSETTO:-0400
TZNAME:EDT
DTSTART:20300310T070000
END:DAYLIGHT
BEGIN:STANDARD
TZOFFSETFROM:-0400
TZOFFSETTO:-0500
TZNAME:EST
DTSTART:20301103T060000
END:STANDARD
BEGIN:DAYLIGHT
TZOFFSETFROM:-0500
TZOFFSETTO:-0400
TZNAME:EDT
DTSTART:20310309T070000
END:DAYLIGHT
BEGIN:STANDARD
TZOFFSETFROM:-0400
TZOFFSETTO:-0500
TZNAME:EST
DTSTART:20311102T060000
END:STANDARD
END:VTIMEZONE
BEGIN:VEVENT
DTSTART;VALUE=DATE:20300311
DTEND;VALUE=DATE:20300312
DTSTAMP:20260423T144552
CREATED:20240301T030226Z
LAST-MODIFIED:20240301T030226Z
UID:10005710-1899417600-1899503999@capecoralnewresident.com
SUMMARY:Cocktails on the Cape
DESCRIPTION:
URL:https://capecoralnewresident.com/event/cocktails-on-the-cape-4/2030-03-11/
CATEGORIES:Monthly Events & Activities
END:VEVENT
BEGIN:VEVENT
DTSTART;VALUE=DATE:20300321
DTEND;VALUE=DATE:20300322
DTSTAMP:20260423T144552
CREATED:20240420T195816Z
LAST-MODIFIED:20240420T195831Z
UID:10005712-1900281600-1900367999@capecoralnewresident.com
SUMMARY:Ladies Luncheon
DESCRIPTION:
URL:https://capecoralnewresident.com/event/monthly-ladies-luncheon/2030-03-21/
CATEGORIES:Monthly Events & Activities
END:VEVENT
BEGIN:VEVENT
DTSTART;TZID=America/New_York:20300321T090000
DTEND;TZID=America/New_York:20300321T110000
DTSTAMP:20260423T144552
CREATED:20231217T185244Z
LAST-MODIFIED:20260405T203320Z
UID:10006097-1900314000-1900321200@capecoralnewresident.com
SUMMARY:Men's Breakfast
DESCRIPTION:Men’s Breakfast\n\nThird Thursday 9am House of Omelet’s 900 SW Pine Island Rd \nThe Men’s Breakfast is a long standing tradition of the NRC & provides an opportunity for a hearty meal among friends. \nNo Sign-Up required. Select from menu & pay individually. \n 
URL:https://capecoralnewresident.com/event/mens-breakfast/2030-03-21/
LOCATION:House of Omelet’s\, 900 SW Pine Island Rd\, Cape Coral\, FL\, 33991\, United States
CATEGORIES:Monthly Events & Activities
END:VEVENT
BEGIN:VEVENT
DTSTART;VALUE=DATE:20300403
DTEND;VALUE=DATE:20300404
DTSTAMP:20260423T144553
CREATED:20260330T201338Z
LAST-MODIFIED:20260330T201341Z
UID:10005780-1901404800-1901491199@capecoralnewresident.com
SUMMARY:Sunset with Friends
DESCRIPTION:
URL:https://capecoralnewresident.com/event/sunset-with-friends-2/2030-04-03/
LOCATION:Four Freedoms Park\, 4818 Tarpon Court\, Cape Coral\, FL\, 33904\, United States
CATEGORIES:Monthly Events & Activities
ATTACH;FMTTYPE=image/jpeg:https://capecoralnewresident.com/wp-content/uploads/2024/02/Four-Freedoms.jpg
END:VEVENT
BEGIN:VEVENT
DTSTART;VALUE=DATE:20300408
DTEND;VALUE=DATE:20300409
DTSTAMP:20260423T144553
CREATED:20240301T030226Z
LAST-MODIFIED:20240301T030226Z
UID:10005716-1901836800-1901923199@capecoralnewresident.com
SUMMARY:Cocktails on the Cape
DESCRIPTION:
URL:https://capecoralnewresident.com/event/cocktails-on-the-cape-4/2030-04-08/
CATEGORIES:Monthly Events & Activities
END:VEVENT
BEGIN:VEVENT
DTSTART;VALUE=DATE:20300418
DTEND;VALUE=DATE:20300419
DTSTAMP:20260423T144553
CREATED:20240420T195816Z
LAST-MODIFIED:20240420T195831Z
UID:10005719-1902700800-1902787199@capecoralnewresident.com
SUMMARY:Ladies Luncheon
DESCRIPTION:
URL:https://capecoralnewresident.com/event/monthly-ladies-luncheon/2030-04-18/
CATEGORIES:Monthly Events & Activities
END:VEVENT
BEGIN:VEVENT
DTSTART;TZID=America/New_York:20300418T090000
DTEND;TZID=America/New_York:20300418T110000
DTSTAMP:20260423T144553
CREATED:20231217T185244Z
LAST-MODIFIED:20260405T203320Z
UID:10006098-1902733200-1902740400@capecoralnewresident.com
SUMMARY:Men's Breakfast
DESCRIPTION:Men’s Breakfast\n\nThird Thursday 9am House of Omelet’s 900 SW Pine Island Rd \nThe Men’s Breakfast is a long standing tradition of the NRC & provides an opportunity for a hearty meal among friends. \nNo Sign-Up required. Select from menu & pay individually. \n 
URL:https://capecoralnewresident.com/event/mens-breakfast/2030-04-18/
LOCATION:House of Omelet’s\, 900 SW Pine Island Rd\, Cape Coral\, FL\, 33991\, United States
CATEGORIES:Monthly Events & Activities
END:VEVENT
BEGIN:VEVENT
DTSTART;VALUE=DATE:20300501
DTEND;VALUE=DATE:20300502
DTSTAMP:20260423T144553
CREATED:20260330T201338Z
LAST-MODIFIED:20260330T201341Z
UID:10005781-1903824000-1903910399@capecoralnewresident.com
SUMMARY:Sunset with Friends
DESCRIPTION:
URL:https://capecoralnewresident.com/event/sunset-with-friends-2/2030-05-01/
LOCATION:Four Freedoms Park\, 4818 Tarpon Court\, Cape Coral\, FL\, 33904\, United States
CATEGORIES:Monthly Events & Activities
ATTACH;FMTTYPE=image/jpeg:https://capecoralnewresident.com/wp-content/uploads/2024/02/Four-Freedoms.jpg
END:VEVENT
BEGIN:VEVENT
DTSTART;VALUE=DATE:20300513
DTEND;VALUE=DATE:20300514
DTSTAMP:20260423T144553
CREATED:20240301T030226Z
LAST-MODIFIED:20240301T030226Z
UID:10005722-1904860800-1904947199@capecoralnewresident.com
SUMMARY:Cocktails on the Cape
DESCRIPTION:
URL:https://capecoralnewresident.com/event/cocktails-on-the-cape-4/2030-05-13/
CATEGORIES:Monthly Events & Activities
END:VEVENT
BEGIN:VEVENT
DTSTART;VALUE=DATE:20300516
DTEND;VALUE=DATE:20300517
DTSTAMP:20260423T144553
CREATED:20240420T195816Z
LAST-MODIFIED:20240420T195831Z
UID:10005744-1905120000-1905206399@capecoralnewresident.com
SUMMARY:Ladies Luncheon
DESCRIPTION:
URL:https://capecoralnewresident.com/event/monthly-ladies-luncheon/2030-05-16/
CATEGORIES:Monthly Events & Activities
END:VEVENT
BEGIN:VEVENT
DTSTART;TZID=America/New_York:20300516T090000
DTEND;TZID=America/New_York:20300516T110000
DTSTAMP:20260423T144553
CREATED:20231217T185244Z
LAST-MODIFIED:20260405T203320Z
UID:10006099-1905152400-1905159600@capecoralnewresident.com
SUMMARY:Men's Breakfast
DESCRIPTION:Men’s Breakfast\n\nThird Thursday 9am House of Omelet’s 900 SW Pine Island Rd \nThe Men’s Breakfast is a long standing tradition of the NRC & provides an opportunity for a hearty meal among friends. \nNo Sign-Up required. Select from menu & pay individually. \n 
URL:https://capecoralnewresident.com/event/mens-breakfast/2030-05-16/
LOCATION:House of Omelet’s\, 900 SW Pine Island Rd\, Cape Coral\, FL\, 33991\, United States
CATEGORIES:Monthly Events & Activities
END:VEVENT
BEGIN:VEVENT
DTSTART;VALUE=DATE:20300605
DTEND;VALUE=DATE:20300606
DTSTAMP:20260423T144553
CREATED:20260330T201338Z
LAST-MODIFIED:20260330T201341Z
UID:10005782-1906848000-1906934399@capecoralnewresident.com
SUMMARY:Sunset with Friends
DESCRIPTION:
URL:https://capecoralnewresident.com/event/sunset-with-friends-2/2030-06-05/
LOCATION:Four Freedoms Park\, 4818 Tarpon Court\, Cape Coral\, FL\, 33904\, United States
CATEGORIES:Monthly Events & Activities
ATTACH;FMTTYPE=image/jpeg:https://capecoralnewresident.com/wp-content/uploads/2024/02/Four-Freedoms.jpg
END:VEVENT
BEGIN:VEVENT
DTSTART;VALUE=DATE:20300610
DTEND;VALUE=DATE:20300611
DTSTAMP:20260423T144553
CREATED:20240301T030226Z
LAST-MODIFIED:20240301T030226Z
UID:10005800-1907280000-1907366399@capecoralnewresident.com
SUMMARY:Cocktails on the Cape
DESCRIPTION:
URL:https://capecoralnewresident.com/event/cocktails-on-the-cape-4/2030-06-10/
CATEGORIES:Monthly Events & Activities
END:VEVENT
BEGIN:VEVENT
DTSTART;VALUE=DATE:20300620
DTEND;VALUE=DATE:20300621
DTSTAMP:20260423T144553
CREATED:20240420T195816Z
LAST-MODIFIED:20240420T195831Z
UID:10005793-1908144000-1908230399@capecoralnewresident.com
SUMMARY:Ladies Luncheon
DESCRIPTION:
URL:https://capecoralnewresident.com/event/monthly-ladies-luncheon/2030-06-20/
CATEGORIES:Monthly Events & Activities
END:VEVENT
BEGIN:VEVENT
DTSTART;TZID=America/New_York:20300620T090000
DTEND;TZID=America/New_York:20300620T110000
DTSTAMP:20260423T144553
CREATED:20231217T185244Z
LAST-MODIFIED:20260405T203320Z
UID:10006100-1908176400-1908183600@capecoralnewresident.com
SUMMARY:Men's Breakfast
DESCRIPTION:Men’s Breakfast\n\nThird Thursday 9am House of Omelet’s 900 SW Pine Island Rd \nThe Men’s Breakfast is a long standing tradition of the NRC & provides an opportunity for a hearty meal among friends. \nNo Sign-Up required. Select from menu & pay individually. \n 
URL:https://capecoralnewresident.com/event/mens-breakfast/2030-06-20/
LOCATION:House of Omelet’s\, 900 SW Pine Island Rd\, Cape Coral\, FL\, 33991\, United States
CATEGORIES:Monthly Events & Activities
END:VEVENT
BEGIN:VEVENT
DTSTART;VALUE=DATE:20300703
DTEND;VALUE=DATE:20300704
DTSTAMP:20260423T144553
CREATED:20260330T201338Z
LAST-MODIFIED:20260330T201341Z
UID:10005783-1909267200-1909353599@capecoralnewresident.com
SUMMARY:Sunset with Friends
DESCRIPTION:
URL:https://capecoralnewresident.com/event/sunset-with-friends-2/2030-07-03/
LOCATION:Four Freedoms Park\, 4818 Tarpon Court\, Cape Coral\, FL\, 33904\, United States
CATEGORIES:Monthly Events & Activities
ATTACH;FMTTYPE=image/jpeg:https://capecoralnewresident.com/wp-content/uploads/2024/02/Four-Freedoms.jpg
END:VEVENT
BEGIN:VEVENT
DTSTART;VALUE=DATE:20300708
DTEND;VALUE=DATE:20300709
DTSTAMP:20260423T144553
CREATED:20240301T030226Z
LAST-MODIFIED:20240301T030226Z
UID:10005801-1909699200-1909785599@capecoralnewresident.com
SUMMARY:Cocktails on the Cape
DESCRIPTION:
URL:https://capecoralnewresident.com/event/cocktails-on-the-cape-4/2030-07-08/
CATEGORIES:Monthly Events & Activities
END:VEVENT
BEGIN:VEVENT
DTSTART;VALUE=DATE:20300718
DTEND;VALUE=DATE:20300719
DTSTAMP:20260423T144553
CREATED:20240420T195816Z
LAST-MODIFIED:20240420T195831Z
UID:10005794-1910563200-1910649599@capecoralnewresident.com
SUMMARY:Ladies Luncheon
DESCRIPTION:
URL:https://capecoralnewresident.com/event/monthly-ladies-luncheon/2030-07-18/
CATEGORIES:Monthly Events & Activities
END:VEVENT
BEGIN:VEVENT
DTSTART;TZID=America/New_York:20300718T090000
DTEND;TZID=America/New_York:20300718T110000
DTSTAMP:20260423T144553
CREATED:20231217T185244Z
LAST-MODIFIED:20260405T203320Z
UID:10006101-1910595600-1910602800@capecoralnewresident.com
SUMMARY:Men's Breakfast
DESCRIPTION:Men’s Breakfast\n\nThird Thursday 9am House of Omelet’s 900 SW Pine Island Rd \nThe Men’s Breakfast is a long standing tradition of the NRC & provides an opportunity for a hearty meal among friends. \nNo Sign-Up required. Select from menu & pay individually. \n 
URL:https://capecoralnewresident.com/event/mens-breakfast/2030-07-18/
LOCATION:House of Omelet’s\, 900 SW Pine Island Rd\, Cape Coral\, FL\, 33991\, United States
CATEGORIES:Monthly Events & Activities
END:VEVENT
BEGIN:VEVENT
DTSTART;VALUE=DATE:20300807
DTEND;VALUE=DATE:20300808
DTSTAMP:20260423T144553
CREATED:20260330T201338Z
LAST-MODIFIED:20260330T201341Z
UID:10005784-1912291200-1912377599@capecoralnewresident.com
SUMMARY:Sunset with Friends
DESCRIPTION:
URL:https://capecoralnewresident.com/event/sunset-with-friends-2/2030-08-07/
LOCATION:Four Freedoms Park\, 4818 Tarpon Court\, Cape Coral\, FL\, 33904\, United States
CATEGORIES:Monthly Events & Activities
ATTACH;FMTTYPE=image/jpeg:https://capecoralnewresident.com/wp-content/uploads/2024/02/Four-Freedoms.jpg
END:VEVENT
BEGIN:VEVENT
DTSTART;VALUE=DATE:20300812
DTEND;VALUE=DATE:20300813
DTSTAMP:20260423T144553
CREATED:20240301T030226Z
LAST-MODIFIED:20240301T030226Z
UID:10005802-1912723200-1912809599@capecoralnewresident.com
SUMMARY:Cocktails on the Cape
DESCRIPTION:
URL:https://capecoralnewresident.com/event/cocktails-on-the-cape-4/2030-08-12/
CATEGORIES:Monthly Events & Activities
END:VEVENT
BEGIN:VEVENT
DTSTART;VALUE=DATE:20300815
DTEND;VALUE=DATE:20300816
DTSTAMP:20260423T144553
CREATED:20240420T195816Z
LAST-MODIFIED:20240420T195831Z
UID:10005795-1912982400-1913068799@capecoralnewresident.com
SUMMARY:Ladies Luncheon
DESCRIPTION:
URL:https://capecoralnewresident.com/event/monthly-ladies-luncheon/2030-08-15/
CATEGORIES:Monthly Events & Activities
END:VEVENT
BEGIN:VEVENT
DTSTART;TZID=America/New_York:20300815T090000
DTEND;TZID=America/New_York:20300815T110000
DTSTAMP:20260423T144553
CREATED:20231217T185244Z
LAST-MODIFIED:20260405T203320Z
UID:10006102-1913014800-1913022000@capecoralnewresident.com
SUMMARY:Men's Breakfast
DESCRIPTION:Men’s Breakfast\n\nThird Thursday 9am House of Omelet’s 900 SW Pine Island Rd \nThe Men’s Breakfast is a long standing tradition of the NRC & provides an opportunity for a hearty meal among friends. \nNo Sign-Up required. Select from menu & pay individually. \n 
URL:https://capecoralnewresident.com/event/mens-breakfast/2030-08-15/
LOCATION:House of Omelet’s\, 900 SW Pine Island Rd\, Cape Coral\, FL\, 33991\, United States
CATEGORIES:Monthly Events & Activities
END:VEVENT
BEGIN:VEVENT
DTSTART;VALUE=DATE:20300904
DTEND;VALUE=DATE:20300905
DTSTAMP:20260423T144553
CREATED:20260330T201338Z
LAST-MODIFIED:20260330T201341Z
UID:10005852-1914710400-1914796799@capecoralnewresident.com
SUMMARY:Sunset with Friends
DESCRIPTION:
URL:https://capecoralnewresident.com/event/sunset-with-friends-2/2030-09-04/
LOCATION:Four Freedoms Park\, 4818 Tarpon Court\, Cape Coral\, FL\, 33904\, United States
CATEGORIES:Monthly Events & Activities
ATTACH;FMTTYPE=image/jpeg:https://capecoralnewresident.com/wp-content/uploads/2024/02/Four-Freedoms.jpg
END:VEVENT
BEGIN:VEVENT
DTSTART;VALUE=DATE:20300909
DTEND;VALUE=DATE:20300910
DTSTAMP:20260423T144553
CREATED:20240301T030226Z
LAST-MODIFIED:20240301T030226Z
UID:10005803-1915142400-1915228799@capecoralnewresident.com
SUMMARY:Cocktails on the Cape
DESCRIPTION:
URL:https://capecoralnewresident.com/event/cocktails-on-the-cape-4/2030-09-09/
CATEGORIES:Monthly Events & Activities
END:VEVENT
BEGIN:VEVENT
DTSTART;VALUE=DATE:20300919
DTEND;VALUE=DATE:20300920
DTSTAMP:20260423T144553
CREATED:20240420T195816Z
LAST-MODIFIED:20240420T195831Z
UID:10005796-1916006400-1916092799@capecoralnewresident.com
SUMMARY:Ladies Luncheon
DESCRIPTION:
URL:https://capecoralnewresident.com/event/monthly-ladies-luncheon/2030-09-19/
CATEGORIES:Monthly Events & Activities
END:VEVENT
BEGIN:VEVENT
DTSTART;TZID=America/New_York:20300919T090000
DTEND;TZID=America/New_York:20300919T110000
DTSTAMP:20260423T144553
CREATED:20231217T185244Z
LAST-MODIFIED:20260405T203320Z
UID:10006103-1916038800-1916046000@capecoralnewresident.com
SUMMARY:Men's Breakfast
DESCRIPTION:Men’s Breakfast\n\nThird Thursday 9am House of Omelet’s 900 SW Pine Island Rd \nThe Men’s Breakfast is a long standing tradition of the NRC & provides an opportunity for a hearty meal among friends. \nNo Sign-Up required. Select from menu & pay individually. \n 
URL:https://capecoralnewresident.com/event/mens-breakfast/2030-09-19/
LOCATION:House of Omelet’s\, 900 SW Pine Island Rd\, Cape Coral\, FL\, 33991\, United States
CATEGORIES:Monthly Events & Activities
END:VEVENT
BEGIN:VEVENT
DTSTART;VALUE=DATE:20301002
DTEND;VALUE=DATE:20301003
DTSTAMP:20260423T144553
CREATED:20260330T201338Z
LAST-MODIFIED:20260330T201341Z
UID:10005853-1917129600-1917215999@capecoralnewresident.com
SUMMARY:Sunset with Friends
DESCRIPTION:
URL:https://capecoralnewresident.com/event/sunset-with-friends-2/2030-10-02/
LOCATION:Four Freedoms Park\, 4818 Tarpon Court\, Cape Coral\, FL\, 33904\, United States
CATEGORIES:Monthly Events & Activities
ATTACH;FMTTYPE=image/jpeg:https://capecoralnewresident.com/wp-content/uploads/2024/02/Four-Freedoms.jpg
END:VEVENT
BEGIN:VEVENT
DTSTART;VALUE=DATE:20301014
DTEND;VALUE=DATE:20301015
DTSTAMP:20260423T144553
CREATED:20240301T030226Z
LAST-MODIFIED:20240301T030226Z
UID:10005804-1918166400-1918252799@capecoralnewresident.com
SUMMARY:Cocktails on the Cape
DESCRIPTION:
URL:https://capecoralnewresident.com/event/cocktails-on-the-cape-4/2030-10-14/
CATEGORIES:Monthly Events & Activities
END:VEVENT
BEGIN:VEVENT
DTSTART;VALUE=DATE:20301017
DTEND;VALUE=DATE:20301018
DTSTAMP:20260423T144553
CREATED:20240420T195816Z
LAST-MODIFIED:20240420T195831Z
UID:10005797-1918425600-1918511999@capecoralnewresident.com
SUMMARY:Ladies Luncheon
DESCRIPTION:
URL:https://capecoralnewresident.com/event/monthly-ladies-luncheon/2030-10-17/
CATEGORIES:Monthly Events & Activities
END:VEVENT
END:VCALENDAR