BEGIN:VCALENDAR
VERSION:2.0
PRODID:-//New Resident Club of Cape Coral - ECPv6.15.20//NONSGML v1.0//EN
CALSCALE:GREGORIAN
METHOD:PUBLISH
X-WR-CALNAME:New Resident Club of Cape Coral
X-ORIGINAL-URL:https://capecoralnewresident.com
X-WR-CALDESC:Events for New Resident Club of Cape Coral
REFRESH-INTERVAL;VALUE=DURATION:PT1H
X-Robots-Tag:noindex
X-PUBLISHED-TTL:PT1H
BEGIN:VTIMEZONE
TZID:America/New_York
BEGIN:DAYLIGHT
TZOFFSETFROM:-0500
TZOFFSETTO:-0400
TZNAME:EDT
DTSTART:20230312T070000
END:DAYLIGHT
BEGIN:STANDARD
TZOFFSETFROM:-0400
TZOFFSETTO:-0500
TZNAME:EST
DTSTART:20231105T060000
END:STANDARD
BEGIN:DAYLIGHT
TZOFFSETFROM:-0500
TZOFFSETTO:-0400
TZNAME:EDT
DTSTART:20240310T070000
END:DAYLIGHT
BEGIN:STANDARD
TZOFFSETFROM:-0400
TZOFFSETTO:-0500
TZNAME:EST
DTSTART:20241103T060000
END:STANDARD
BEGIN:DAYLIGHT
TZOFFSETFROM:-0500
TZOFFSETTO:-0400
TZNAME:EDT
DTSTART:20250309T070000
END:DAYLIGHT
BEGIN:STANDARD
TZOFFSETFROM:-0400
TZOFFSETTO:-0500
TZNAME:EST
DTSTART:20251102T060000
END:STANDARD
BEGIN:DAYLIGHT
TZOFFSETFROM:-0500
TZOFFSETTO:-0400
TZNAME:EDT
DTSTART:20260308T070000
END:DAYLIGHT
BEGIN:STANDARD
TZOFFSETFROM:-0400
TZOFFSETTO:-0500
TZNAME:EST
DTSTART:20261101T060000
END:STANDARD
END:VTIMEZONE
BEGIN:VEVENT
DTSTART;TZID=America/New_York:20250427T130000
DTEND;TZID=America/New_York:20250427T170000
DTSTAMP:20260423T084812
CREATED:20250228T213708Z
LAST-MODIFIED:20250329T154132Z
UID:10005707-1745758800-1745773200@capecoralnewresident.com
SUMMARY:Potluck in the Park
DESCRIPTION:
URL:https://capecoralnewresident.com/event/potluck-in-the-park/
LOCATION:Veteran’s Park\, 4140 Coronado Pkwy\, Cape Coral\, FL\, 33904\, United States
CATEGORIES:Monthly Events & Activities
ORGANIZER;CN="Rachelle Downey":MAILTO:rachelledowney1968@gmail.com
END:VEVENT
BEGIN:VEVENT
DTSTART;TZID=America/New_York:20250417T113000
DTEND;TZID=America/New_York:20250417T130000
DTSTAMP:20260423T084812
CREATED:20250329T151521Z
LAST-MODIFIED:20250329T152918Z
UID:10005449-1744889400-1744894800@capecoralnewresident.com
SUMMARY:Ladies Luncheon
DESCRIPTION:
URL:https://capecoralnewresident.com/event/ladies-luncheon-11/
LOCATION:J&P Asian Fusion\, 1715 Cape Coral Pkwy W\, Cape Coral\, 33914\, United States
CATEGORIES:Monthly Events & Activities
ATTACH;FMTTYPE=image/png:https://capecoralnewresident.com/wp-content/uploads/2025/03/Ladies-Luncheon-JP-Fusion-April-2025.png
ORGANIZER;CN="Rachelle Downey":MAILTO:rachelledowney1968@gmail.com
END:VEVENT
BEGIN:VEVENT
DTSTART;TZID=America/New_York:20250417T090000
DTEND;TZID=America/New_York:20250417T110000
DTSTAMP:20260423T084812
CREATED:20231217T185244Z
LAST-MODIFIED:20260405T203320Z
UID:10005632-1744880400-1744887600@capecoralnewresident.com
SUMMARY:Men's Breakfast
DESCRIPTION:Men’s Breakfast\n\nThird Thursday 9am House of Omelet’s 900 SW Pine Island Rd \nThe Men’s Breakfast is a long standing tradition of the NRC & provides an opportunity for a hearty meal among friends. \nNo Sign-Up required. Select from menu & pay individually. \n 
URL:https://capecoralnewresident.com/event/mens-breakfast/2025-04-17/
LOCATION:House of Omelet’s\, 900 SW Pine Island Rd\, Cape Coral\, FL\, 33991\, United States
CATEGORIES:Monthly Events & Activities
END:VEVENT
BEGIN:VEVENT
DTSTART;TZID=America/New_York:20250407T170000
DTEND;TZID=America/New_York:20250407T193000
DTSTAMP:20260423T084812
CREATED:20250323T185335Z
LAST-MODIFIED:20250407T145048Z
UID:10005204-1744045200-1744054200@capecoralnewresident.com
SUMMARY:Cocktails on the Cape
DESCRIPTION:
URL:https://capecoralnewresident.com/event/cocktails-on-the-cape-15/
LOCATION:Ginger Bistro\, 2366 Surfside Boulevard\, Cape Coral\, 33991\, United States
CATEGORIES:Monthly Events & Activities
ATTACH;FMTTYPE=image/png:https://capecoralnewresident.com/wp-content/uploads/2025/03/Cocktails-on-the-Cape-April-2025.png
END:VEVENT
BEGIN:VEVENT
DTSTART;TZID=America/New_York:20250403T091500
DTEND;TZID=America/New_York:20250403T103000
DTSTAMP:20260423T084812
CREATED:20241120T191834Z
LAST-MODIFIED:20241120T191939Z
UID:10005623-1743671700-1743676200@capecoralnewresident.com
SUMMARY:General Meeting at the Lake Kennedy Center
DESCRIPTION: \nThis months general meeting will be at 9:15am at the Lake Kennedy Center\, 400 Santa Barbara Blvd. in Cape Coral.\nDoors open 30 minutes prior to meeting start time. Light refreshments are served.\nThere is an opportunity to sign up for membership as well as member events at the General Meeting.\n 
URL:https://capecoralnewresident.com/event/general-meeting-at-the-lake-kennedy-center-14/2025-04-03/
LOCATION:Lake Kennedy Center\, 400 Santa Barbara Blvd.\, Cape Coral\, FL\, 33915\, United States
CATEGORIES:Meeting
ATTACH;FMTTYPE=image/png:https://capecoralnewresident.com/wp-content/uploads/2023/09/meeting-notice-ssbc-e1582041008823.png
END:VEVENT
BEGIN:VEVENT
DTSTART;VALUE=DATE:20250402
DTEND;VALUE=DATE:20250403
DTSTAMP:20260423T084812
CREATED:20240301T015551Z
LAST-MODIFIED:20250813T190119Z
UID:10005083-1743552000-1743638399@capecoralnewresident.com
SUMMARY:Sunset with Friends
DESCRIPTION:
URL:https://capecoralnewresident.com/event/sunset-with-friends/2025-04-02/
LOCATION:Cape Coral Yacht Club Beach\, 5819 Driftwood Pkwy\, Cape Coral\, 33904\, United States
CATEGORIES:Monthly Events & Activities
END:VEVENT
BEGIN:VEVENT
DTSTART;TZID=America/New_York:20250326T170000
DTEND;TZID=America/New_York:20250326T200000
DTSTAMP:20260423T084812
CREATED:20250206T000148Z
LAST-MODIFIED:20250206T000148Z
UID:10005701-1743008400-1743019200@capecoralnewresident.com
SUMMARY:NRC Pottery Event at The Bent Brush
DESCRIPTION:The Bent Brush is reserving the studio for NRC members to channel their creative energy.   \nFees will depend on project chosen on the day of the event. \nPeruse the website in advance: \nHome
URL:https://capecoralnewresident.com/event/nrc-pottery-event-at-the-bent-brush/
LOCATION:The Bent Brush\, 1625 SE 47th Terrace; Unit 4\, Cape Coral\, 33904\, United States
CATEGORIES:Monthly Events & Activities
ATTACH;FMTTYPE=image/png:https://capecoralnewresident.com/wp-content/uploads/2025/02/The-Bent-Brush.png
END:VEVENT
BEGIN:VEVENT
DTSTART;TZID=America/New_York:20250320T110000
DTEND;TZID=America/New_York:20250320T133000
DTSTAMP:20260423T084812
CREATED:20250228T205551Z
LAST-MODIFIED:20250302T164016Z
UID:10005448-1742468400-1742477400@capecoralnewresident.com
SUMMARY:Ladies Luncheon
DESCRIPTION:
URL:https://capecoralnewresident.com/event/ladies-luncheon-10/
LOCATION:United States
CATEGORIES:Monthly Events & Activities
ORGANIZER;CN="Rachelle Downey":MAILTO:rachelledowney1968@gmail.com
END:VEVENT
BEGIN:VEVENT
DTSTART;TZID=America/New_York:20250320T090000
DTEND;TZID=America/New_York:20250320T110000
DTSTAMP:20260423T084812
CREATED:20231217T185244Z
LAST-MODIFIED:20260405T203320Z
UID:10005631-1742461200-1742468400@capecoralnewresident.com
SUMMARY:Men's Breakfast
DESCRIPTION:Men’s Breakfast\n\nThird Thursday 9am House of Omelet’s 900 SW Pine Island Rd \nThe Men’s Breakfast is a long standing tradition of the NRC & provides an opportunity for a hearty meal among friends. \nNo Sign-Up required. Select from menu & pay individually. \n 
URL:https://capecoralnewresident.com/event/mens-breakfast/2025-03-20/
LOCATION:House of Omelet’s\, 900 SW Pine Island Rd\, Cape Coral\, FL\, 33991\, United States
CATEGORIES:Monthly Events & Activities
END:VEVENT
BEGIN:VEVENT
DTSTART;TZID=America/New_York:20250315T130000
DTEND;TZID=America/New_York:20250315T170000
DTSTAMP:20260423T084812
CREATED:20250130T225437Z
LAST-MODIFIED:20250313T160726Z
UID:10005700-1742043600-1742058000@capecoralnewresident.com
SUMMARY:Cape Coral Brew Fest
DESCRIPTION:Ticket includes tasting cup and guaranteed seating in the NRC VIP tent. \nSponsored by the Cape Coral Museum of History \n 
URL:https://capecoralnewresident.com/event/cape-coral-brew-fest/
LOCATION:Cultural Park\, 544 Cultural Park Blvd.\, Cape Coral\, 33990\, United States
CATEGORIES:Monthly Events & Activities
ATTACH;FMTTYPE=image/jpeg:https://capecoralnewresident.com/wp-content/uploads/2025/01/Brew-Fest-2025_NRC-poster.jpg
END:VEVENT
BEGIN:VEVENT
DTSTART;TZID=America/New_York:20250310T170000
DTEND;TZID=America/New_York:20250310T190000
DTSTAMP:20260423T084812
CREATED:20250228T164711Z
LAST-MODIFIED:20250305T203327Z
UID:10005704-1741626000-1741633200@capecoralnewresident.com
SUMMARY:Cocktails on the Cape - March 2025
DESCRIPTION:
URL:https://capecoralnewresident.com/event/cocktails-on-the-cape-march-2025/
LOCATION:Misto Bar & Grill\, 231 Del Prado Blvd S\, Cape Coral\, 33990\, United States
CATEGORIES:Monthly Events & Activities
ATTACH;FMTTYPE=image/png:https://capecoralnewresident.com/wp-content/uploads/2025/02/Cocktails-on-the-Cape-March-2025-1.png
END:VEVENT
BEGIN:VEVENT
DTSTART;VALUE=DATE:20250305
DTEND;VALUE=DATE:20250306
DTSTAMP:20260423T084812
CREATED:20240301T015551Z
LAST-MODIFIED:20250813T190119Z
UID:10005082-1741132800-1741219199@capecoralnewresident.com
SUMMARY:Sunset with Friends
DESCRIPTION:
URL:https://capecoralnewresident.com/event/sunset-with-friends/2025-03-05/
LOCATION:Cape Coral Yacht Club Beach\, 5819 Driftwood Pkwy\, Cape Coral\, 33904\, United States
CATEGORIES:Monthly Events & Activities
END:VEVENT
BEGIN:VEVENT
DTSTART;TZID=America/New_York:20250304T181500
DTEND;TZID=America/New_York:20250304T193000
DTSTAMP:20260423T084813
CREATED:20241120T191203Z
LAST-MODIFIED:20250718T190418Z
UID:10005610-1741112100-1741116600@capecoralnewresident.com
SUMMARY:General Meeting at Cape Cabaret
DESCRIPTION: \n\nThis months general meeting will be at 5:00 pm at the Cape Cabaret at 4725 Vincennes Blvd.\nWe have a room inside for the general meeting\nThere is an opportunity to sign up for membership as well as member events at the General Meeting.\n \n\n 
URL:https://capecoralnewresident.com/event/general-meeting-at-cape-cabaret-13/2025-03-04/
LOCATION:United States
CATEGORIES:Meeting
ATTACH;FMTTYPE=image/png:https://capecoralnewresident.com/wp-content/uploads/2023/09/meeting-notice-ssbc-e1582041008823.png
END:VEVENT
BEGIN:VEVENT
DTSTART;TZID=America/New_York:20250224T180000
DTEND;TZID=America/New_York:20250224T200000
DTSTAMP:20260423T084813
CREATED:20250120T213621Z
LAST-MODIFIED:20250130T190002Z
UID:10005696-1740420000-1740427200@capecoralnewresident.com
SUMMARY:Top Golf Activity
DESCRIPTION:Based on popular demand\, we are set up an evening of Top Golf.  We are starting with three bays (6 people at each) and can increase if there are more that want to attend.
URL:https://capecoralnewresident.com/event/top-golf-activity/
LOCATION:Top Golf\, 2021 Top Golf Way\, Fort Myers\, FL\, 33913\, United States
CATEGORIES:Monthly Events & Activities
ATTACH;FMTTYPE=image/jpeg:https://capecoralnewresident.com/wp-content/uploads/2025/01/Top-Golf-Feb-2025.jpg
ORGANIZER;CN="Linda Rogers":MAILTO:lindajrogers@comcast.net
END:VEVENT
BEGIN:VEVENT
DTSTART;TZID=America/New_York:20250220T113000
DTEND;TZID=America/New_York:20250220T133000
DTSTAMP:20260423T084813
CREATED:20250127T212248Z
LAST-MODIFIED:20250131T225955Z
UID:10005447-1740051000-1740058200@capecoralnewresident.com
SUMMARY:Ladies Luncheon - Elks Lodge
DESCRIPTION:
URL:https://capecoralnewresident.com/event/ladies-luncheon-9/
LOCATION:United States
CATEGORIES:Monthly Events & Activities
ATTACH;FMTTYPE=image/png:https://capecoralnewresident.com/wp-content/uploads/2025/01/Ladies-Luncheon-Goombah-Feb-2025.png
ORGANIZER;CN="Rachelle Downey":MAILTO:rachelledowney1968@gmail.com
END:VEVENT
BEGIN:VEVENT
DTSTART;TZID=America/New_York:20250220T090000
DTEND;TZID=America/New_York:20250220T110000
DTSTAMP:20260423T084813
CREATED:20231217T185244Z
LAST-MODIFIED:20260405T203320Z
UID:10005630-1740042000-1740049200@capecoralnewresident.com
SUMMARY:Men's Breakfast
DESCRIPTION:Men’s Breakfast\n\nThird Thursday 9am House of Omelet’s 900 SW Pine Island Rd \nThe Men’s Breakfast is a long standing tradition of the NRC & provides an opportunity for a hearty meal among friends. \nNo Sign-Up required. Select from menu & pay individually. \n 
URL:https://capecoralnewresident.com/event/mens-breakfast/2025-02-20/
LOCATION:House of Omelet’s\, 900 SW Pine Island Rd\, Cape Coral\, FL\, 33991\, United States
CATEGORIES:Monthly Events & Activities
END:VEVENT
BEGIN:VEVENT
DTSTART;TZID=America/New_York:20250212T193000
DTEND;TZID=America/New_York:20250212T213000
DTSTAMP:20260423T084813
CREATED:20250130T184729Z
LAST-MODIFIED:20250130T184729Z
UID:10005699-1739388600-1739395800@capecoralnewresident.com
SUMMARY:Snappers Comedy Club with RC Smith
DESCRIPTION:RC Smith – improvisational style comedian has been featured on Who Wants to Be a Millionaire \, The Tony Danza Show and others. \n30% off for NRC members using the code RESIDENTS \nObtain tickets at: \nhttps://www.snapperscomedyclub.com/shows/291843
URL:https://capecoralnewresident.com/event/snappers-comedy-club-with-rc-smith/
LOCATION:Snappers Comedy Club\, 8595 College Parkway #270\, Fort Myers\, 33919\, United States
CATEGORIES:Monthly Events & Activities
ATTACH;FMTTYPE=image/png:https://capecoralnewresident.com/wp-content/uploads/2025/01/Snappers-Flyer-002.png
END:VEVENT
BEGIN:VEVENT
DTSTART;TZID=America/New_York:20250210T170000
DTEND;TZID=America/New_York:20250210T200000
DTSTAMP:20260423T084813
CREATED:20250109T213255Z
LAST-MODIFIED:20250131T230049Z
UID:10005202-1739206800-1739217600@capecoralnewresident.com
SUMMARY:Cocktails on the Cape - Aji Limon
DESCRIPTION:
URL:https://capecoralnewresident.com/event/cocktails-on-the-cape-14/
LOCATION:Aji Limone\, 1336 SE 46th Lane\, Cape Coral\, 33903\, United States
CATEGORIES:Monthly Events & Activities
END:VEVENT
BEGIN:VEVENT
DTSTART;TZID=America/New_York:20250206T091500
DTEND;TZID=America/New_York:20250206T103000
DTSTAMP:20260423T084813
CREATED:20241120T191834Z
LAST-MODIFIED:20241120T191939Z
UID:10005622-1738833300-1738837800@capecoralnewresident.com
SUMMARY:General Meeting at the Lake Kennedy Center
DESCRIPTION: \nThis months general meeting will be at 9:15am at the Lake Kennedy Center\, 400 Santa Barbara Blvd. in Cape Coral.\nDoors open 30 minutes prior to meeting start time. Light refreshments are served.\nThere is an opportunity to sign up for membership as well as member events at the General Meeting.\n 
URL:https://capecoralnewresident.com/event/general-meeting-at-the-lake-kennedy-center-14/2025-02-06/
LOCATION:Lake Kennedy Center\, 400 Santa Barbara Blvd.\, Cape Coral\, FL\, 33915\, United States
CATEGORIES:Meeting
ATTACH;FMTTYPE=image/png:https://capecoralnewresident.com/wp-content/uploads/2023/09/meeting-notice-ssbc-e1582041008823.png
END:VEVENT
BEGIN:VEVENT
DTSTART;VALUE=DATE:20250205
DTEND;VALUE=DATE:20250206
DTSTAMP:20260423T084813
CREATED:20240301T015551Z
LAST-MODIFIED:20250813T190119Z
UID:10005081-1738713600-1738799999@capecoralnewresident.com
SUMMARY:Sunset with Friends
DESCRIPTION:
URL:https://capecoralnewresident.com/event/sunset-with-friends/2025-02-05/
LOCATION:Cape Coral Yacht Club Beach\, 5819 Driftwood Pkwy\, Cape Coral\, 33904\, United States
CATEGORIES:Monthly Events & Activities
END:VEVENT
BEGIN:VEVENT
DTSTART;TZID=America/New_York:20250117T184500
DTEND;TZID=America/New_York:20250117T210000
DTSTAMP:20260423T084813
CREATED:20250103T153716Z
LAST-MODIFIED:20250103T153716Z
UID:10005694-1737139500-1737147600@capecoralnewresident.com
SUMMARY:Salty Sam's Pirate Cruise
DESCRIPTION:
URL:https://capecoralnewresident.com/event/salty-sams-pirate-cruise/
LOCATION:Salty Sam’s Pirate Cuise\, 2500 Main St\, Fort Myers\, 33931\, United States
CATEGORIES:Monthly Events & Activities
ATTACH;FMTTYPE=image/jpeg:https://capecoralnewresident.com/wp-content/uploads/2025/01/Salty-Sams-January-2025-1.jpg
END:VEVENT
BEGIN:VEVENT
DTSTART;TZID=America/New_York:20250116T113000
DTEND;TZID=America/New_York:20250116T140000
DTSTAMP:20260423T084813
CREATED:20241227T165644Z
LAST-MODIFIED:20241230T165553Z
UID:10005446-1737027000-1737036000@capecoralnewresident.com
SUMMARY:Ladies Luncheon - Fish Tale Grill
DESCRIPTION:
URL:https://capecoralnewresident.com/event/ladies-luncheon-8/
LOCATION:Merricks Fish Tale Grill\, 1229 SE 47th Terrace\, Cape Coral\, 33904\, United States
CATEGORIES:Monthly Events & Activities
ATTACH;FMTTYPE=image/jpeg:https://capecoralnewresident.com/wp-content/uploads/2024/12/Ladies-Lunch-January-2025-Fish-Tale-Grille.jpg
ORGANIZER;CN="Rachelle Downey":MAILTO:rachelledowney1968@gmail.com
END:VEVENT
BEGIN:VEVENT
DTSTART;TZID=America/New_York:20250116T090000
DTEND;TZID=America/New_York:20250116T110000
DTSTAMP:20260423T084813
CREATED:20231217T185244Z
LAST-MODIFIED:20260405T203320Z
UID:10005629-1737018000-1737025200@capecoralnewresident.com
SUMMARY:Men's Breakfast
DESCRIPTION:Men’s Breakfast\n\nThird Thursday 9am House of Omelet’s 900 SW Pine Island Rd \nThe Men’s Breakfast is a long standing tradition of the NRC & provides an opportunity for a hearty meal among friends. \nNo Sign-Up required. Select from menu & pay individually. \n 
URL:https://capecoralnewresident.com/event/mens-breakfast/2025-01-16/
LOCATION:House of Omelet’s\, 900 SW Pine Island Rd\, Cape Coral\, FL\, 33991\, United States
CATEGORIES:Monthly Events & Activities
END:VEVENT
BEGIN:VEVENT
DTSTART;VALUE=DATE:20250113
DTEND;VALUE=DATE:20250114
DTSTAMP:20260423T084813
CREATED:20241120T172530Z
LAST-MODIFIED:20241120T174805Z
UID:10005201-1736726400-1736812799@capecoralnewresident.com
SUMMARY:Cocktails on the Cape - Mellow Mushroom
DESCRIPTION:
URL:https://capecoralnewresident.com/event/cocktails-on-the-cape-13/
LOCATION:Mellow Mushroom\, 53 NE Pine Island Rd\, Cape Coral\, FL\, 33909
CATEGORIES:Monthly Events & Activities
ATTACH;FMTTYPE=image/jpeg:https://capecoralnewresident.com/wp-content/uploads/2024/11/Cocktails-on-the-Cape-Mellow-Mushroom-January-2025.jpg
END:VEVENT
BEGIN:VEVENT
DTSTART;TZID=America/New_York:20250107T181500
DTEND;TZID=America/New_York:20250107T193000
DTSTAMP:20260423T084813
CREATED:20241223T193545Z
LAST-MODIFIED:20241223T193636Z
UID:10005609-1736273700-1736278200@capecoralnewresident.com
SUMMARY:General Meeting at the Lake Kennedy Center
DESCRIPTION: \n\nThis months general meeting will be at 6:15pm at the Lake Kennedy Center\, 400 Santa Barbara Blvd. in Cape Coral. (This is the 1st evening meeting in consideration of workers.) \n\nDoors open 30 minutes prior to meeting start time. Light refreshments are served.\n \nWrapped gift exchange 1 per person game.  Lets party and have fun!\n \nThere is an opportunity to sign up for membership as well as member events at the General Meeting.\n 
URL:https://capecoralnewresident.com/event/general-meeting-at-the-lake-kennedy-center-13-2/
LOCATION:Lake Kennedy Center\, 400 Santa Barbara Blvd.\, Cape Coral\, FL\, 33915\, United States
CATEGORIES:Meeting
ATTACH;FMTTYPE=image/png:https://capecoralnewresident.com/wp-content/uploads/2023/09/meeting-notice-ssbc-e1582041008823.png
END:VEVENT
BEGIN:VEVENT
DTSTART;VALUE=DATE:20250101
DTEND;VALUE=DATE:20250102
DTSTAMP:20260423T084813
CREATED:20240301T015551Z
LAST-MODIFIED:20250813T190119Z
UID:10005080-1735689600-1735775999@capecoralnewresident.com
SUMMARY:Sunset with Friends
DESCRIPTION:
URL:https://capecoralnewresident.com/event/sunset-with-friends/2025-01-01/
LOCATION:Cape Coral Yacht Club Beach\, 5819 Driftwood Pkwy\, Cape Coral\, 33904\, United States
CATEGORIES:Monthly Events & Activities
END:VEVENT
BEGIN:VEVENT
DTSTART;TZID=America/New_York:20241219T090000
DTEND;TZID=America/New_York:20241219T110000
DTSTAMP:20260423T084813
CREATED:20231217T185244Z
LAST-MODIFIED:20260405T203320Z
UID:10005628-1734598800-1734606000@capecoralnewresident.com
SUMMARY:Men's Breakfast
DESCRIPTION:Men’s Breakfast\n\nThird Thursday 9am House of Omelet’s 900 SW Pine Island Rd \nThe Men’s Breakfast is a long standing tradition of the NRC & provides an opportunity for a hearty meal among friends. \nNo Sign-Up required. Select from menu & pay individually. \n 
URL:https://capecoralnewresident.com/event/mens-breakfast/2024-12-19/
LOCATION:House of Omelet’s\, 900 SW Pine Island Rd\, Cape Coral\, FL\, 33991\, United States
CATEGORIES:Monthly Events & Activities
END:VEVENT
BEGIN:VEVENT
DTSTART;TZID=America/New_York:20241212T173000
DTEND;TZID=America/New_York:20241212T213000
DTSTAMP:20260423T084813
CREATED:20240927T212312Z
LAST-MODIFIED:20241126T174637Z
UID:10005596-1734024600-1734039000@capecoralnewresident.com
SUMMARY:Holiday Magic Dinner Dance & Silent Auction
DESCRIPTION:**A waiting list will be started once the 225 tickets are sold**
URL:https://capecoralnewresident.com/event/save-the-date-nrc-holiday-dance/
LOCATION:La Venezia Ballroom\, 4646 SE 10th Pl\, Cape Coral\, 33904\, United States
CATEGORIES:Monthly Events & Activities
ATTACH;FMTTYPE=image/jpeg:https://capecoralnewresident.com/wp-content/uploads/2024/09/December-2024-Dinner-Dance-Flyer1.jpg
END:VEVENT
BEGIN:VEVENT
DTSTART;TZID=America/New_York:20241209T113000
DTEND;TZID=America/New_York:20241209T140000
DTSTAMP:20260423T084813
CREATED:20241024T224340Z
LAST-MODIFIED:20241202T054340Z
UID:10005445-1733743800-1733752800@capecoralnewresident.com
SUMMARY:Ladies Luncheon - Misto Bar & Grill
DESCRIPTION:
URL:https://capecoralnewresident.com/event/ladies-luncheon-7/
LOCATION:Misto Bar & Grill\, 231 Del Prado Blvd S\, Cape Coral\, 33990\, United States
CATEGORIES:Monthly Events & Activities
ATTACH;FMTTYPE=image/jpeg:https://capecoralnewresident.com/wp-content/uploads/2024/10/Ladies-Lunch-December-2024-Misto-1.jpg
ORGANIZER;CN="Rachelle Downey":MAILTO:rachelledowney1968@gmail.com
END:VEVENT
BEGIN:VEVENT
DTSTART;TZID=America/New_York:20241205T090000
DTEND;TZID=America/New_York:20241205T103000
DTSTAMP:20260423T084813
CREATED:20231216T190352Z
LAST-MODIFIED:20241209T180520Z
UID:10005033-1733389200-1733394600@capecoralnewresident.com
SUMMARY:General Meeting at the Lake Kennedy Center
DESCRIPTION: \nOur next general meeting is at the Lake Kennedy Center\, 400 Santa Barbara Blvd. in Cape Coral. Light refreshments are served prior to meeting start time of 9:15am. There is an opportunity to sign up for membership as well as member events at the General Meeting.\n\n\nOur speaker is Bibi Cruz from the Lee Count Library System to talk about the upcoming Reading Festival in March and all the lead in events the Library has planned.  Bibi is a Senior Librarian and the Adult Programming Coordinator for the Lee County Library System.  With over eight years of dedicated service\, Bibi has been instrumental in expanding community access to lifelong learning and valuable resources.  She combines her expertise in Business Administration and Hospitality Management with a people-centered approach\, enhancing the library for patrons across Lee County. \n\n\n 
URL:https://capecoralnewresident.com/event/general-meeting-at-the-lake-kennedy-center-12/
LOCATION:Lake Kennedy Center\, 400 Santa Barbara Blvd.\, Cape Coral\, FL\, 33915\, United States
CATEGORIES:Meeting
ATTACH;FMTTYPE=image/png:https://capecoralnewresident.com/wp-content/uploads/2023/09/meeting-notice-ssbc-e1582041008823.png
END:VEVENT
END:VCALENDAR