BEGIN:VCALENDAR
VERSION:2.0
PRODID:-//New Resident Club of Cape Coral - ECPv6.15.20//NONSGML v1.0//EN
CALSCALE:GREGORIAN
METHOD:PUBLISH
X-WR-CALNAME:New Resident Club of Cape Coral
X-ORIGINAL-URL:https://capecoralnewresident.com
X-WR-CALDESC:Events for New Resident Club of Cape Coral
REFRESH-INTERVAL;VALUE=DURATION:PT1H
X-Robots-Tag:noindex
X-PUBLISHED-TTL:PT1H
BEGIN:VTIMEZONE
TZID:America/New_York
BEGIN:DAYLIGHT
TZOFFSETFROM:-0500
TZOFFSETTO:-0400
TZNAME:EDT
DTSTART:20230312T070000
END:DAYLIGHT
BEGIN:STANDARD
TZOFFSETFROM:-0400
TZOFFSETTO:-0500
TZNAME:EST
DTSTART:20231105T060000
END:STANDARD
BEGIN:DAYLIGHT
TZOFFSETFROM:-0500
TZOFFSETTO:-0400
TZNAME:EDT
DTSTART:20240310T070000
END:DAYLIGHT
BEGIN:STANDARD
TZOFFSETFROM:-0400
TZOFFSETTO:-0500
TZNAME:EST
DTSTART:20241103T060000
END:STANDARD
BEGIN:DAYLIGHT
TZOFFSETFROM:-0500
TZOFFSETTO:-0400
TZNAME:EDT
DTSTART:20250309T070000
END:DAYLIGHT
BEGIN:STANDARD
TZOFFSETFROM:-0400
TZOFFSETTO:-0500
TZNAME:EST
DTSTART:20251102T060000
END:STANDARD
END:VTIMEZONE
BEGIN:VEVENT
DTSTART;TZID=America/New_York:20241219T090000
DTEND;TZID=America/New_York:20241219T110000
DTSTAMP:20260423T075257
CREATED:20231217T185244Z
LAST-MODIFIED:20260405T203320Z
UID:10005628-1734598800-1734606000@capecoralnewresident.com
SUMMARY:Men's Breakfast
DESCRIPTION:Men’s Breakfast\n\nThird Thursday 9am House of Omelet’s 900 SW Pine Island Rd \nThe Men’s Breakfast is a long standing tradition of the NRC & provides an opportunity for a hearty meal among friends. \nNo Sign-Up required. Select from menu & pay individually. \n 
URL:https://capecoralnewresident.com/event/mens-breakfast/2024-12-19/
LOCATION:House of Omelet’s\, 900 SW Pine Island Rd\, Cape Coral\, FL\, 33991\, United States
CATEGORIES:Monthly Events & Activities
END:VEVENT
BEGIN:VEVENT
DTSTART;TZID=America/New_York:20241212T173000
DTEND;TZID=America/New_York:20241212T213000
DTSTAMP:20260423T075257
CREATED:20240927T212312Z
LAST-MODIFIED:20241126T174637Z
UID:10005596-1734024600-1734039000@capecoralnewresident.com
SUMMARY:Holiday Magic Dinner Dance & Silent Auction
DESCRIPTION:**A waiting list will be started once the 225 tickets are sold**
URL:https://capecoralnewresident.com/event/save-the-date-nrc-holiday-dance/
LOCATION:La Venezia Ballroom\, 4646 SE 10th Pl\, Cape Coral\, 33904\, United States
CATEGORIES:Monthly Events & Activities
ATTACH;FMTTYPE=image/jpeg:https://capecoralnewresident.com/wp-content/uploads/2024/09/December-2024-Dinner-Dance-Flyer1.jpg
END:VEVENT
BEGIN:VEVENT
DTSTART;TZID=America/New_York:20241209T113000
DTEND;TZID=America/New_York:20241209T140000
DTSTAMP:20260423T075257
CREATED:20241024T224340Z
LAST-MODIFIED:20241202T054340Z
UID:10005445-1733743800-1733752800@capecoralnewresident.com
SUMMARY:Ladies Luncheon - Misto Bar & Grill
DESCRIPTION:
URL:https://capecoralnewresident.com/event/ladies-luncheon-7/
LOCATION:Misto Bar & Grill\, 231 Del Prado Blvd S\, Cape Coral\, 33990\, United States
CATEGORIES:Monthly Events & Activities
ATTACH;FMTTYPE=image/jpeg:https://capecoralnewresident.com/wp-content/uploads/2024/10/Ladies-Lunch-December-2024-Misto-1.jpg
ORGANIZER;CN="Rachelle Downey":MAILTO:rachelledowney1968@gmail.com
END:VEVENT
BEGIN:VEVENT
DTSTART;TZID=America/New_York:20241205T090000
DTEND;TZID=America/New_York:20241205T103000
DTSTAMP:20260423T075257
CREATED:20231216T190352Z
LAST-MODIFIED:20241209T180520Z
UID:10005033-1733389200-1733394600@capecoralnewresident.com
SUMMARY:General Meeting at the Lake Kennedy Center
DESCRIPTION: \nOur next general meeting is at the Lake Kennedy Center\, 400 Santa Barbara Blvd. in Cape Coral. Light refreshments are served prior to meeting start time of 9:15am. There is an opportunity to sign up for membership as well as member events at the General Meeting.\n\n\nOur speaker is Bibi Cruz from the Lee Count Library System to talk about the upcoming Reading Festival in March and all the lead in events the Library has planned.  Bibi is a Senior Librarian and the Adult Programming Coordinator for the Lee County Library System.  With over eight years of dedicated service\, Bibi has been instrumental in expanding community access to lifelong learning and valuable resources.  She combines her expertise in Business Administration and Hospitality Management with a people-centered approach\, enhancing the library for patrons across Lee County. \n\n\n 
URL:https://capecoralnewresident.com/event/general-meeting-at-the-lake-kennedy-center-12/
LOCATION:Lake Kennedy Center\, 400 Santa Barbara Blvd.\, Cape Coral\, FL\, 33915\, United States
CATEGORIES:Meeting
ATTACH;FMTTYPE=image/png:https://capecoralnewresident.com/wp-content/uploads/2023/09/meeting-notice-ssbc-e1582041008823.png
END:VEVENT
BEGIN:VEVENT
DTSTART;VALUE=DATE:20241204
DTEND;VALUE=DATE:20241205
DTSTAMP:20260423T075257
CREATED:20240301T015551Z
LAST-MODIFIED:20250813T190119Z
UID:10005079-1733270400-1733356799@capecoralnewresident.com
SUMMARY:Sunset with Friends
DESCRIPTION:
URL:https://capecoralnewresident.com/event/sunset-with-friends/2024-12-04/
LOCATION:Cape Coral Yacht Club Beach\, 5819 Driftwood Pkwy\, Cape Coral\, 33904\, United States
CATEGORIES:Monthly Events & Activities
END:VEVENT
BEGIN:VEVENT
DTSTART;TZID=America/New_York:20241121T090000
DTEND;TZID=America/New_York:20241121T110000
DTSTAMP:20260423T075257
CREATED:20231217T185244Z
LAST-MODIFIED:20260405T203320Z
UID:10005051-1732179600-1732186800@capecoralnewresident.com
SUMMARY:Men's Breakfast
DESCRIPTION:Men’s Breakfast\n\nThird Thursday 9am House of Omelet’s 900 SW Pine Island Rd \nThe Men’s Breakfast is a long standing tradition of the NRC & provides an opportunity for a hearty meal among friends. \nNo Sign-Up required. Select from menu & pay individually. \n 
URL:https://capecoralnewresident.com/event/mens-breakfast/2024-11-21/
LOCATION:House of Omelet’s\, 900 SW Pine Island Rd\, Cape Coral\, FL\, 33991\, United States
CATEGORIES:Monthly Events & Activities
END:VEVENT
BEGIN:VEVENT
DTSTART;VALUE=DATE:20241121
DTEND;VALUE=DATE:20241122
DTSTAMP:20260423T075257
CREATED:20240927T213500Z
LAST-MODIFIED:20241028T181259Z
UID:10005444-1732147200-1732233599@capecoralnewresident.com
SUMMARY:Ladies Luncheon - Hurricane Grill & Wings
DESCRIPTION:
URL:https://capecoralnewresident.com/event/ladies-luncheon-6/
LOCATION:Hurricane Grill & Wings\, 756 SW Pine Island Rd\, Cape Coral\, 33991\, United States
CATEGORIES:Monthly Events & Activities
ATTACH;FMTTYPE=image/jpeg:https://capecoralnewresident.com/wp-content/uploads/2024/09/Ladies-Luncheon-Hurricanes-November-2024.jpg
ORGANIZER;CN="Rachelle Downey":MAILTO:rachelledowney1968@gmail.com
END:VEVENT
BEGIN:VEVENT
DTSTART;TZID=America/New_York:20241115T183000
DTEND;TZID=America/New_York:20241115T210000
DTSTAMP:20260423T075257
CREATED:20240826T011137Z
LAST-MODIFIED:20241024T194430Z
UID:10005593-1731695400-1731704400@capecoralnewresident.com
SUMMARY:Rescheduled: MURDER IN VEGAS MURDER MYSTERY DINNER
DESCRIPTION:Join in the fun solving the MURDER IN VEGAS\, as Pelvis Presley performs live. \n$55 per person Only 24 seats available \nTHIS IS A DINNER SHOW \nRESERVATIONS ARE REQUIRED….. RSVP Directly through Ashley @ Lake Kennedy Center 239-574-0575 \nPurchase now thru sell out. \n 
URL:https://capecoralnewresident.com/event/murder-in-vegas-murder-mystery-dinner/
LOCATION:Lake Kennedy Center\, 400 Santa Barbara Blvd.\, Cape Coral\, FL\, 33915\, United States
CATEGORIES:Monthly Events & Activities
ATTACH;FMTTYPE=image/jpeg:https://capecoralnewresident.com/wp-content/uploads/2024/08/Murder-in-Vegas-at-LKC.jpg
END:VEVENT
BEGIN:VEVENT
DTSTART;TZID=America/New_York:20241112T170000
DTEND;TZID=America/New_York:20241112T210000
DTSTAMP:20260423T075257
CREATED:20231021T183558Z
LAST-MODIFIED:20240628T211902Z
UID:10005003-1731430800-1731445200@capecoralnewresident.com
SUMMARY:New Member Social (By Invitation Only)
DESCRIPTION:New Member Social\n— By Invitation Only — \nRSVP Opens Nov 7-11 \nNew Member Social is dinner and drinks held by invitation only to our newest members.  \nThe event is hosted by our Hospitality Board Chair and conducted by the 1st Vice President; additional Board members may also attend. This meeting provides an orientation to the history and structure of the NRC with information on signing up for activities\, and\, if enough new members have signed up\, they will form a group during the evening by choosing a name\, selecting a Group Leader\, Group Reporter and a committee to create the group table mascot and logo. \nThe first pot luck of the group is scheduled with a volunteer host.   This is usually the first activity a new member attends kicking off getting to know one another. \nIf you have questions or need more information contact info@capecoralnewresident.com
URL:https://capecoralnewresident.com/event/new-member-social-by-invitation-only-11/
CATEGORIES:Monthly Events & Activities
ATTACH;FMTTYPE=image/png:https://capecoralnewresident.com/wp-content/uploads/2024/06/New-Members-Social.png
END:VEVENT
BEGIN:VEVENT
DTSTART;TZID=America/New_York:20241111T170000
DTEND;TZID=America/New_York:20241111T203000
DTSTAMP:20260423T075257
CREATED:20240825T233747Z
LAST-MODIFIED:20241024T203357Z
UID:10005199-1731344400-1731357000@capecoralnewresident.com
SUMMARY:Cocktails on the Cape - Hooked Island Grill
DESCRIPTION:
URL:https://capecoralnewresident.com/event/cocktails-on-the-cape-12/
CATEGORIES:Monthly Events & Activities
ATTACH;FMTTYPE=image/jpeg:https://capecoralnewresident.com/wp-content/uploads/2024/08/Cocktails-on-the-Cape-Hooked-November-2024.jpg
END:VEVENT
BEGIN:VEVENT
DTSTART;TZID=America/New_York:20241109T110000
DTEND;TZID=America/New_York:20241109T130000
DTSTAMP:20260423T075257
CREATED:20241014T161102Z
LAST-MODIFIED:20241014T161358Z
UID:10005600-1731150000-1731157200@capecoralnewresident.com
SUMMARY:Cape Coral Veterans Day Parade - Volunteers Needed
DESCRIPTION:Event: Cape Coral Veterans Day Parade\nDate: Nov. 9th \nStaging Location – **confirmation of staging area & meeting time will be confirmed week prior to parade**\nParade Time – 11 am- 1pm\nParade Route –  Cape Coral Pkwy \nstarting near Big John’s Plaza to Chester St (5 blocks) \nRSVP – We need a few NRC Members Walkers to hold NRC Banner & hand out NRC advertising flyers. \nOther info: Please wear Patriotic Shirts or if you have NRC apparel\nContact: Darlene Benson darlenebenson13@gmail.com
URL:https://capecoralnewresident.com/event/cape-coral-veterans-day-parade-volunteers-needed/
CATEGORIES:Monthly Events & Activities
ATTACH;FMTTYPE=image/jpeg:https://capecoralnewresident.com/wp-content/uploads/2024/10/Veterans-Day-Parade-November-2024-1.jpg
END:VEVENT
BEGIN:VEVENT
DTSTART;TZID=America/New_York:20241107T090000
DTEND;TZID=America/New_York:20241107T103000
DTSTAMP:20260423T075257
CREATED:20231216T190312Z
LAST-MODIFIED:20241008T154905Z
UID:10005032-1730970000-1730975400@capecoralnewresident.com
SUMMARY:General Meeting at the Lake Kennedy Center
DESCRIPTION: \nOur next general meeting will be November 7th at the Lake Kennedy Center\, 400 Santa Barbara Blvd. in Cape Coral. Light refreshments are served prior to meeting start time of 9:15am. There is an opportunity to sign up for membership as well as member events at the General Meeting.\n 
URL:https://capecoralnewresident.com/event/general-meeting-at-the-lake-kennedy-center-11/
LOCATION:Lake Kennedy Center\, 400 Santa Barbara Blvd.\, Cape Coral\, FL\, 33915\, United States
CATEGORIES:Meeting
ATTACH;FMTTYPE=image/png:https://capecoralnewresident.com/wp-content/uploads/2023/09/meeting-notice-ssbc-e1582041008823.png
END:VEVENT
BEGIN:VEVENT
DTSTART;VALUE=DATE:20241106
DTEND;VALUE=DATE:20241107
DTSTAMP:20260423T075257
CREATED:20240301T015551Z
LAST-MODIFIED:20250813T190119Z
UID:10005078-1730851200-1730937599@capecoralnewresident.com
SUMMARY:Sunset with Friends
DESCRIPTION:
URL:https://capecoralnewresident.com/event/sunset-with-friends/2024-11-06/
LOCATION:Cape Coral Yacht Club Beach\, 5819 Driftwood Pkwy\, Cape Coral\, 33904\, United States
CATEGORIES:Monthly Events & Activities
END:VEVENT
BEGIN:VEVENT
DTSTART;TZID=America/New_York:20241101T170000
DTEND;TZID=America/New_York:20241101T213000
DTSTAMP:20260423T075257
CREATED:20240826T011730Z
LAST-MODIFIED:20240925T214214Z
UID:10005594-1730480400-1730496600@capecoralnewresident.com
SUMMARY:Girl Krush Dance Band
DESCRIPTION:Get your dancing shoes ready for GIRL KRUSH\, this is a popular dance band that plays music from the 80’s & beyond \nThe NRC has reserved 40 seats!\n\nReservations are to be made through NRC website.\n\nDoors Open at 5:00pm.  Show starts at 7:30pm\n$10 minimum food/drink purchase per person required.\n \nEarly Bird: 20% discount regular dinner menu (Specials excluded) 5 to 6pm daily.\nHappy Hour: 50% discount on house wines\, wells\, dom. draft beers 5 to 6pm daily. \nParking: There are two parking lots close-by. One is on the East side of Cape Cabaret & the other is on the West side of Vincennes Blvd. in the next shopping center. Usually\, it is easier to find a space in this lot.
URL:https://capecoralnewresident.com/event/girl-krush-dance-band/
LOCATION:United States
CATEGORIES:Monthly Events & Activities
ATTACH;FMTTYPE=image/jpeg:https://capecoralnewresident.com/wp-content/uploads/2024/08/Girl-Krush.jpg
END:VEVENT
BEGIN:VEVENT
DTSTART;TZID=America/New_York:20241026T160000
DTEND;TZID=America/New_York:20241026T180000
DTSTAMP:20260423T075257
CREATED:20240825T234042Z
LAST-MODIFIED:20241024T193952Z
UID:10005591-1729958400-1729965600@capecoralnewresident.com
SUMMARY:CANCELLED: Carmen's Kayaks @ Knights Landing
DESCRIPTION:This event has been cancelled due to hurricane damages.
URL:https://capecoralnewresident.com/event/carmens-kayaks-knights-landing/
LOCATION:Carmen’s Kayaks\, 16499 Porto Bello St\, Bokeelia\, 33922\, United States
CATEGORIES:Monthly Events & Activities
END:VEVENT
BEGIN:VEVENT
DTSTART;TZID=America/New_York:20241024T113000
DTEND;TZID=America/New_York:20241024T130000
DTSTAMP:20260423T075257
CREATED:20240825T233354Z
LAST-MODIFIED:20240929T180250Z
UID:10005590-1729769400-1729774800@capecoralnewresident.com
SUMMARY:Cape Coral Museum of History Tour
DESCRIPTION:
URL:https://capecoralnewresident.com/event/cape-coral-museum-of-history/
LOCATION:Cape Coral Museum of History\, 544 Cultural Park Blvd\, Cape Coral\, 33990\, United States
CATEGORIES:Monthly Events & Activities
ATTACH;FMTTYPE=image/jpeg:https://capecoralnewresident.com/wp-content/uploads/2024/08/CC-HIstory-Museum-October-2024.jpg
END:VEVENT
BEGIN:VEVENT
DTSTART;TZID=America/New_York:20241019T173000
DTEND;TZID=America/New_York:20241019T213000
DTSTAMP:20260423T075257
CREATED:20240905T231024Z
LAST-MODIFIED:20241012T171843Z
UID:10005595-1729359000-1729373400@capecoralnewresident.com
SUMMARY:CANCELLED: Costume Dinner Dance & Karaoke
DESCRIPTION:Costume Dinner Dance & Karaoke at Lake Kennedy Center (400 Santa Barbara Blvd). \nDress up as your favorite musical artist or celebrity of the past (optional). \nDance and or Karaoke to your favorite songs. \n$39.00 Per Person. BYOB – Bring Your Own Beverage \nMenu Choices (Pick One): \nFried Chicken with Mashed Potatoes and Steamed Corn; or Meatloaf with Mashed Potatoes and Green Beans.  All Dinners include salad and dinner rolls. \nSilent Dessert Auction (provided by Board Members) \nQuestions: Email dance@capecoralnewresident.com \n 
URL:https://capecoralnewresident.com/event/costume-dinner-dance-karaoke/
LOCATION:Lake Kennedy Center\, 400 Santa Barbara Blvd.\, Cape Coral\, FL\, 33915\, United States
CATEGORIES:Monthly Events & Activities
END:VEVENT
BEGIN:VEVENT
DTSTART;TZID=America/New_York:20241017T113000
DTEND;TZID=America/New_York:20241017T133000
DTSTAMP:20260423T075257
CREATED:20240712T164654Z
LAST-MODIFIED:20240925T213424Z
UID:10005443-1729164600-1729171800@capecoralnewresident.com
SUMMARY:Ladies Luncheon - Hooked Island Grill
DESCRIPTION:
URL:https://capecoralnewresident.com/event/monthly-ladies-luncheon-2/
LOCATION:Hooked Island Grill\, SE 47th Terrace\, Cape Coral\, FL\, 33904
CATEGORIES:Monthly Events & Activities
ATTACH;FMTTYPE=image/jpeg:https://capecoralnewresident.com/wp-content/uploads/2024/09/Ladies-Luncheon-Hooked-October-2024.jpg
END:VEVENT
BEGIN:VEVENT
DTSTART;TZID=America/New_York:20241017T090000
DTEND;TZID=America/New_York:20241017T110000
DTSTAMP:20260423T075257
CREATED:20240927T222959Z
LAST-MODIFIED:20240927T222959Z
UID:10005050-1729155600-1729162800@capecoralnewresident.com
SUMMARY:Men's Breakfast
DESCRIPTION:Men’s Breakfast\n\nThird Thursday 9am House of Omelet’s 900 SW Pine Island Rd \nThe Men’s Breakfast is a long standing tradition of the NRC & provides an opportunity for a hearty meal among friends. \nNo Sign-Up required. Select from menu & pay individually. \nFor additional information\, contact your Host Rich Binder rbinder1208@gmail.com 512-971-2408
URL:https://capecoralnewresident.com/event/mens-breakfast-3/
LOCATION:House of Omelet’s\, 900 SW Pine Island Rd\, Cape Coral\, FL\, 33991\, United States
CATEGORIES:Monthly Events & Activities
END:VEVENT
BEGIN:VEVENT
DTSTART;TZID=America/New_York:20241014T080000
DTEND;TZID=America/New_York:20241014T170000
DTSTAMP:20260423T075257
CREATED:20240825T232735Z
LAST-MODIFIED:20241003T004819Z
UID:10005589-1728892800-1728925200@capecoralnewresident.com
SUMMARY:Cape Coral reMade Earring Class
DESCRIPTION:
URL:https://capecoralnewresident.com/event/cape-coral-remade-earring-class/
LOCATION:Cape Coral re:Made\, 1327 Cape Coral Parkway E\, Cape Coral\, 33904\, United States
CATEGORIES:Monthly Events & Activities
ATTACH;FMTTYPE=image/jpeg:https://capecoralnewresident.com/wp-content/uploads/2024/08/Cape-Coral-ReMade-October-2024.jpg
END:VEVENT
BEGIN:VEVENT
DTSTART;VALUE=DATE:20241014
DTEND;VALUE=DATE:20241015
DTSTAMP:20260423T075257
CREATED:20240712T164809Z
LAST-MODIFIED:20241003T004713Z
UID:10005198-1728864000-1728950399@capecoralnewresident.com
SUMMARY:Cocktails on the Cape - Fins
DESCRIPTION:October’s Cocktails on the Cape at Fins Seafood & Dive Bar \nNo fee to attend – food and beverages available to purchase. \nRSVP required through the NRC website or sign-up at the General Meeting. \nOnly 40 seats available – so sign-up early.
URL:https://capecoralnewresident.com/event/cocktails-on-the-cape-11/
LOCATION:Fins Seafood & Dive Bar\, 3422 Del Prado Blvd S\, Cape Coral\, FL\, 33904\, United States
CATEGORIES:Monthly Events & Activities
END:VEVENT
BEGIN:VEVENT
DTSTART;TZID=America/New_York:20241008T170000
DTEND;TZID=America/New_York:20241008T210000
DTSTAMP:20260423T075257
CREATED:20231021T183523Z
LAST-MODIFIED:20240628T211826Z
UID:10005002-1728406800-1728421200@capecoralnewresident.com
SUMMARY:New Member Social (By Invitation Only)
DESCRIPTION:New Member Social\n— By Invitation Only — \nRSVP Opens Oct 3-7 \nNew Member Social is dinner and drinks held by invitation only to our newest members.  \nThe event is hosted by our Hospitality Board Chair and conducted by the 1st Vice President; additional Board members may also attend. This meeting provides an orientation to the history and structure of the NRC with information on signing up for activities\, and\, if enough new members have signed up\, they will form a group during the evening by choosing a name\, selecting a Group Leader\, Group Reporter and a committee to create the group table mascot and logo. \nThe first pot luck of the group is scheduled with a volunteer host.   This is usually the first activity a new member attends kicking off getting to know one another. \nIf you have questions or need more information contact info@capecoralnewresident.com
URL:https://capecoralnewresident.com/event/new-member-social-by-invitation-only-10/
CATEGORIES:Monthly Events & Activities
ATTACH;FMTTYPE=image/png:https://capecoralnewresident.com/wp-content/uploads/2024/06/New-Members-Social.png
END:VEVENT
BEGIN:VEVENT
DTSTART;TZID=America/New_York:20241003T091500
DTEND;TZID=America/New_York:20241003T103000
DTSTAMP:20260423T075257
CREATED:20231216T190144Z
LAST-MODIFIED:20240925T214001Z
UID:10005031-1727946900-1727951400@capecoralnewresident.com
SUMMARY:General Meeting at the Lake Kennedy Center
DESCRIPTION: \nOur next general meeting will be October 3rd at the Lake Kennedy Center\, 400 Santa Barbara Blvd. in Cape Coral.\nOur speaker will be Marc Jacobs\, Fl Licensed Agent giving a 2025 Medicare Update of all the changes. Bring your questions.\n \nThere is an opportunity to sign up for membership at the General Meeting.\n 
URL:https://capecoralnewresident.com/event/general-meeting-at-the-lake-kennedy-center-10/
LOCATION:Lake Kennedy Center\, 400 Santa Barbara Blvd.\, Cape Coral\, FL\, 33915\, United States
CATEGORIES:Meeting
ATTACH;FMTTYPE=image/png:https://capecoralnewresident.com/wp-content/uploads/2023/09/meeting-notice-ssbc-e1582041008823.png
END:VEVENT
BEGIN:VEVENT
DTSTART;VALUE=DATE:20241002
DTEND;VALUE=DATE:20241003
DTSTAMP:20260423T075257
CREATED:20240301T015551Z
LAST-MODIFIED:20250813T190119Z
UID:10005077-1727827200-1727913599@capecoralnewresident.com
SUMMARY:Sunset with Friends
DESCRIPTION:
URL:https://capecoralnewresident.com/event/sunset-with-friends/2024-10-02/
LOCATION:Cape Coral Yacht Club Beach\, 5819 Driftwood Pkwy\, Cape Coral\, 33904\, United States
CATEGORIES:Monthly Events & Activities
END:VEVENT
BEGIN:VEVENT
DTSTART;TZID=America/New_York:20240930T173000
DTEND;TZID=America/New_York:20240930T183000
DTSTAMP:20260423T075257
CREATED:20240708T200018Z
LAST-MODIFIED:20240730T135807Z
UID:10005578-1727717400-1727721000@capecoralnewresident.com
SUMMARY:MOON WREATH (craft project)
DESCRIPTION:  \n 
URL:https://capecoralnewresident.com/event/moon-wreath-craft-project/
LOCATION:Lake Kennedy Center\, 400 Santa Barbara Blvd.\, Cape Coral\, FL\, 33915\, United States
CATEGORIES:Monthly Events & Activities
ATTACH;FMTTYPE=image/png:https://capecoralnewresident.com/wp-content/uploads/2024/07/MOON-WREATH-craft-project-September-2024.png
END:VEVENT
BEGIN:VEVENT
DTSTART;TZID=America/New_York:20240928T100000
DTEND;TZID=America/New_York:20240928T140000
DTSTAMP:20260423T075257
CREATED:20240730T153024Z
LAST-MODIFIED:20240929T180322Z
UID:10005583-1727517600-1727532000@capecoralnewresident.com
SUMMARY:CANCELLED: Presentation of Hurricane Ian Art Piece at the Farmers Market
DESCRIPTION:Mark your Calendars to attend – Details with Time to follow \nSE 47th Terrace &\, SE 10th Pl\, Cape Coral\, FL
URL:https://capecoralnewresident.com/event/presentation-of-hurricane-ian-art-piece-at-the-farmers-market/
CATEGORIES:Monthly Events & Activities
ATTACH;FMTTYPE=image/png:https://capecoralnewresident.com/wp-content/uploads/2024/07/Untitled.png
END:VEVENT
BEGIN:VEVENT
DTSTART;TZID=America/New_York:20240927T174500
DTEND;TZID=America/New_York:20240927T203000
DTSTAMP:20260423T075257
CREATED:20240825T225344Z
LAST-MODIFIED:20240921T231333Z
UID:10005588-1727459100-1727469000@capecoralnewresident.com
SUMMARY:CANCELLED:Salty Sam's Pirate "Adult" Cruise
DESCRIPTION:
URL:https://capecoralnewresident.com/event/salty-sams-pirate-adult-cruise/
LOCATION:Salty Sam’s Pirate Cuise\, 2500 Main St\, Fort Myers\, 33931\, United States
CATEGORIES:Monthly Events & Activities
ATTACH;FMTTYPE=image/jpeg:https://capecoralnewresident.com/wp-content/uploads/2024/08/Salty-Sams-September-2024.jpg
END:VEVENT
BEGIN:VEVENT
DTSTART;TZID=America/New_York:20240920T154500
DTEND;TZID=America/New_York:20240920T210000
DTSTAMP:20260423T075257
CREATED:20240708T195856Z
LAST-MODIFIED:20240730T140300Z
UID:10005577-1726847100-1726866000@capecoralnewresident.com
SUMMARY:Luminary Hotel Tour & Ft. Myers Music Walk
DESCRIPTION:
URL:https://capecoralnewresident.com/event/luminary-hotel-tour-ft-myers-music-walk/
LOCATION:Luminary Hotel\, 2200 Edwards Dr\, Fort Myers\, 33901\, United States
CATEGORIES:Monthly Events & Activities
ATTACH;FMTTYPE=image/png:https://capecoralnewresident.com/wp-content/uploads/2024/07/Luminary-Hotel-Tour-Ft.-Myers-Music-Walk-September-2024.png
END:VEVENT
BEGIN:VEVENT
DTSTART;TZID=America/New_York:20240919T113000
DTEND;TZID=America/New_York:20240919T133000
DTSTAMP:20260423T075257
CREATED:20240712T164518Z
LAST-MODIFIED:20240826T001954Z
UID:10005442-1726745400-1726752600@capecoralnewresident.com
SUMMARY:Ladies Luncheon - Rusty's
DESCRIPTION:
URL:https://capecoralnewresident.com/event/ladies-luncheon-5/
LOCATION:Rusty’s Raw Bar & Grill\, 4631 SE 10th Place\, Cape Coral\, 33904\, United States
CATEGORIES:Monthly Events & Activities
ATTACH;FMTTYPE=image/jpeg:https://capecoralnewresident.com/wp-content/uploads/2024/08/Ladies-Luncheon-Rustys-September-2024.jpg
END:VEVENT
BEGIN:VEVENT
DTSTART;TZID=America/New_York:20240919T090000
DTEND;TZID=America/New_York:20240919T110000
DTSTAMP:20260423T075257
CREATED:20231217T185244Z
LAST-MODIFIED:20260405T203320Z
UID:10005049-1726736400-1726743600@capecoralnewresident.com
SUMMARY:Men's Breakfast
DESCRIPTION:Men’s Breakfast\n\nThird Thursday 9am House of Omelet’s 900 SW Pine Island Rd \nThe Men’s Breakfast is a long standing tradition of the NRC & provides an opportunity for a hearty meal among friends. \nNo Sign-Up required. Select from menu & pay individually. \n 
URL:https://capecoralnewresident.com/event/mens-breakfast/2024-09-19/
LOCATION:House of Omelet’s\, 900 SW Pine Island Rd\, Cape Coral\, FL\, 33991\, United States
CATEGORIES:Monthly Events & Activities
END:VEVENT
END:VCALENDAR