BEGIN:VCALENDAR
VERSION:2.0
PRODID:-//New Resident Club of Cape Coral - ECPv6.15.20//NONSGML v1.0//EN
CALSCALE:GREGORIAN
METHOD:PUBLISH
X-ORIGINAL-URL:https://capecoralnewresident.com
X-WR-CALDESC:Events for New Resident Club of Cape Coral
REFRESH-INTERVAL;VALUE=DURATION:PT1H
X-Robots-Tag:noindex
X-PUBLISHED-TTL:PT1H
BEGIN:VTIMEZONE
TZID:America/New_York
BEGIN:DAYLIGHT
TZOFFSETFROM:-0500
TZOFFSETTO:-0400
TZNAME:EDT
DTSTART:20230312T070000
END:DAYLIGHT
BEGIN:STANDARD
TZOFFSETFROM:-0400
TZOFFSETTO:-0500
TZNAME:EST
DTSTART:20231105T060000
END:STANDARD
BEGIN:DAYLIGHT
TZOFFSETFROM:-0500
TZOFFSETTO:-0400
TZNAME:EDT
DTSTART:20240310T070000
END:DAYLIGHT
BEGIN:STANDARD
TZOFFSETFROM:-0400
TZOFFSETTO:-0500
TZNAME:EST
DTSTART:20241103T060000
END:STANDARD
BEGIN:DAYLIGHT
TZOFFSETFROM:-0500
TZOFFSETTO:-0400
TZNAME:EDT
DTSTART:20250309T070000
END:DAYLIGHT
BEGIN:STANDARD
TZOFFSETFROM:-0400
TZOFFSETTO:-0500
TZNAME:EST
DTSTART:20251102T060000
END:STANDARD
END:VTIMEZONE
BEGIN:VEVENT
DTSTART;TZID=America/New_York:20240815T090000
DTEND;TZID=America/New_York:20240815T110000
DTSTAMP:20260423T092735
CREATED:20231217T185244Z
LAST-MODIFIED:20260405T203320Z
UID:10005048-1723712400-1723719600@capecoralnewresident.com
SUMMARY:Men's Breakfast
DESCRIPTION:Men’s Breakfast\n\nThird Thursday 9am House of Omelet’s 900 SW Pine Island Rd \nThe Men’s Breakfast is a long standing tradition of the NRC & provides an opportunity for a hearty meal among friends. \nNo Sign-Up required. Select from menu & pay individually. \n 
URL:https://capecoralnewresident.com/event/mens-breakfast/2024-08-15/
LOCATION:House of Omelet’s\, 900 SW Pine Island Rd\, Cape Coral\, FL\, 33991\, United States
CATEGORIES:Monthly Events & Activities
END:VEVENT
BEGIN:VEVENT
DTSTART;VALUE=DATE:20240815
DTEND;VALUE=DATE:20240816
DTSTAMP:20260423T092735
CREATED:20240712T164357Z
LAST-MODIFIED:20240730T202745Z
UID:10005441-1723680000-1723766399@capecoralnewresident.com
SUMMARY:Ladies Luncheon - BARunch
DESCRIPTION:
URL:https://capecoralnewresident.com/event/ladies-luncheon-4/
LOCATION:FL
CATEGORIES:Monthly Events & Activities
ATTACH;FMTTYPE=image/png:https://capecoralnewresident.com/wp-content/uploads/2024/07/Ladies-Luncheon-Barunch-August-2024.png
END:VEVENT
BEGIN:VEVENT
DTSTART;TZID=America/New_York:20240812T173000
DTEND;TZID=America/New_York:20240812T200000
DTSTAMP:20260423T092735
CREATED:20240708T191239Z
LAST-MODIFIED:20240708T191752Z
UID:10005196-1723483800-1723492800@capecoralnewresident.com
SUMMARY:Cocktails on the Cape - Duffy's Sports Grill
DESCRIPTION:RSVP REQUIRED
URL:https://capecoralnewresident.com/event/cocktails-on-the-cape-9/
LOCATION:FL
CATEGORIES:Monthly Events & Activities
ATTACH;FMTTYPE=image/png:https://capecoralnewresident.com/wp-content/uploads/2024/07/Cocktails-on-the-Cape-Duffys-August-2024.png
END:VEVENT
BEGIN:VEVENT
DTSTART;TZID=America/New_York:20240808T094500
DTEND;TZID=America/New_York:20240808T120000
DTSTAMP:20260423T092735
CREATED:20240708T192527Z
LAST-MODIFIED:20240710T200651Z
UID:10005575-1723110300-1723118400@capecoralnewresident.com
SUMMARY:Cape Coral Technical College Tour & Lunch
DESCRIPTION:RSVP Required
URL:https://capecoralnewresident.com/event/cape-coral-technical-college-tour-lunch/
LOCATION:Cape Coral Technical College\, 360 Santa Barbara Blvd. North\, Cape Coral\, 33993\, United States
CATEGORIES:Monthly Events & Activities
ATTACH;FMTTYPE=image/png:https://capecoralnewresident.com/wp-content/uploads/2024/07/Cape-Coral-Tech-College-August-2024-1.png
END:VEVENT
BEGIN:VEVENT
DTSTART;VALUE=DATE:20240807
DTEND;VALUE=DATE:20240808
DTSTAMP:20260423T092735
CREATED:20240301T015551Z
LAST-MODIFIED:20250813T190119Z
UID:10005075-1722988800-1723075199@capecoralnewresident.com
SUMMARY:Sunset with Friends
DESCRIPTION:
URL:https://capecoralnewresident.com/event/sunset-with-friends/2024-08-07/
LOCATION:Cape Coral Yacht Club Beach\, 5819 Driftwood Pkwy\, Cape Coral\, 33904\, United States
CATEGORIES:Monthly Events & Activities
END:VEVENT
BEGIN:VEVENT
DTSTART;TZID=America/New_York:20240801T091500
DTEND;TZID=America/New_York:20240801T103000
DTSTAMP:20260423T092735
CREATED:20231216T185911Z
LAST-MODIFIED:20240729T194239Z
UID:10005029-1722503700-1722508200@capecoralnewresident.com
SUMMARY:General Meeting at the Lake Kennedy Center
DESCRIPTION: \nOur next general meeting will be August 1 at the Lake Kennedy Center\, 400 Santa Barbara Blvd. in Cape Coral.\nSpeaker: Maureen Buice\, Assistant City Manager of Cape Coral\nThere is an opportunity to sign up for membership and events at the General Meeting.\n 
URL:https://capecoralnewresident.com/event/general-meeting-at-the-lake-kennedy-center-8/
LOCATION:Lake Kennedy Center\, 400 Santa Barbara Blvd.\, Cape Coral\, FL\, 33915\, United States
CATEGORIES:Meeting
ATTACH;FMTTYPE=image/png:https://capecoralnewresident.com/wp-content/uploads/2023/09/meeting-notice-ssbc-e1582041008823.png
END:VEVENT
BEGIN:VEVENT
DTSTART;TZID=America/New_York:20240727T100000
DTEND;TZID=America/New_York:20240727T140000
DTSTAMP:20260423T092735
CREATED:20240622T022516Z
LAST-MODIFIED:20240712T170418Z
UID:10005573-1722074400-1722088800@capecoralnewresident.com
SUMMARY:Blossom & Brie Farmside Dining
DESCRIPTION:Dine amongst the beautiful landscape at Blossom & Brie Farms (Open Menu for Brunch – 10 am -2 pm)  \nAfter dining you can wander the farm and enjoy the experience \nRESERVATIONS ARE LIMITED TO 50 \n  \nPlease call 239-385-0415 MENTION “NRC” WHEN MAKING RESERVATION \nYou can also book online @ blossomandbrie.com (Click Link Below) \nPLEASE ADD “NRC” AFTER YOUR LAST NAME WHEN MAKING RESERVATION (example John DoeNRC)
URL:https://capecoralnewresident.com/event/blossom-brie-farmside-dining/
LOCATION:Blossom & Brie Farms\, 8250 Nalle Grade Road\, North Fort Myers\, FL\, 33917\, United States
CATEGORIES:Monthly Events & Activities
ATTACH;FMTTYPE=image/jpeg:https://capecoralnewresident.com/wp-content/uploads/2024/06/IMG_7452-scaled.jpeg
END:VEVENT
BEGIN:VEVENT
DTSTART;TZID=America/New_York:20240718T111500
DTEND;TZID=America/New_York:20240718T133000
DTSTAMP:20260423T092735
CREATED:20240628T203230Z
LAST-MODIFIED:20240628T203230Z
UID:10005571-1721301300-1721309400@capecoralnewresident.com
SUMMARY:Ladies Luncheon - J&P Asian Fusion
DESCRIPTION:
URL:https://capecoralnewresident.com/event/ladies-luncheon-jp-asian-fusion/
LOCATION:J&P Asian Fusion\, 1715 Cape Coral Pkwy W\, Cape Coral\, 33914\, United States
CATEGORIES:Monthly Events & Activities
ATTACH;FMTTYPE=image/png:https://capecoralnewresident.com/wp-content/uploads/2024/06/Ladies-Luncheon-JP-Fusion-July-2024-1.png
END:VEVENT
BEGIN:VEVENT
DTSTART;TZID=America/New_York:20240711T091500
DTEND;TZID=America/New_York:20240711T103000
DTSTAMP:20260423T092735
CREATED:20231216T185824Z
LAST-MODIFIED:20240628T220939Z
UID:10005028-1720689300-1720693800@capecoralnewresident.com
SUMMARY:General Meeting at the Lake Kennedy Center
DESCRIPTION: \nOur next general meeting will be July 11th at the Lake Kennedy Center\, 400 Santa Barbara Blvd. in Cape Coral.\nThere is an opportunity to sign up for membership at the General Meeting.\n \nSpeaker Charlie Pease –  Director of Cape Coral Technical College
URL:https://capecoralnewresident.com/event/general-meeting-at-the-lake-kennedy-center-7/
LOCATION:Lake Kennedy Center\, 400 Santa Barbara Blvd.\, Cape Coral\, FL\, 33915\, United States
CATEGORIES:Meeting
ATTACH;FMTTYPE=image/png:https://capecoralnewresident.com/wp-content/uploads/2023/09/meeting-notice-ssbc-e1582041008823.png
END:VEVENT
BEGIN:VEVENT
DTSTART;TZID=America/New_York:20240708T173000
DTEND;TZID=America/New_York:20240708T200000
DTSTAMP:20260423T092735
CREATED:20240622T010909Z
LAST-MODIFIED:20240628T202029Z
UID:10005195-1720459800-1720468800@capecoralnewresident.com
SUMMARY:Cocktails on the Cape - Rusty's Raw Bar & Grill
DESCRIPTION:RSVP REQUIRED
URL:https://capecoralnewresident.com/event/cocktails-on-the-cape-8/
LOCATION:Rusty’s Raw Bar & Grill\, 4631 SE 10th Place\, Cape Coral\, 33904\, United States
CATEGORIES:Monthly Events & Activities
ATTACH;FMTTYPE=image/png:https://capecoralnewresident.com/wp-content/uploads/2024/06/Cocktails-on-the-Cape-Rustys-July-2024.png
END:VEVENT
BEGIN:VEVENT
DTSTART;VALUE=DATE:20240703
DTEND;VALUE=DATE:20240704
DTSTAMP:20260423T092735
CREATED:20240301T015551Z
LAST-MODIFIED:20250813T190119Z
UID:10005074-1719964800-1720051199@capecoralnewresident.com
SUMMARY:Sunset with Friends
DESCRIPTION:
URL:https://capecoralnewresident.com/event/sunset-with-friends/2024-07-03/
LOCATION:Cape Coral Yacht Club Beach\, 5819 Driftwood Pkwy\, Cape Coral\, 33904\, United States
CATEGORIES:Monthly Events & Activities
END:VEVENT
BEGIN:VEVENT
DTSTART;TZID=America/New_York:20240629T180000
DTEND;TZID=America/New_York:20240629T220000
DTSTAMP:20260423T092735
CREATED:20240613T024353Z
LAST-MODIFIED:20240613T024353Z
UID:10005506-1719684000-1719698400@capecoralnewresident.com
SUMMARY:Disco Dance Party at Cape Cabaret
DESCRIPTION:The NRC reserved 30 seats for the Disco Party that is being held at Cape Cabaret.  \nReservations are to be made through Cape Cabaret “BY PHONE ONLY” 239-549-3000. When making reservation please mentioned you are with NRC to secure a seat with our group.  \nThere is a $5.00 cover charge “per person” + $10.00 minimum food/drink purchase “per person”. \nAll questions should be addressed with Cape Cabaret directly!
URL:https://capecoralnewresident.com/event/disco-dance-party-at-cape-cabaret/
LOCATION:FL\, United States
CATEGORIES:Monthly Events & Activities
ATTACH;FMTTYPE=image/jpeg:https://capecoralnewresident.com/wp-content/uploads/2024/06/yhgsnvaxsgujhxwkpefu.jpg
END:VEVENT
BEGIN:VEVENT
DTSTART;TZID=America/New_York:20240627T170000
DTEND;TZID=America/New_York:20240627T203000
DTSTAMP:20260423T092735
CREATED:20240531T180123Z
LAST-MODIFIED:20240531T180123Z
UID:10005505-1719507600-1719520200@capecoralnewresident.com
SUMMARY:Singo Bingo
DESCRIPTION:RSVP’s open June 1st
URL:https://capecoralnewresident.com/event/singo-bingo/
LOCATION:FL\, United States
CATEGORIES:Monthly Events & Activities
ATTACH;FMTTYPE=image/png:https://capecoralnewresident.com/wp-content/uploads/2024/02/Singo-Bingo-June-2024.png
END:VEVENT
BEGIN:VEVENT
DTSTART;TZID=America/New_York:20240620T111500
DTEND;TZID=America/New_York:20240620T133000
DTSTAMP:20260423T092735
CREATED:20240531T174224Z
LAST-MODIFIED:20240531T175514Z
UID:10005439-1718882100-1718890200@capecoralnewresident.com
SUMMARY:Ladies Luncheon
DESCRIPTION:
URL:https://capecoralnewresident.com/event/ladies-luncheon-3/
LOCATION:FL
CATEGORIES:Monthly Events & Activities
ATTACH;FMTTYPE=image/png:https://capecoralnewresident.com/wp-content/uploads/2024/05/Ladies-Lunch-Point-57-June-2024.png
END:VEVENT
BEGIN:VEVENT
DTSTART;TZID=America/New_York:20240620T090000
DTEND;TZID=America/New_York:20240620T110000
DTSTAMP:20260423T092735
CREATED:20231217T185244Z
LAST-MODIFIED:20260405T203320Z
UID:10005046-1718874000-1718881200@capecoralnewresident.com
SUMMARY:Men's Breakfast
DESCRIPTION:Men’s Breakfast\n\nThird Thursday 9am House of Omelet’s 900 SW Pine Island Rd \nThe Men’s Breakfast is a long standing tradition of the NRC & provides an opportunity for a hearty meal among friends. \nNo Sign-Up required. Select from menu & pay individually. \n 
URL:https://capecoralnewresident.com/event/mens-breakfast/2024-06-20/
LOCATION:House of Omelet’s\, 900 SW Pine Island Rd\, Cape Coral\, FL\, 33991\, United States
CATEGORIES:Monthly Events & Activities
END:VEVENT
BEGIN:VEVENT
DTSTART;TZID=America/New_York:20240615T173000
DTEND;TZID=America/New_York:20240615T210000
DTSTAMP:20260423T092735
CREATED:20240531T173739Z
LAST-MODIFIED:20240607T161315Z
UID:10005253-1718472600-1718485200@capecoralnewresident.com
SUMMARY:Cancelled - NRC Monthly Dinner/Dance
DESCRIPTION:Previously Purchased tickets will be refunded.
URL:https://capecoralnewresident.com/event/nrc-monthly-dinner-dance-3/
LOCATION:Lake Kennedy Center\, 400 Santa Barbara Blvd.\, Cape Coral\, FL\, 33915\, United States
CATEGORIES:Monthly Events & Activities
ATTACH;FMTTYPE=image/png:https://capecoralnewresident.com/wp-content/uploads/2024/05/June-2024-Dance-Cancelled.png
END:VEVENT
BEGIN:VEVENT
DTSTART;TZID=America/New_York:20240613T173000
DTEND;TZID=America/New_York:20240613T193000
DTSTAMP:20260423T092735
CREATED:20240508T032201Z
LAST-MODIFIED:20240508T032332Z
UID:10005313-1718299800-1718307000@capecoralnewresident.com
SUMMARY:Flying Solo Together Cocktails
DESCRIPTION:Flying Solo Together is a social group made up of members who are single\, separated\, divorced\, widowed or have a spouse who is not interested in participating in events. \nThe group meets for cocktails the second Thursday of the month at different locations. \nThis month we will be meeting at First Round Draft located at 1217 Del Prado Blvd from 5:30pm to 7:30pm.  Drinks and food is available to purchase.  There is no fee to attend this event. \nPlease RSVP with via website or contact Dot Binder at nrcdotbinder@gmail.com. \n  \n 
URL:https://capecoralnewresident.com/event/flying-solo-together-cocktails-3-3/
LOCATION:FL\, United States
CATEGORIES:Monthly Events & Activities
ORGANIZER;CN="Dot Binder":MAILTO:nrcdotbinder@gmail.com
END:VEVENT
BEGIN:VEVENT
DTSTART;TZID=America/New_York:20240611T170000
DTEND;TZID=America/New_York:20240611T210000
DTSTAMP:20260423T092735
CREATED:20231021T183206Z
LAST-MODIFIED:20231222T101625Z
UID:10004998-1718125200-1718139600@capecoralnewresident.com
SUMMARY:New Member Social (By Invitation Only)
DESCRIPTION:New Member Social\n— By Invitation Only — \nRSVP Opens June 6-10 \nNew Member Social is dinner and drinks held by invitation only to our newest members.  \nThe event is hosted by our Hospitality Board Chair and conducted by the 1st Vice President; additional Board members may also attend. This meeting provides an orientation to the history and structure of the NRC with information on signing up for activities\, and\, if enough new members have signed up\, they will form a group during the evening by choosing a name\, selecting a Group Leader\, Group Reporter and a committee to create the group table mascot and logo. \nThe first pot luck of the group is scheduled with a volunteer host.   This is usually the first activity a new member attends kicking off getting to know one another. \nIf you have questions or need more information contact info@capecoralnewresident.com
URL:https://capecoralnewresident.com/event/new-member-social-by-invitation-only-6/
LOCATION:FL
CATEGORIES:Monthly Events & Activities
END:VEVENT
BEGIN:VEVENT
DTSTART;VALUE=DATE:20240610
DTEND;VALUE=DATE:20240611
DTSTAMP:20260423T092735
CREATED:20240531T173256Z
LAST-MODIFIED:20240531T173643Z
UID:10005194-1717977600-1718063999@capecoralnewresident.com
SUMMARY:Cocktails on the Cape
DESCRIPTION:RSVP opens June 1st
URL:https://capecoralnewresident.com/event/cocktails-on-the-cape-7/
LOCATION:FL
CATEGORIES:Monthly Events & Activities
ATTACH;FMTTYPE=image/png:https://capecoralnewresident.com/wp-content/uploads/2024/02/Cocktails-on-the-Cape-Torched-June-2024.png
END:VEVENT
BEGIN:VEVENT
DTSTART;TZID=America/New_York:20240606T091500
DTEND;TZID=America/New_York:20240606T103000
DTSTAMP:20260423T092735
CREATED:20231216T185653Z
LAST-MODIFIED:20240520T165825Z
UID:10005027-1717665300-1717669800@capecoralnewresident.com
SUMMARY:General Meeting at the Lake Kennedy Center
DESCRIPTION: \nJune 6th at the Lake Kennedy Center\, 400 Santa Barbara Blvd. in Cape Coral.\nThere is an opportunity to sign up for membership at the General Meeting.\n \nSpeaker: Ashley Arevalo\, senior recreation specialist Cape Coral parks and Recreation\n 
URL:https://capecoralnewresident.com/event/general-meeting-at-the-lake-kennedy-center-6/
LOCATION:Lake Kennedy Center\, 400 Santa Barbara Blvd.\, Cape Coral\, FL\, 33915\, United States
CATEGORIES:Meeting
ATTACH;FMTTYPE=image/png:https://capecoralnewresident.com/wp-content/uploads/2023/09/meeting-notice-ssbc-e1582041008823.png
END:VEVENT
BEGIN:VEVENT
DTSTART;VALUE=DATE:20240605
DTEND;VALUE=DATE:20240606
DTSTAMP:20260423T092735
CREATED:20240301T015551Z
LAST-MODIFIED:20250813T190119Z
UID:10005073-1717545600-1717631999@capecoralnewresident.com
SUMMARY:Sunset with Friends
DESCRIPTION:
URL:https://capecoralnewresident.com/event/sunset-with-friends/2024-06-05/
LOCATION:Cape Coral Yacht Club Beach\, 5819 Driftwood Pkwy\, Cape Coral\, 33904\, United States
CATEGORIES:Monthly Events & Activities
END:VEVENT
BEGIN:VEVENT
DTSTART;TZID=America/New_York:20240521T173000
DTEND;TZID=America/New_York:20240521T203000
DTSTAMP:20260423T092735
CREATED:20240420T200544Z
LAST-MODIFIED:20240517T182441Z
UID:10005498-1716312600-1716323400@capecoralnewresident.com
SUMMARY:Copasetic Sunset Sailing
DESCRIPTION: \n\n \n \n 
URL:https://capecoralnewresident.com/event/copasetic-sunset-sailing/
LOCATION:Copasetic Sailing\, 18400 San Carlos Blvd\, Fort Myers Beach\, FL\, 33931\, United States
CATEGORIES:Monthly Events & Activities
ATTACH;FMTTYPE=image/png:https://capecoralnewresident.com/wp-content/uploads/2024/04/Copacetic-Sailing-May-2024.png
END:VEVENT
BEGIN:VEVENT
DTSTART;TZID=America/New_York:20240518T173000
DTEND;TZID=America/New_York:20240518T210000
DTSTAMP:20260423T092735
CREATED:20240429T155503Z
LAST-MODIFIED:20240507T220152Z
UID:10005500-1716053400-1716066000@capecoralnewresident.com
SUMMARY:May Dinner Dance
DESCRIPTION:
URL:https://capecoralnewresident.com/event/may-dinner-dance/
LOCATION:Lake Kennedy Center\, 400 Santa Barbara Blvd.\, Cape Coral\, FL\, 33915\, United States
CATEGORIES:Monthly Events & Activities
ATTACH;FMTTYPE=image/png:https://capecoralnewresident.com/wp-content/uploads/2024/05/May-2024-Dance.png
END:VEVENT
BEGIN:VEVENT
DTSTART;TZID=America/New_York:20240516T110000
DTEND;TZID=America/New_York:20240516T133000
DTSTAMP:20260423T092735
CREATED:20240420T195126Z
LAST-MODIFIED:20240506T162306Z
UID:10005379-1715857200-1715866200@capecoralnewresident.com
SUMMARY:May Ladies Luncheon
DESCRIPTION:
URL:https://capecoralnewresident.com/event/may-ladies-luncheon/
LOCATION:Fins Seafood & Dive Bar\, 3422 Del Prado Blvd S\, Cape Coral\, FL\, 33904\, United States
CATEGORIES:Monthly Events & Activities
ATTACH;FMTTYPE=image/png:https://capecoralnewresident.com/wp-content/uploads/2024/04/Ladies-Lunch-Fins-Dive-Bar-May-2024.png
END:VEVENT
BEGIN:VEVENT
DTSTART;TZID=America/New_York:20240516T090000
DTEND;TZID=America/New_York:20240516T110000
DTSTAMP:20260423T092735
CREATED:20231217T185244Z
LAST-MODIFIED:20260405T203320Z
UID:10005045-1715850000-1715857200@capecoralnewresident.com
SUMMARY:Men's Breakfast
DESCRIPTION:Men’s Breakfast\n\nThird Thursday 9am House of Omelet’s 900 SW Pine Island Rd \nThe Men’s Breakfast is a long standing tradition of the NRC & provides an opportunity for a hearty meal among friends. \nNo Sign-Up required. Select from menu & pay individually. \n 
URL:https://capecoralnewresident.com/event/mens-breakfast/2024-05-16/
LOCATION:House of Omelet’s\, 900 SW Pine Island Rd\, Cape Coral\, FL\, 33991\, United States
CATEGORIES:Monthly Events & Activities
END:VEVENT
BEGIN:VEVENT
DTSTART;TZID=America/New_York:20240513T170000
DTEND;TZID=America/New_York:20240513T200000
DTSTAMP:20260423T092735
CREATED:20240420T193946Z
LAST-MODIFIED:20240420T193946Z
UID:10005377-1715619600-1715630400@capecoralnewresident.com
SUMMARY:Cocktails on the Cape
DESCRIPTION:RSVP Link available May 1\, 2024
URL:https://capecoralnewresident.com/event/cocktails-on-the-cape-6/
LOCATION:Big 10 Tavern\, 4703 SW 16th Pl\, Cape Coral\, FL\, 33914\, United States
CATEGORIES:Monthly Events & Activities
ATTACH;FMTTYPE=image/png:https://capecoralnewresident.com/wp-content/uploads/2024/04/Cocktails-on-the-Cape-Big-10-Tavern-May-2024.png
END:VEVENT
BEGIN:VEVENT
DTSTART;TZID=America/New_York:20240509T173000
DTEND;TZID=America/New_York:20240509T193000
DTSTAMP:20260423T092735
CREATED:20240422T123956Z
LAST-MODIFIED:20240502T190310Z
UID:10005312-1715275800-1715283000@capecoralnewresident.com
SUMMARY:Flying Solo Together Cocktails
DESCRIPTION:Flying Solo Together is a social group made up of members who are single\, separated\, divorced\, widowed or have a spouse who is not interested in participating in events. \nPlease RSVP to meet on the Stevie Tomato’s Patio the second Thursday of each month.  Drinks and food available for purchase. \nRSVP Link will be available on the 1st of each month. \n  \n 
URL:https://capecoralnewresident.com/event/flying-solo-together-cocktails-3-2/
LOCATION:FL\, United States
CATEGORIES:Monthly Events & Activities
ORGANIZER;CN="Dot Binder":MAILTO:nrcdotbinder@gmail.com
END:VEVENT
BEGIN:VEVENT
DTSTART;TZID=America/New_York:20240507T170000
DTEND;TZID=America/New_York:20240507T210000
DTSTAMP:20260423T092735
CREATED:20231021T183130Z
LAST-MODIFIED:20231222T095724Z
UID:10004997-1715101200-1715115600@capecoralnewresident.com
SUMMARY:New Member Social (By Invitation Only)
DESCRIPTION:New Member Social\n— By Invitation Only — \nRSVP Opens May 2-6 \nNew Member Social is dinner and drinks held by invitation only to our newest members.  \nThe event is hosted by our Hospitality Board Chair and conducted by the 1st Vice President; additional Board members may also attend. This meeting provides an orientation to the history and structure of the NRC with information on signing up for activities\, and\, if enough new members have signed up\, they will form a group during the evening by choosing a name\, selecting a Group Leader\, Group Reporter and a committee to create the group table mascot and logo. \nThe first pot luck of the group is scheduled with a volunteer host.   This is usually the first activity a new member attends kicking off getting to know one another. \nIf you have questions or need more information contact info@capecoralnewresident.com
URL:https://capecoralnewresident.com/event/new-member-social-by-invitation-only-5/
LOCATION:FL
CATEGORIES:Monthly Events & Activities
END:VEVENT
BEGIN:VEVENT
DTSTART;TZID=America/New_York:20240502T091500
DTEND;TZID=America/New_York:20240502T103000
DTSTAMP:20260423T092735
CREATED:20231216T185607Z
LAST-MODIFIED:20240420T193231Z
UID:10005026-1714641300-1714645800@capecoralnewresident.com
SUMMARY:General Meeting at the Lake Kennedy Center
DESCRIPTION: \nOur next general meeting will be May 2nd at the Lake Kennedy Center\, 400 Santa Barbara Blvd. in Cape Coral. There is an opportunity to sign up for membership at the General Meeting.\n\nGeneral Meeting Speaker \nZach Maloch \nWINK NEWS METEOROLOGIST\n  \n\n 
URL:https://capecoralnewresident.com/event/general-meeting-at-the-lake-kennedy-center-2/
LOCATION:Lake Kennedy Center\, 400 Santa Barbara Blvd.\, Cape Coral\, FL\, 33915\, United States
CATEGORIES:Meeting
ATTACH;FMTTYPE=image/png:https://capecoralnewresident.com/wp-content/uploads/2023/09/meeting-notice-ssbc-e1582041008823.png
END:VEVENT
BEGIN:VEVENT
DTSTART;VALUE=DATE:20240501
DTEND;VALUE=DATE:20240502
DTSTAMP:20260423T092735
CREATED:20240301T015551Z
LAST-MODIFIED:20250813T190119Z
UID:10005072-1714521600-1714607999@capecoralnewresident.com
SUMMARY:Sunset with Friends
DESCRIPTION:
URL:https://capecoralnewresident.com/event/sunset-with-friends/2024-05-01/
LOCATION:Cape Coral Yacht Club Beach\, 5819 Driftwood Pkwy\, Cape Coral\, 33904\, United States
CATEGORIES:Monthly Events & Activities
END:VEVENT
END:VCALENDAR