BEGIN:VCALENDAR
VERSION:2.0
PRODID:-//New Resident Club of Cape Coral - ECPv6.15.20//NONSGML v1.0//EN
CALSCALE:GREGORIAN
METHOD:PUBLISH
X-WR-CALNAME:New Resident Club of Cape Coral
X-ORIGINAL-URL:https://capecoralnewresident.com
X-WR-CALDESC:Events for New Resident Club of Cape Coral
REFRESH-INTERVAL;VALUE=DURATION:PT1H
X-Robots-Tag:noindex
X-PUBLISHED-TTL:PT1H
BEGIN:VTIMEZONE
TZID:America/New_York
BEGIN:DAYLIGHT
TZOFFSETFROM:-0500
TZOFFSETTO:-0400
TZNAME:EDT
DTSTART:20230312T070000
END:DAYLIGHT
BEGIN:STANDARD
TZOFFSETFROM:-0400
TZOFFSETTO:-0500
TZNAME:EST
DTSTART:20231105T060000
END:STANDARD
BEGIN:DAYLIGHT
TZOFFSETFROM:-0500
TZOFFSETTO:-0400
TZNAME:EDT
DTSTART:20240310T070000
END:DAYLIGHT
BEGIN:STANDARD
TZOFFSETFROM:-0400
TZOFFSETTO:-0500
TZNAME:EST
DTSTART:20241103T060000
END:STANDARD
BEGIN:DAYLIGHT
TZOFFSETFROM:-0500
TZOFFSETTO:-0400
TZNAME:EDT
DTSTART:20250309T070000
END:DAYLIGHT
BEGIN:STANDARD
TZOFFSETFROM:-0400
TZOFFSETTO:-0500
TZNAME:EST
DTSTART:20251102T060000
END:STANDARD
END:VTIMEZONE
BEGIN:VEVENT
DTSTART;TZID=America/New_York:20240124T193000
DTEND;TZID=America/New_York:20240124T223000
DTSTAMP:20260424T070450
CREATED:20231217T150437Z
LAST-MODIFIED:20231226T225004Z
UID:10005036-1706124600-1706135400@capecoralnewresident.com
SUMMARY:Atlanta Gladiators at Florida Everblades — Hertz Arena
DESCRIPTION:40 Premium Level seats available \nWith 15 or more people\, each person will receive a FREE Everblades Drawstring Cooler Bag \n$3 hot dogs and $3 beers
URL:https://capecoralnewresident.com/event/atlanta-gladiators-at-florida-everblades-hertz-arena/
LOCATION:Hertz Arena\, 11000 Everblades Parkway\, Estero\, 33928\, United States
CATEGORIES:Monthly Events & Activities
ATTACH;FMTTYPE=image/jpeg:https://capecoralnewresident.com/wp-content/uploads/2023/12/16x9.jpeg
END:VEVENT
BEGIN:VEVENT
DTSTART;TZID=America/New_York:20240120T173000
DTEND;TZID=America/New_York:20240120T213000
DTSTAMP:20260424T070450
CREATED:20231222T155242Z
LAST-MODIFIED:20240101T141325Z
UID:10005056-1705771800-1705786200@capecoralnewresident.com
SUMMARY:Dinner Dance - Jimmy Buffet Style
DESCRIPTION:A Jimmy Buffet Buffet! Some of his favorites from Gumbo to Cheeseburgers and much more!!!!
URL:https://capecoralnewresident.com/event/dinner-dance-margarita-style/
LOCATION:Lake Kennedy Center\, 400 Santa Barbara Blvd.\, Cape Coral\, FL\, 33915\, United States
CATEGORIES:Monthly Events & Activities
END:VEVENT
BEGIN:VEVENT
DTSTART;TZID=America/New_York:20240118T110000
DTEND;TZID=America/New_York:20240118T133000
DTSTAMP:20260424T070450
CREATED:20231214T221029Z
LAST-MODIFIED:20231228T193922Z
UID:10005020-1705575600-1705584600@capecoralnewresident.com
SUMMARY:Ladies Luncheon
DESCRIPTION:Palmetto Pine Country Club\n1940 SW 9 th Ct.\nCape Coral\, FL 33991 \nOption 1: Teriyaki Salad w/Marinated Grilled Chicken\nOption 2: Baked Ziti w/Garlic Bread\nOption 3: Homemade Meatloaf w/Mushroom Gravy \nIncludes: Gratuity\, iced tea\, soda\, water
URL:https://capecoralnewresident.com/event/ladies-luncheon/
LOCATION:Palmetto Pine Country Club\, 1940 SW 9th Ct.\, Cape Coral\, FL\, 33991\, United States
CATEGORIES:Monthly Events & Activities
END:VEVENT
BEGIN:VEVENT
DTSTART;TZID=America/New_York:20240118T090000
DTEND;TZID=America/New_York:20240118T110000
DTSTAMP:20260424T070450
CREATED:20231217T185244Z
LAST-MODIFIED:20260405T203320Z
UID:10005041-1705568400-1705575600@capecoralnewresident.com
SUMMARY:Men's Breakfast
DESCRIPTION:Men’s Breakfast\n\nThird Thursday 9am House of Omelet’s 900 SW Pine Island Rd \nThe Men’s Breakfast is a long standing tradition of the NRC & provides an opportunity for a hearty meal among friends. \nNo Sign-Up required. Select from menu & pay individually. \n 
URL:https://capecoralnewresident.com/event/mens-breakfast/2024-01-18/
LOCATION:House of Omelet’s\, 900 SW Pine Island Rd\, Cape Coral\, FL\, 33991\, United States
CATEGORIES:Monthly Events & Activities
END:VEVENT
BEGIN:VEVENT
DTSTART;TZID=America/New_York:20240109T180000
DTEND;TZID=America/New_York:20240109T203000
DTSTAMP:20260424T070450
CREATED:20231021T182737Z
LAST-MODIFIED:20240118T220354Z
UID:10004993-1704823200-1704832200@capecoralnewresident.com
SUMMARY:New Member Social (By Invitation Only)
DESCRIPTION:New Member Social\n— By Invitation Only — \n  \nNew Member Social is dinner and drinks held by invitation only to our newest members.  \nThe event is hosted by our Hospitality Board Chair and conducted by the 1st Vice President; additional Board members may also attend. This meeting provides an orientation to the history and structure of the NRC with information on signing up for activities\, and\, if enough new members have signed up\, they will form a group during the evening by choosing a name\, selecting a Group Leader\, Group Reporter and a committee to create the group table mascot and logo. \nThe first pot luck of the group is scheduled with a volunteer host.   This is usually the first activity a new member attends kicking off getting to know one another. \nIf you have questions or need more information contact info@capecoralnewresident.com
URL:https://capecoralnewresident.com/event/new-member-social-by-invitation-only/
LOCATION:Lake Kennedy Center\, 400 Santa Barbara Blvd.\, Cape Coral\, FL\, 33915\, United States
CATEGORIES:Monthly Events & Activities
END:VEVENT
BEGIN:VEVENT
DTSTART;TZID=America/New_York:20240108T180000
DTEND;TZID=America/New_York:20240108T210000
DTSTAMP:20260424T070450
CREATED:20231217T145235Z
LAST-MODIFIED:20231226T211727Z
UID:10005035-1704736800-1704747600@capecoralnewresident.com
SUMMARY:Cocktails on the Cape
DESCRIPTION:Please join us for cocktails and a great evening at the Dolphin Key Resort Tiki Hut! \nPlease RSVP as the bar has set 80 seats aside for NRC members. RSVP opens on January 1st. \nWe will be using the area that is just behind the stage with its own separate bar.  We will have our own bartender and servers. \n \n 
URL:https://capecoralnewresident.com/event/cocktails-on-the-cape/
LOCATION:Tiki Hut Bar & Grill at Dolphin Key Resort\, 1502 Miramar St\, Cape Coral\, FL\, 33904\, United States
CATEGORIES:Monthly Events & Activities
ATTACH;FMTTYPE=image/jpeg:https://capecoralnewresident.com/wp-content/uploads/2023/12/images.jpeg
END:VEVENT
BEGIN:VEVENT
DTSTART;TZID=America/New_York:20240104T091500
DTEND;TZID=America/New_York:20240104T103000
DTSTAMP:20260424T070450
CREATED:20231021T183753Z
LAST-MODIFIED:20240104T015954Z
UID:10005005-1704359700-1704364200@capecoralnewresident.com
SUMMARY:General Meeting at the Lake Kennedy Center
DESCRIPTION: \nOur next general meeting will be January 4th at the Lake Kennedy Center\, 400 Santa Barbara Blvd. in Cape Coral. There is an opportunity to sign up for membership at the General Meeting.\n 
URL:https://capecoralnewresident.com/event/general-meeting-at-the-lake-kennedy-center-3/
LOCATION:Lake Kennedy Center\, 400 Santa Barbara Blvd.\, Cape Coral\, FL\, 33915\, United States
CATEGORIES:Meeting
ATTACH;FMTTYPE=image/png:https://capecoralnewresident.com/wp-content/uploads/2023/09/meeting-notice-ssbc-e1582041008823.png
END:VEVENT
END:VCALENDAR