BEGIN:VCALENDAR
VERSION:2.0
PRODID:-//New Resident Club of Cape Coral - ECPv6.15.20//NONSGML v1.0//EN
CALSCALE:GREGORIAN
METHOD:PUBLISH
X-ORIGINAL-URL:https://capecoralnewresident.com
X-WR-CALDESC:Events for New Resident Club of Cape Coral
REFRESH-INTERVAL;VALUE=DURATION:PT1H
X-Robots-Tag:noindex
X-PUBLISHED-TTL:PT1H
BEGIN:VTIMEZONE
TZID:America/New_York
BEGIN:DAYLIGHT
TZOFFSETFROM:-0500
TZOFFSETTO:-0400
TZNAME:EDT
DTSTART:20240310T070000
END:DAYLIGHT
BEGIN:STANDARD
TZOFFSETFROM:-0400
TZOFFSETTO:-0500
TZNAME:EST
DTSTART:20241103T060000
END:STANDARD
BEGIN:DAYLIGHT
TZOFFSETFROM:-0500
TZOFFSETTO:-0400
TZNAME:EDT
DTSTART:20250309T070000
END:DAYLIGHT
BEGIN:STANDARD
TZOFFSETFROM:-0400
TZOFFSETTO:-0500
TZNAME:EST
DTSTART:20251102T060000
END:STANDARD
BEGIN:DAYLIGHT
TZOFFSETFROM:-0500
TZOFFSETTO:-0400
TZNAME:EDT
DTSTART:20260308T070000
END:DAYLIGHT
BEGIN:STANDARD
TZOFFSETFROM:-0400
TZOFFSETTO:-0500
TZNAME:EST
DTSTART:20261101T060000
END:STANDARD
END:VTIMEZONE
BEGIN:VEVENT
DTSTART;VALUE=DATE:20250702
DTEND;VALUE=DATE:20250703
DTSTAMP:20260423T220314
CREATED:20240301T015551Z
LAST-MODIFIED:20250813T190119Z
UID:10005086-1751414400-1751500799@capecoralnewresident.com
SUMMARY:Sunset with Friends
DESCRIPTION:
URL:https://capecoralnewresident.com/event/sunset-with-friends/2025-07-02/
LOCATION:Cape Coral Yacht Club Beach\, 5819 Driftwood Pkwy\, Cape Coral\, 33904\, United States
CATEGORIES:Monthly Events & Activities
END:VEVENT
BEGIN:VEVENT
DTSTART;TZID=America/New_York:20250703T170000
DTEND;TZID=America/New_York:20250703T200000
DTSTAMP:20260423T220314
CREATED:20250515T193205Z
LAST-MODIFIED:20250515T193205Z
UID:10005724-1751562000-1751572800@capecoralnewresident.com
SUMMARY:General Meeting at Cape Cabaret
DESCRIPTION: \nThis months general meeting will be at 5:00 pm at the Cape Cabaret at 4725 Vincennes Blvd.\nWe have a room inside for the general meeting\nThere is an opportunity to sign up for membership as well as member events at the General Meeting.\n 
URL:https://capecoralnewresident.com/event/general-meeting-at-cape-cabaret/
LOCATION:FL\, United States
CATEGORIES:Meeting
ATTACH;FMTTYPE=image/png:https://capecoralnewresident.com/wp-content/uploads/2023/09/meeting-notice-ssbc-e1582041008823.png
END:VEVENT
BEGIN:VEVENT
DTSTART;TZID=America/New_York:20250703T183000
DTEND;TZID=America/New_York:20250703T203000
DTSTAMP:20260423T220314
CREATED:20250515T193808Z
LAST-MODIFIED:20250619T232840Z
UID:10005725-1751567400-1751574600@capecoralnewresident.com
SUMMARY:Singo Bingo after July 3 General Meeting
DESCRIPTION:NRC has arranged for up to 60 participants to join in Singo Bingo after the general meeting.  The general meeting starts at 5p on the outside deck of Cape Cabaret.  Singo Bingo follows at 6:30p.   \nNO Cover Charge / $10 minimum purchase per person required \n 
URL:https://capecoralnewresident.com/event/singo-bingo-after-may-8-general-meeting-2/
LOCATION:Cape Cabaret\, 4725 Vincennes Blvd\, Cape Coral\, 33904\, United States
CATEGORIES:Monthly Events & Activities
ATTACH;FMTTYPE=image/png:https://capecoralnewresident.com/wp-content/uploads/2025/05/Singo-Bingo-July-2025-1.png
END:VEVENT
BEGIN:VEVENT
DTSTART;TZID=America/New_York:20250709T103000
DTEND;TZID=America/New_York:20250709T113000
DTSTAMP:20260423T220314
CREATED:20250608T195900Z
LAST-MODIFIED:20250608T200614Z
UID:10005736-1752057000-1752060600@capecoralnewresident.com
SUMMARY:SWFL Horse Rescue Tour
DESCRIPTION:SWFL Horse Tour Waiver Form \nJoin us in Punta Gorda to tour the Southwest Florida Horse Rescue. \n20 participant capacity for this tour. \nSign up on NRC to obtain number of participants.  $11 cash donation on site per person.  Military retired or active (ID required is free.   \nAttendees provide their own transportation and will be expected to complete a waiver (link attached).
URL:https://capecoralnewresident.com/event/swfl-horse-rescue-tour/
LOCATION:SWFL Horse Rescue\, 14811 SR31\, Punta Gorda\, 33982\, United States
ATTACH;FMTTYPE=image/jpeg:https://capecoralnewresident.com/wp-content/uploads/2025/06/SWFL-Horse-Rescue-Tour-1-002.jpg
END:VEVENT
BEGIN:VEVENT
DTSTART;TZID=America/New_York:20250712T130000
DTEND;TZID=America/New_York:20250712T140000
DTSTAMP:20260423T220314
CREATED:20250608T201204Z
LAST-MODIFIED:20250608T201204Z
UID:10005737-1752325200-1752328800@capecoralnewresident.com
SUMMARY:List Distillery Tour at Mr. Tom's Spirits
DESCRIPTION:Join us for a tour of List Distillery at Mr Tom’s Spirits\, a line of one of a king\, naturally infused products. \nTour begins promptly at 1:00 p.m.   Must provide own transportation or car pool
URL:https://capecoralnewresident.com/event/list-distillery-tour-at-mr-toms-spirits/
LOCATION:List Distillery at Mr Tom’s Spirits\, 3680 Evans Avenue\, Fort Myers\, 33901\, United States
CATEGORIES:Monthly Events & Activities
ATTACH;FMTTYPE=image/png:https://capecoralnewresident.com/wp-content/uploads/2025/06/List-Distillery-1-002.png
END:VEVENT
BEGIN:VEVENT
DTSTART;TZID=America/New_York:20250712T173000
DTEND;TZID=America/New_York:20250712T210000
DTSTAMP:20260423T220314
CREATED:20250609T203952Z
LAST-MODIFIED:20250609T203952Z
UID:10005746-1752341400-1752354000@capecoralnewresident.com
SUMMARY:Cape Coral Social Club Dance
DESCRIPTION:The Cape Coral Social Club has invited all NRC Members to their dances and we will be posting them to our website. \nContact social club directly to sign up: \nhttps://www.capecoralsocialclub.org/monthlydance \n 
URL:https://capecoralnewresident.com/event/cape-coral-social-club-dance/
LOCATION:German American Social Club\, 2101 SW Pine Island Road\, Cape Coral\, United States
CATEGORIES:Monthly Events & Activities
ATTACH;FMTTYPE=image/png:https://capecoralnewresident.com/wp-content/uploads/2025/06/Social-Club-Dance-July.png
END:VEVENT
BEGIN:VEVENT
DTSTART;TZID=America/New_York:20250714T170000
DTEND;TZID=America/New_York:20250714T193000
DTSTAMP:20260423T220314
CREATED:20250608T181435Z
LAST-MODIFIED:20250622T153413Z
UID:10005732-1752512400-1752521400@capecoralnewresident.com
SUMMARY:Cocktails on the Cape - July - Texas Tony's
DESCRIPTION:
URL:https://capecoralnewresident.com/event/cocktails-on-the-cape-july-texas-tonys/
LOCATION:Texas Tony’s\, 738 SW Pine Island Road\, Cape Coral\, 33991\, United States
CATEGORIES:Monthly Events & Activities
ATTACH;FMTTYPE=image/png:https://capecoralnewresident.com/wp-content/uploads/2025/06/Texas-TonysBrightwater-3-002.png
END:VEVENT
BEGIN:VEVENT
DTSTART;TZID=America/New_York:20250717T090000
DTEND;TZID=America/New_York:20250717T110000
DTSTAMP:20260423T220314
CREATED:20231217T185244Z
LAST-MODIFIED:20260405T203320Z
UID:10005635-1752742800-1752750000@capecoralnewresident.com
SUMMARY:Men's Breakfast
DESCRIPTION:Men’s Breakfast\n\nThird Thursday 9am House of Omelet’s 900 SW Pine Island Rd \nThe Men’s Breakfast is a long standing tradition of the NRC & provides an opportunity for a hearty meal among friends. \nNo Sign-Up required. Select from menu & pay individually. \n 
URL:https://capecoralnewresident.com/event/mens-breakfast/2025-07-17/
LOCATION:House of Omelet’s\, 900 SW Pine Island Rd\, Cape Coral\, FL\, 33991\, United States
CATEGORIES:Monthly Events & Activities
END:VEVENT
BEGIN:VEVENT
DTSTART;TZID=America/New_York:20250717T113000
DTEND;TZID=America/New_York:20250717T133000
DTSTAMP:20260423T220314
CREATED:20250609T004015Z
LAST-MODIFIED:20250621T220809Z
UID:10005745-1752751800-1752759000@capecoralnewresident.com
SUMMARY:Ladies Luncheon July -  Yucatan Waterfront Bar & Grill
DESCRIPTION:50/50 and Raffle available for Yucatan Luncheon!
URL:https://capecoralnewresident.com/event/ladies-luncheon-july-yucatan-waterfront-bar-grill/
LOCATION:Yucaton Waterfront Bar & Grill\, 4875 Pine Island Road\, Matlacha\, 33993\, United States
CATEGORIES:Monthly Events & Activities
ATTACH;FMTTYPE=image/png:https://capecoralnewresident.com/wp-content/uploads/2025/06/Ladies-Lunch-Fins-Dive-Bar-May-2024.png
ORGANIZER;CN="Gail Warren":MAILTO:thegailwarren@gmail.com
END:VEVENT
BEGIN:VEVENT
DTSTART;TZID=America/New_York:20250719T110000
DTEND;TZID=America/New_York:20250719T123000
DTSTAMP:20260423T220314
CREATED:20250608T201618Z
LAST-MODIFIED:20250608T201618Z
UID:10005738-1752922800-1752928200@capecoralnewresident.com
SUMMARY:Pirate Cruise with Salty Sam's
DESCRIPTION:Join us on this always fun adventure.  NRC will collect fee and pay Salty Sam’s directly.  \nAttendees must provide own transportation
URL:https://capecoralnewresident.com/event/pirate-cruise-with-salty-sams/
LOCATION:Salty Sam’s Pirate Cuise\, 2500 Main St\, Fort Myers\, 33931\, United States
CATEGORIES:Monthly Events & Activities
ATTACH;FMTTYPE=image/png:https://capecoralnewresident.com/wp-content/uploads/2025/06/Pirate-Cruise-1-002.png
END:VEVENT
BEGIN:VEVENT
DTSTART;TZID=America/New_York:20250723T100000
DTEND;TZID=America/New_York:20250723T120000
DTSTAMP:20260423T220314
CREATED:20250608T202109Z
LAST-MODIFIED:20250609T002651Z
UID:10005739-1753264800-1753272000@capecoralnewresident.com
SUMMARY:Bird Gardens of Naples Tour
DESCRIPTION:$10 Cash Donation on site per person to support the gardens.  No fee to NRC to sign up but $10 at the door expectation. \nBring unsalted nuts or blueberries for the birds’ favorite treats! \nNo peanuts please.  Closed toe shoes recommended \nAttendees responsible for own transportation.  Please park outside the gate on the shoulder
URL:https://capecoralnewresident.com/event/bird-gardens-of-naples-tour/
LOCATION:Bird Gardens of Naples\, 1060 Purple Martin Drive\, Naples\, 34119\, United States
CATEGORIES:Monthly Events & Activities
ATTACH;FMTTYPE=image/png:https://capecoralnewresident.com/wp-content/uploads/2025/06/Bird-Gardens-of-Naples-002.png
END:VEVENT
END:VCALENDAR