BEGIN:VCALENDAR
VERSION:2.0
PRODID:-//New Resident Club of Cape Coral - ECPv6.15.20//NONSGML v1.0//EN
CALSCALE:GREGORIAN
METHOD:PUBLISH
X-ORIGINAL-URL:https://capecoralnewresident.com
X-WR-CALDESC:Events for New Resident Club of Cape Coral
REFRESH-INTERVAL;VALUE=DURATION:PT1H
X-Robots-Tag:noindex
X-PUBLISHED-TTL:PT1H
BEGIN:VTIMEZONE
TZID:America/New_York
BEGIN:DAYLIGHT
TZOFFSETFROM:-0500
TZOFFSETTO:-0400
TZNAME:EDT
DTSTART:20240310T070000
END:DAYLIGHT
BEGIN:STANDARD
TZOFFSETFROM:-0400
TZOFFSETTO:-0500
TZNAME:EST
DTSTART:20241103T060000
END:STANDARD
BEGIN:DAYLIGHT
TZOFFSETFROM:-0500
TZOFFSETTO:-0400
TZNAME:EDT
DTSTART:20250309T070000
END:DAYLIGHT
BEGIN:STANDARD
TZOFFSETFROM:-0400
TZOFFSETTO:-0500
TZNAME:EST
DTSTART:20251102T060000
END:STANDARD
BEGIN:DAYLIGHT
TZOFFSETFROM:-0500
TZOFFSETTO:-0400
TZNAME:EDT
DTSTART:20260308T070000
END:DAYLIGHT
BEGIN:STANDARD
TZOFFSETFROM:-0400
TZOFFSETTO:-0500
TZNAME:EST
DTSTART:20261101T060000
END:STANDARD
END:VTIMEZONE
BEGIN:VEVENT
DTSTART;VALUE=DATE:20251001
DTEND;VALUE=DATE:20251002
DTSTAMP:20260423T050216
CREATED:20240301T015551Z
LAST-MODIFIED:20250813T190119Z
UID:10005089-1759276800-1759363199@capecoralnewresident.com
SUMMARY:Sunset with Friends
DESCRIPTION:
URL:https://capecoralnewresident.com/event/sunset-with-friends/2025-10-01/
LOCATION:Cape Coral Yacht Club Beach\, 5819 Driftwood Pkwy\, Cape Coral\, 33904\, United States
CATEGORIES:Monthly Events & Activities
END:VEVENT
BEGIN:VEVENT
DTSTART;TZID=America/New_York:20251002T091500
DTEND;TZID=America/New_York:20251002T103000
DTSTAMP:20260423T050216
CREATED:20241120T191834Z
LAST-MODIFIED:20241120T191939Z
UID:10005626-1759396500-1759401000@capecoralnewresident.com
SUMMARY:General Meeting at the Lake Kennedy Center
DESCRIPTION: \nThis months general meeting will be at 9:15am at the Lake Kennedy Center\, 400 Santa Barbara Blvd. in Cape Coral.\nDoors open 30 minutes prior to meeting start time. Light refreshments are served.\nThere is an opportunity to sign up for membership as well as member events at the General Meeting.\n 
URL:https://capecoralnewresident.com/event/general-meeting-at-the-lake-kennedy-center-14/2025-10-02/
LOCATION:Lake Kennedy Center\, 400 Santa Barbara Blvd.\, Cape Coral\, FL\, 33915\, United States
CATEGORIES:Meeting
ATTACH;FMTTYPE=image/png:https://capecoralnewresident.com/wp-content/uploads/2023/09/meeting-notice-ssbc-e1582041008823.png
END:VEVENT
BEGIN:VEVENT
DTSTART;TZID=America/New_York:20251004T084500
DTEND;TZID=America/New_York:20251004T100000
DTSTAMP:20260423T050216
CREATED:20250610T181712Z
LAST-MODIFIED:20250610T181712Z
UID:10005754-1759567500-1759572000@capecoralnewresident.com
SUMMARY:Everglades Airboat Tour
DESCRIPTION:Meet at Corey Billie’s Airboat Rides in Naples. \nRSVP on NRC website and pay on date/time of event.  $45 plus tax per person.
URL:https://capecoralnewresident.com/event/everglades-airboat-tour/
LOCATION:Corey Billie’s Airboat Rides\, 20610 Tamiami Trail East\, Naples\, United States
CATEGORIES:Monthly Events & Activities
ATTACH;FMTTYPE=image/png:https://capecoralnewresident.com/wp-content/uploads/2025/06/Everglades-Airboat-tour-002.png
END:VEVENT
BEGIN:VEVENT
DTSTART;TZID=America/New_York:20251004T173000
DTEND;TZID=America/New_York:20251004T210000
DTSTAMP:20260423T050216
CREATED:20250609T212041Z
LAST-MODIFIED:20250609T212041Z
UID:10005749-1759599000-1759611600@capecoralnewresident.com
SUMMARY:Cape Coral Social Club Dance
DESCRIPTION:The Cape Coral Social Club has invited all NRC Members to their dances and we will be posting them to our website. \nContact social club directly to sign up: \nhttps://www.capecoralsocialclub.org/monthlydance \n 
URL:https://capecoralnewresident.com/event/cape-coral-social-club-dance-4/
LOCATION:German American Social Club\, 2101 SW Pine Island Road\, Cape Coral\, United States
CATEGORIES:Monthly Events & Activities
ATTACH;FMTTYPE=image/png:https://capecoralnewresident.com/wp-content/uploads/2025/06/Social-Club-Dance-Oct.png
END:VEVENT
BEGIN:VEVENT
DTSTART;TZID=America/New_York:20251013T170000
DTEND;TZID=America/New_York:20251013T190000
DTSTAMP:20260423T050216
CREATED:20250608T183325Z
LAST-MODIFIED:20250608T183325Z
UID:10005735-1760374800-1760382000@capecoralnewresident.com
SUMMARY:Cocktails on the Cape - Oct 2025 - Hacienda Jalisco
DESCRIPTION:
URL:https://capecoralnewresident.com/event/cocktails-on-the-cape-oct-2025-hacienda-jalisco/
LOCATION:Hacienda Jalisco\, 4820 Candia Street\, Cape Coral\, 33904\, United States
CATEGORIES:Monthly Events & Activities
ATTACH;FMTTYPE=image/png:https://capecoralnewresident.com/wp-content/uploads/2025/06/Hacienda-Jalisco-002.png
END:VEVENT
BEGIN:VEVENT
DTSTART;TZID=America/New_York:20251015T170000
DTEND;TZID=America/New_York:20251015T190000
DTSTAMP:20260423T050216
CREATED:20250924T203146Z
LAST-MODIFIED:20250924T203146Z
UID:10005789-1760547600-1760554800@capecoralnewresident.com
SUMMARY:Flying Solo Together Drinks & Dinner at Fathoms
DESCRIPTION:RSVP to Dot Binder at \nnrcdotbinder@gmail.com \nor text at:  512-627-9305
URL:https://capecoralnewresident.com/event/flying-solo-together-drinks-dinner-at-fathoms/
LOCATION:Fathoms\, 5785 Cape Harbour Drive\, Cape Coral\, FL\, 33914\, United States
CATEGORIES:Monthly Events & Activities
ATTACH;FMTTYPE=image/png:https://capecoralnewresident.com/wp-content/uploads/2025/09/FLYING-SOLO-TOGETHER.png
ORGANIZER;CN="Dot Binder":MAILTO:nrcdotbinder@gmail.com
END:VEVENT
BEGIN:VEVENT
DTSTART;TZID=America/New_York:20251016T090000
DTEND;TZID=America/New_York:20251016T110000
DTSTAMP:20260423T050216
CREATED:20231217T185244Z
LAST-MODIFIED:20260405T203320Z
UID:10005638-1760605200-1760612400@capecoralnewresident.com
SUMMARY:Men's Breakfast
DESCRIPTION:Men’s Breakfast\n\nThird Thursday 9am House of Omelet’s 900 SW Pine Island Rd \nThe Men’s Breakfast is a long standing tradition of the NRC & provides an opportunity for a hearty meal among friends. \nNo Sign-Up required. Select from menu & pay individually. \n 
URL:https://capecoralnewresident.com/event/mens-breakfast/2025-10-16/
LOCATION:House of Omelet’s\, 900 SW Pine Island Rd\, Cape Coral\, FL\, 33991\, United States
CATEGORIES:Monthly Events & Activities
END:VEVENT
BEGIN:VEVENT
DTSTART;TZID=America/New_York:20251016T113000
DTEND;TZID=America/New_York:20251016T133000
DTSTAMP:20260423T050216
CREATED:20250722T221610Z
LAST-MODIFIED:20250722T221841Z
UID:10005763-1760614200-1760621400@capecoralnewresident.com
SUMMARY:Ladies Luncheon - October - Walk-Ons
DESCRIPTION:
URL:https://capecoralnewresident.com/event/ladies-luncheon-october-walk-ons/
LOCATION:Walk Ons\, 1127 SW Pine Island Road\, Cape Coral\, United States
CATEGORIES:Monthly Events & Activities
ATTACH;FMTTYPE=image/png:https://capecoralnewresident.com/wp-content/uploads/2025/07/Ladies-Luncheon-Oct-2025-Walk-Ons.png
ORGANIZER;CN="Gail Warren":MAILTO:thegailwarren@gmail.com
END:VEVENT
BEGIN:VEVENT
DTSTART;TZID=America/New_York:20251021T094500
DTEND;TZID=America/New_York:20251021T110000
DTSTAMP:20260423T050216
CREATED:20250610T182638Z
LAST-MODIFIED:20250610T182847Z
UID:10005755-1761039900-1761044400@capecoralnewresident.com
SUMMARY:Nan's Ranch Free Tour
DESCRIPTION:Park on the right where is states visitation on the building.
URL:https://capecoralnewresident.com/event/nans-ranch-free-tour/
LOCATION:Nan’s Ranch\, 2501 Ortiz Avenue\, Fort Myers\, United States
CATEGORIES:Monthly Events & Activities
ATTACH;FMTTYPE=image/jpeg:https://capecoralnewresident.com/wp-content/uploads/2025/06/Nans-Ranch-002.jpg
END:VEVENT
BEGIN:VEVENT
DTSTART;TZID=America/New_York:20251029T170000
DTEND;TZID=America/New_York:20251029T200000
DTSTAMP:20260423T050216
CREATED:20250722T150040Z
LAST-MODIFIED:20250722T150138Z
UID:10005761-1761757200-1761768000@capecoralnewresident.com
SUMMARY:Game Night at Dave & Busters
DESCRIPTION:Come have fun together.  Each participant is responsible for their own food\, drinks and games.
URL:https://capecoralnewresident.com/event/game-night-at-dave-busters/
LOCATION:Dave & Buster’s\, 13499 Cleveland Avenue; Ste 400\, Fort Myers\, 33907\, United States
CATEGORIES:Monthly Events & Activities
ATTACH;FMTTYPE=image/png:https://capecoralnewresident.com/wp-content/uploads/2025/07/Dave-and-Busters-1-002.png
END:VEVENT
END:VCALENDAR