BEGIN:VCALENDAR
VERSION:2.0
PRODID:-//New Resident Club of Cape Coral - ECPv6.15.20//NONSGML v1.0//EN
CALSCALE:GREGORIAN
METHOD:PUBLISH
X-ORIGINAL-URL:https://capecoralnewresident.com
X-WR-CALDESC:Events for New Resident Club of Cape Coral
REFRESH-INTERVAL;VALUE=DURATION:PT1H
X-Robots-Tag:noindex
X-PUBLISHED-TTL:PT1H
BEGIN:VTIMEZONE
TZID:America/New_York
BEGIN:DAYLIGHT
TZOFFSETFROM:-0500
TZOFFSETTO:-0400
TZNAME:EDT
DTSTART:20240310T070000
END:DAYLIGHT
BEGIN:STANDARD
TZOFFSETFROM:-0400
TZOFFSETTO:-0500
TZNAME:EST
DTSTART:20241103T060000
END:STANDARD
BEGIN:DAYLIGHT
TZOFFSETFROM:-0500
TZOFFSETTO:-0400
TZNAME:EDT
DTSTART:20250309T070000
END:DAYLIGHT
BEGIN:STANDARD
TZOFFSETFROM:-0400
TZOFFSETTO:-0500
TZNAME:EST
DTSTART:20251102T060000
END:STANDARD
BEGIN:DAYLIGHT
TZOFFSETFROM:-0500
TZOFFSETTO:-0400
TZNAME:EDT
DTSTART:20260308T070000
END:DAYLIGHT
BEGIN:STANDARD
TZOFFSETFROM:-0400
TZOFFSETTO:-0500
TZNAME:EST
DTSTART:20261101T060000
END:STANDARD
END:VTIMEZONE
BEGIN:VEVENT
DTSTART;TZID=America/New_York:20251101T173000
DTEND;TZID=America/New_York:20251101T210000
DTSTAMP:20260423T031420
CREATED:20250609T212251Z
LAST-MODIFIED:20250609T212251Z
UID:10005750-1762018200-1762030800@capecoralnewresident.com
SUMMARY:Cape Coral Social Club Dance
DESCRIPTION:The Cape Coral Social Club has invited all NRC Members to their dances and we will be posting them to our website. \nContact social club directly to sign up: \nhttps://www.capecoralsocialclub.org/monthlydance \n 
URL:https://capecoralnewresident.com/event/cape-coral-social-club-dance-5/
LOCATION:German American Social Club\, 2101 SW Pine Island Road\, Cape Coral\, United States
CATEGORIES:Monthly Events & Activities
ATTACH;FMTTYPE=image/png:https://capecoralnewresident.com/wp-content/uploads/2025/06/Social-Club-Dance-Nov.png
END:VEVENT
BEGIN:VEVENT
DTSTART;VALUE=DATE:20251105
DTEND;VALUE=DATE:20251106
DTSTAMP:20260423T031420
CREATED:20240301T015551Z
LAST-MODIFIED:20250813T190119Z
UID:10005090-1762300800-1762387199@capecoralnewresident.com
SUMMARY:Sunset with Friends
DESCRIPTION:
URL:https://capecoralnewresident.com/event/sunset-with-friends/2025-11-05/
LOCATION:Cape Coral Yacht Club Beach\, 5819 Driftwood Pkwy\, Cape Coral\, 33904\, United States
CATEGORIES:Monthly Events & Activities
END:VEVENT
BEGIN:VEVENT
DTSTART;TZID=America/New_York:20251106T170000
DTEND;TZID=America/New_York:20251106T193000
DTSTAMP:20260423T031420
CREATED:20250721T165352Z
LAST-MODIFIED:20250721T165353Z
UID:10005614-1762448400-1762457400@capecoralnewresident.com
SUMMARY:General Meeting at Cape Cabaret
DESCRIPTION: \n\nThis months general meeting will be at 5:00 pm.  Location TBD\nWe have a room inside for the general meeting\nThere is an opportunity to sign up for membership as well as member events at the General Meeting.\n \n\n 
URL:https://capecoralnewresident.com/event/general-meeting-at-cape-cabaret-13-3/
LOCATION:FL\, United States
CATEGORIES:Meeting
ATTACH;FMTTYPE=image/png:https://capecoralnewresident.com/wp-content/uploads/2023/09/meeting-notice-ssbc-e1582041008823.png
END:VEVENT
BEGIN:VEVENT
DTSTART;TZID=America/New_York:20251106T183000
DTEND;TZID=America/New_York:20251106T203000
DTSTAMP:20260423T031420
CREATED:20251010T135627Z
LAST-MODIFIED:20251010T135627Z
UID:10005791-1762453800-1762461000@capecoralnewresident.com
SUMMARY:Singo Bingo after November 6 General Meeting
DESCRIPTION:NRC has arranged for up to 60 participants to join in Singo Bingo after the general meeting.  The general meeting starts at 5p at Cape Cabaret.  Singo Bingo follows at 6:30p.   \nNO Cover Charge / $10 minimum purchase per person required
URL:https://capecoralnewresident.com/event/singo-bingo-after-november-6-general-meeting/
LOCATION:Cape Cabaret\, 4725 Vincennes Blvd\, Cape Coral\, 33904\, United States
CATEGORIES:Monthly Events & Activities
ORGANIZER;CN="Steve Warren":MAILTO:nrcpresident@capecoralnewresident.com
END:VEVENT
BEGIN:VEVENT
DTSTART;TZID=America/New_York:20251108T090000
DTEND;TZID=America/New_York:20251108T160000
DTSTAMP:20260423T031420
CREATED:20250729T220744Z
LAST-MODIFIED:20250729T220754Z
UID:10005764-1762592400-1762617600@capecoralnewresident.com
SUMMARY:Wonder Gardens Visit - In Bonita Springs
DESCRIPTION:Come visit a vast array of rescued\, rehabilitated and non-releasable animals\, including alligators\, flamingoes\, pythons\, macaws\, turtles and more. \nNo Fee at time of sign up on NRC website; pay at admission or on Wonder Gardens website – fee ranges between $12-$17 per person.  Tour on your own event – from 9a – 4p. \n  \n 
URL:https://capecoralnewresident.com/event/wonder-gardens-visit-in-bonita-springs/
LOCATION:Wonder Gardens\, 27180 Old 41 Road\, Bonita Springs\, United States
CATEGORIES:Monthly Events & Activities
ATTACH;FMTTYPE=image/png:https://capecoralnewresident.com/wp-content/uploads/2025/07/Wonder-gardens-002.png
END:VEVENT
BEGIN:VEVENT
DTSTART;VALUE=DATE:20251110
DTEND;VALUE=DATE:20251111
DTSTAMP:20260423T031420
CREATED:20240301T030226Z
LAST-MODIFIED:20240301T030226Z
UID:10005211-1762732800-1762819199@capecoralnewresident.com
SUMMARY:Cocktails on the Cape
DESCRIPTION:
URL:https://capecoralnewresident.com/event/cocktails-on-the-cape-4/2025-11-10/
LOCATION:FL
CATEGORIES:Monthly Events & Activities
END:VEVENT
BEGIN:VEVENT
DTSTART;TZID=America/New_York:20251110T170000
DTEND;TZID=America/New_York:20251110T190000
DTSTAMP:20260423T031420
CREATED:20250925T210242Z
LAST-MODIFIED:20251013T201839Z
UID:10005790-1762794000-1762801200@capecoralnewresident.com
SUMMARY:Cocktails on the Cape - November 2025 - Maria's Pizzeria
DESCRIPTION:
URL:https://capecoralnewresident.com/event/cocktails-on-the-cape-november-2025-marias-pizzeria/
LOCATION:Maria’s Pizzeria\, 1244 SE 46th Lane\, Cape Coral\, United States
CATEGORIES:Monthly Events & Activities
ATTACH;FMTTYPE=image/png:https://capecoralnewresident.com/wp-content/uploads/2025/09/Black-and-Orange-Restaurant-Menu-Flyer-3-002.png
END:VEVENT
BEGIN:VEVENT
DTSTART;TZID=America/New_York:20251113T173000
DTEND;TZID=America/New_York:20251113T190000
DTSTAMP:20260423T031420
CREATED:20251024T011746Z
LAST-MODIFIED:20251024T012922Z
UID:10005792-1763055000-1763060400@capecoralnewresident.com
SUMMARY:Flying Solo Together Drinks & Dinner at The Rustic
DESCRIPTION:The Rustic had invited us to a Sub and Fun Night.  We will indulge in a culinary experience that combines flavor\, quality and Florida Flair.  We have the entire restaurant to try the all-you-can-eat amazing sandwiches and fresh salads.  The price for all-you-can-eat is $24 per person\, which includes the buffet\, one soft drink or ice tea\, tax and gratuity.  \nWe will collect and pay at the restaurant.  \nThere are only 25 seats available for this event. \nRSVP to Dot Binder at \nnrcdotbinder@gmail.com \n 
URL:https://capecoralnewresident.com/event/flying-solo-together-drinks-dinner-at-the-rustic/
LOCATION:The Rustic\, 2924 Del Prado Blvd\, Cape Coral\, FL\, 33914\, United States
CATEGORIES:Monthly Events & Activities
ATTACH;FMTTYPE=image/png:https://capecoralnewresident.com/wp-content/uploads/2025/10/FlyingSolo-Together-Subs-and-Funpng.png
ORGANIZER;CN="Dot Binder":MAILTO:nrcdotbinder@gmail.com
END:VEVENT
BEGIN:VEVENT
DTSTART;TZID=America/New_York:20251119T080000
DTEND;TZID=America/New_York:20251119T170000
DTSTAMP:20260423T031420
CREATED:20251119T152507Z
LAST-MODIFIED:20251119T152507Z
UID:10005806-1763539200-1763571600@capecoralnewresident.com
SUMMARY:Cocktails on the Cape December 8
DESCRIPTION:Cocktails on the Cape at Overtime Pizzeria and Sports Bar \nHappy Hour drink prices 5:-6:30. \n 
URL:https://capecoralnewresident.com/event/cocktails-on-the-cape-december-8/
LOCATION:FL
END:VEVENT
BEGIN:VEVENT
DTSTART;TZID=America/New_York:20251119T140000
DTEND;TZID=America/New_York:20251119T170000
DTSTAMP:20260423T031420
CREATED:20250908T174310Z
LAST-MODIFIED:20250908T174310Z
UID:10005787-1763560800-1763571600@capecoralnewresident.com
SUMMARY:Paint Some Pottery at The Bent Brush
DESCRIPTION:Register here and choose your favorite pottery to buy when you arrive
URL:https://capecoralnewresident.com/event/paint-some-pottery-at-the-bent-brush/
LOCATION:The Bent Brush\, 1625 SE 47th Terrace; Unit 4\, Cape Coral\, 33904\, United States
CATEGORIES:Monthly Events & Activities
ATTACH;FMTTYPE=image/jpeg:https://capecoralnewresident.com/wp-content/uploads/2025/09/bent-brush.jpg
END:VEVENT
BEGIN:VEVENT
DTSTART;TZID=America/New_York:20251120T090000
DTEND;TZID=America/New_York:20251120T110000
DTSTAMP:20260423T031420
CREATED:20231217T185244Z
LAST-MODIFIED:20260405T203320Z
UID:10005639-1763629200-1763636400@capecoralnewresident.com
SUMMARY:Men's Breakfast
DESCRIPTION:Men’s Breakfast\n\nThird Thursday 9am House of Omelet’s 900 SW Pine Island Rd \nThe Men’s Breakfast is a long standing tradition of the NRC & provides an opportunity for a hearty meal among friends. \nNo Sign-Up required. Select from menu & pay individually. \n 
URL:https://capecoralnewresident.com/event/mens-breakfast/2025-11-20/
LOCATION:House of Omelet’s\, 900 SW Pine Island Rd\, Cape Coral\, FL\, 33991\, United States
CATEGORIES:Monthly Events & Activities
END:VEVENT
BEGIN:VEVENT
DTSTART;TZID=America/New_York:20251120T113000
DTEND;TZID=America/New_York:20251120T113000
DTSTAMP:20260423T031420
CREATED:20251029T191459Z
LAST-MODIFIED:20251110T161711Z
UID:10005798-1763638200-1763638200@capecoralnewresident.com
SUMMARY:Ladies Luncheon - November - Point 57
DESCRIPTION:
URL:https://capecoralnewresident.com/event/ladies-luncheon-november-point-57/
LOCATION:Point 57\, 3522 Del Prado Blvd S\, Cape Coral\, 33904\, United States
CATEGORIES:Monthly Events & Activities
ATTACH;FMTTYPE=image/png:https://capecoralnewresident.com/wp-content/uploads/2025/10/NRC-Ladies-Luncheon.png-november-2025.png
ORGANIZER;CN="Wendy Helfer":MAILTO:wendyhelfer@gmail.com
END:VEVENT
END:VCALENDAR