BEGIN:VCALENDAR
VERSION:2.0
PRODID:-//New Resident Club of Cape Coral - ECPv6.15.20//NONSGML v1.0//EN
CALSCALE:GREGORIAN
METHOD:PUBLISH
X-ORIGINAL-URL:https://capecoralnewresident.com
X-WR-CALDESC:Events for New Resident Club of Cape Coral
REFRESH-INTERVAL;VALUE=DURATION:PT1H
X-Robots-Tag:noindex
X-PUBLISHED-TTL:PT1H
BEGIN:VTIMEZONE
TZID:America/New_York
BEGIN:DAYLIGHT
TZOFFSETFROM:-0500
TZOFFSETTO:-0400
TZNAME:EDT
DTSTART:20240310T070000
END:DAYLIGHT
BEGIN:STANDARD
TZOFFSETFROM:-0400
TZOFFSETTO:-0500
TZNAME:EST
DTSTART:20241103T060000
END:STANDARD
BEGIN:DAYLIGHT
TZOFFSETFROM:-0500
TZOFFSETTO:-0400
TZNAME:EDT
DTSTART:20250309T070000
END:DAYLIGHT
BEGIN:STANDARD
TZOFFSETFROM:-0400
TZOFFSETTO:-0500
TZNAME:EST
DTSTART:20251102T060000
END:STANDARD
BEGIN:DAYLIGHT
TZOFFSETFROM:-0500
TZOFFSETTO:-0400
TZNAME:EDT
DTSTART:20260308T070000
END:DAYLIGHT
BEGIN:STANDARD
TZOFFSETFROM:-0400
TZOFFSETTO:-0500
TZNAME:EST
DTSTART:20261101T060000
END:STANDARD
END:VTIMEZONE
BEGIN:VEVENT
DTSTART;VALUE=DATE:20251203
DTEND;VALUE=DATE:20251204
DTSTAMP:20260423T012610
CREATED:20240301T015551Z
LAST-MODIFIED:20250813T190119Z
UID:10005091-1764720000-1764806399@capecoralnewresident.com
SUMMARY:Sunset with Friends
DESCRIPTION:
URL:https://capecoralnewresident.com/event/sunset-with-friends/2025-12-03/
LOCATION:Cape Coral Yacht Club Beach\, 5819 Driftwood Pkwy\, Cape Coral\, 33904\, United States
CATEGORIES:Monthly Events & Activities
END:VEVENT
BEGIN:VEVENT
DTSTART;TZID=America/New_York:20251204T091500
DTEND;TZID=America/New_York:20251204T103000
DTSTAMP:20260423T012610
CREATED:20251202T182116Z
LAST-MODIFIED:20251202T182116Z
UID:10005627-1764839700-1764844200@capecoralnewresident.com
SUMMARY:General Meeting at the Lake Kennedy Center -Guest Speaker Cape Coral Fire Chief
DESCRIPTION: \nThis months general meeting will be at 9:15am at the Lake Kennedy Center\, 400 Santa Barbara Blvd. in Cape Coral.\n \nGuest Speaker is the Cape Coral Fire Chief\n \nDoors open 30 minutes prior to meeting start time. Light refreshments are served.\n \nThere is an opportunity to sign up for membership as well as member events at the General Meeting.\n 
URL:https://capecoralnewresident.com/event/general-meeting-at-the-lake-kennedy-center-14-2/
LOCATION:Lake Kennedy Center\, 400 Santa Barbara Blvd.\, Cape Coral\, FL\, 33915\, United States
CATEGORIES:Meeting
ATTACH;FMTTYPE=image/png:https://capecoralnewresident.com/wp-content/uploads/2023/09/meeting-notice-ssbc-e1582041008823.png
END:VEVENT
BEGIN:VEVENT
DTSTART;TZID=America/New_York:20251206T173000
DTEND;TZID=America/New_York:20251206T213000
DTSTAMP:20260423T012610
CREATED:20250609T212513Z
LAST-MODIFIED:20251122T161105Z
UID:10005751-1765042200-1765056600@capecoralnewresident.com
SUMMARY:Cape Coral Social Club Ugly Sweater Holiday Dinner Dance
DESCRIPTION:The Cape Coral Social Club has invited all NRC Members to their holiday dance – Ugly sweater contest – sign up by December 2. \nContact social club directly to sign up: \nhttps://www.capecoralsocialclub.org/monthlydance \n 
URL:https://capecoralnewresident.com/event/cape-coral-social-club-dance-6/
LOCATION:German American Social Club\, 2101 SW Pine Island Road\, Cape Coral\, United States
CATEGORIES:Monthly Events & Activities
ATTACH;FMTTYPE=image/png:https://capecoralnewresident.com/wp-content/uploads/2025/06/540829_6d08dcf553754664863c30fcf2de3532mv2.png
END:VEVENT
BEGIN:VEVENT
DTSTART;TZID=America/New_York:20251208T170000
DTEND;TZID=America/New_York:20251208T190000
DTSTAMP:20260423T012610
CREATED:20251108T024952Z
LAST-MODIFIED:20251207T025625Z
UID:10005805-1765213200-1765220400@capecoralnewresident.com
SUMMARY:Cocktails on the Cape - December 2025 - Overtime
DESCRIPTION:
URL:https://capecoralnewresident.com/event/cocktails-on-the-cape-december-2025-overtime/
LOCATION:Overtime Pizza\, 1708 Cape Coral Pkwy\, Cape Coral\, FL\, 33914\, United States
CATEGORIES:Monthly Events & Activities
ATTACH;FMTTYPE=image/png:https://capecoralnewresident.com/wp-content/uploads/2025/11/NRC-Cocktails-on-the-Cape-1.png
ORGANIZER;CN="Sheila Mitchell":MAILTO:sheilamitchell90@gmail.com
END:VEVENT
BEGIN:VEVENT
DTSTART;TZID=America/New_York:20251211T173000
DTEND;TZID=America/New_York:20251211T213000
DTSTAMP:20260423T012610
CREATED:20250903T202000Z
LAST-MODIFIED:20250903T202202Z
UID:10005786-1765474200-1765488600@capecoralnewresident.com
SUMMARY:NRC Holiday Party - Don't Miss this one!
DESCRIPTION:Hours D’ Oeuveres\, Dinner\, Dessert \nLive Band \nOpen Bar \nSilent Auction \n$75 for NRC Members\, $80 for non member guests
URL:https://capecoralnewresident.com/event/nrc-holiday-party-dont-miss-this-one/
LOCATION:La Venezia Ballroom\, 4646 SE 10th Pl\, Cape Coral\, 33904\, United States
CATEGORIES:Monthly Events & Activities
ATTACH;FMTTYPE=image/png:https://capecoralnewresident.com/wp-content/uploads/2025/09/Light-Blue-and-White-Illustrative-Merry-Christmas-Party-Winter-Season-Holiday-Invitation-Flyer-3-002.png
END:VEVENT
BEGIN:VEVENT
DTSTART;TZID=America/New_York:20251218T090000
DTEND;TZID=America/New_York:20251218T110000
DTSTAMP:20260423T012610
CREATED:20231217T185244Z
LAST-MODIFIED:20260405T203320Z
UID:10005640-1766048400-1766055600@capecoralnewresident.com
SUMMARY:Men's Breakfast
DESCRIPTION:Men’s Breakfast\n\nThird Thursday 9am House of Omelet’s 900 SW Pine Island Rd \nThe Men’s Breakfast is a long standing tradition of the NRC & provides an opportunity for a hearty meal among friends. \nNo Sign-Up required. Select from menu & pay individually. \n 
URL:https://capecoralnewresident.com/event/mens-breakfast/2025-12-18/
LOCATION:House of Omelet’s\, 900 SW Pine Island Rd\, Cape Coral\, FL\, 33991\, United States
CATEGORIES:Monthly Events & Activities
END:VEVENT
BEGIN:VEVENT
DTSTART;TZID=America/New_York:20251218T113000
DTEND;TZID=America/New_York:20251218T133000
DTSTAMP:20260423T012610
CREATED:20251107T181516Z
LAST-MODIFIED:20251110T232236Z
UID:10005799-1766057400-1766064600@capecoralnewresident.com
SUMMARY:December Ladies Luncheon - Fins
DESCRIPTION:
URL:https://capecoralnewresident.com/event/december-ladies-luncheon-fins/
LOCATION:Fins Seafood & Dive Bar\, 3422 Del Prado Blvd S\, Cape Coral\, FL\, 33904\, United States
CATEGORIES:Monthly Events & Activities
ATTACH;FMTTYPE=image/png:https://capecoralnewresident.com/wp-content/uploads/2025/11/December-Ladies-Luncheon-at-Fins-2.png
ORGANIZER;CN="Wendy Helfer":MAILTO:wendyhelfer@gmail.com
END:VEVENT
END:VCALENDAR