BEGIN:VCALENDAR
VERSION:2.0
PRODID:-//New Resident Club of Cape Coral - ECPv6.15.20//NONSGML v1.0//EN
CALSCALE:GREGORIAN
METHOD:PUBLISH
X-WR-CALNAME:New Resident Club of Cape Coral
X-ORIGINAL-URL:https://capecoralnewresident.com
X-WR-CALDESC:Events for New Resident Club of Cape Coral
REFRESH-INTERVAL;VALUE=DURATION:PT1H
X-Robots-Tag:noindex
X-PUBLISHED-TTL:PT1H
BEGIN:VTIMEZONE
TZID:America/New_York
BEGIN:DAYLIGHT
TZOFFSETFROM:-0500
TZOFFSETTO:-0400
TZNAME:EDT
DTSTART:20250309T070000
END:DAYLIGHT
BEGIN:STANDARD
TZOFFSETFROM:-0400
TZOFFSETTO:-0500
TZNAME:EST
DTSTART:20251102T060000
END:STANDARD
BEGIN:DAYLIGHT
TZOFFSETFROM:-0500
TZOFFSETTO:-0400
TZNAME:EDT
DTSTART:20260308T070000
END:DAYLIGHT
BEGIN:STANDARD
TZOFFSETFROM:-0400
TZOFFSETTO:-0500
TZNAME:EST
DTSTART:20261101T060000
END:STANDARD
BEGIN:DAYLIGHT
TZOFFSETFROM:-0500
TZOFFSETTO:-0400
TZNAME:EDT
DTSTART:20270314T070000
END:DAYLIGHT
BEGIN:STANDARD
TZOFFSETFROM:-0400
TZOFFSETTO:-0500
TZNAME:EST
DTSTART:20271107T060000
END:STANDARD
END:VTIMEZONE
BEGIN:VEVENT
DTSTART;TZID=America/New_York:20260305T170000
DTEND;TZID=America/New_York:20260305T193000
DTSTAMP:20260422T195242
CREATED:20251202T182727Z
LAST-MODIFIED:20251202T182748Z
UID:10005815-1772730000-1772739000@capecoralnewresident.com
SUMMARY:General Meeting at Cape Cabaret
DESCRIPTION: \n\nThis months general meeting will be at 5:00 pm. \nWe have a room inside for the general meeting\nThere is an opportunity to sign up for membership as well as member events at the General Meeting.\n \n\n 
URL:https://capecoralnewresident.com/event/general-meeting-at-cape-cabaret-3/
LOCATION:FL\, United States
CATEGORIES:Meeting
ATTACH;FMTTYPE=image/png:https://capecoralnewresident.com/wp-content/uploads/2023/09/meeting-notice-ssbc-e1582041008823.png
END:VEVENT
BEGIN:VEVENT
DTSTART;TZID=America/New_York:20260305T183000
DTEND;TZID=America/New_York:20260305T203000
DTSTAMP:20260422T195242
CREATED:20251202T183006Z
LAST-MODIFIED:20251202T183049Z
UID:10005816-1772735400-1772742600@capecoralnewresident.com
SUMMARY:Singo Bingo after March 5 General Meeting
DESCRIPTION:NRC has arranged for up to 60 participants to join in Singo Bingo after the general meeting.  The general meeting starts at 5p at Cape Cabaret.  Singo Bingo follows at 6:30p.   \nNO Cover Charge / $10 minimum purchase per person required
URL:https://capecoralnewresident.com/event/singo-bingo-after-march-5-general-meeting/
LOCATION:Cape Cabaret\, 4725 Vincennes Blvd\, Cape Coral\, 33904\, United States
CATEGORIES:Monthly Events & Activities
END:VEVENT
BEGIN:VEVENT
DTSTART;VALUE=DATE:20260309
DTEND;VALUE=DATE:20260310
DTSTAMP:20260422T195242
CREATED:20240301T030226Z
LAST-MODIFIED:20240301T030226Z
UID:10005215-1773014400-1773100799@capecoralnewresident.com
SUMMARY:Cocktails on the Cape
DESCRIPTION:
URL:https://capecoralnewresident.com/event/cocktails-on-the-cape-4/2026-03-09/
LOCATION:FL
CATEGORIES:Monthly Events & Activities
END:VEVENT
BEGIN:VEVENT
DTSTART;TZID=America/New_York:20260309T170000
DTEND;TZID=America/New_York:20260309T190000
DTSTAMP:20260422T195242
CREATED:20260205T230537Z
LAST-MODIFIED:20260302T220749Z
UID:10005836-1773075600-1773082800@capecoralnewresident.com
SUMMARY:Cocktails on the Cape - March 2026 - Jungle Bird Tiki
DESCRIPTION:
URL:https://capecoralnewresident.com/event/cocktails-on-the-cape-march-2026-jungle-bird-tiki/
LOCATION:Jungle Bird Tiki\, 1520 Lafayette Street\, Cape Coral\, 33904\, United States
CATEGORIES:Monthly Events & Activities
ATTACH;FMTTYPE=image/jpeg:https://capecoralnewresident.com/wp-content/uploads/2026/02/Cocktails-Tiki-1.jpg
ORGANIZER;CN="Sheila Mitchell":MAILTO:sheilamitchell90@gmail.com
END:VEVENT
BEGIN:VEVENT
DTSTART;TZID=America/New_York:20260310T110000
DTEND;TZID=America/New_York:20260310T170000
DTSTAMP:20260422T195242
CREATED:20260206T151518Z
LAST-MODIFIED:20260206T151700Z
UID:10005837-1773140400-1773162000@capecoralnewresident.com
SUMMARY:Tigers Vs Red Sox Spring Training Game
DESCRIPTION:Contact Tom Robertson to attend:  $84 per person\, include Homerun BBQ Picnic at Jet Blue Park \n11:05a: Picnic \n1:05p: Game \nMust provide own transportation \nemail:  Mantlefan54@hotmail.com
URL:https://capecoralnewresident.com/event/yankees-vs-red-sox-spring-training-game/
LOCATION:Jet Blue Park\, 11500 Fenway South Drive\, Fort Myers\, United States
CATEGORIES:Monthly Events & Activities
ATTACH;FMTTYPE=image/jpeg:https://capecoralnewresident.com/wp-content/uploads/2026/02/Yankees-Vs-Red-Sox.jpg
ORGANIZER;CN="Tom Robertson":MAILTO:mantlefan54@hotmail.com
END:VEVENT
BEGIN:VEVENT
DTSTART;TZID=America/New_York:20260311T183000
DTEND;TZID=America/New_York:20260311T213000
DTSTAMP:20260422T195242
CREATED:20260107T213544Z
LAST-MODIFIED:20260107T213544Z
UID:10005829-1773253800-1773264600@capecoralnewresident.com
SUMMARY:Learn to Make Pasta
DESCRIPTION:Sign up at Kitchen Social and let Cindy Patrick know you have signed up:  seabreezejewels@sbcglobal.net
URL:https://capecoralnewresident.com/event/learn-to-make-pasta/
LOCATION:Kitchen Social Fort Myers\, 14261 South Tamiami Trail\, Fort Myers\, 33912\, United States
CATEGORIES:Monthly Events & Activities
ATTACH;FMTTYPE=image/jpeg:https://capecoralnewresident.com/wp-content/uploads/2026/01/Learn-to-Make-Pasta.jpg
END:VEVENT
BEGIN:VEVENT
DTSTART;TZID=America/New_York:20260319T090000
DTEND;TZID=America/New_York:20260319T110000
DTSTAMP:20260422T195242
CREATED:20231217T185244Z
LAST-MODIFIED:20260405T203320Z
UID:10005643-1773910800-1773918000@capecoralnewresident.com
SUMMARY:Men's Breakfast
DESCRIPTION:Men’s Breakfast\n\nThird Thursday 9am House of Omelet’s 900 SW Pine Island Rd \nThe Men’s Breakfast is a long standing tradition of the NRC & provides an opportunity for a hearty meal among friends. \nNo Sign-Up required. Select from menu & pay individually. \n 
URL:https://capecoralnewresident.com/event/mens-breakfast/2026-03-19/
LOCATION:House of Omelet’s\, 900 SW Pine Island Rd\, Cape Coral\, FL\, 33991\, United States
CATEGORIES:Monthly Events & Activities
END:VEVENT
BEGIN:VEVENT
DTSTART;TZID=America/New_York:20260319T113000
DTEND;TZID=America/New_York:20260319T133000
DTSTAMP:20260422T195242
CREATED:20260227T002100Z
LAST-MODIFIED:20260227T202637Z
UID:10005842-1773919800-1773927000@capecoralnewresident.com
SUMMARY:March Ladies Luncheon - Oak and Stone
DESCRIPTION:
URL:https://capecoralnewresident.com/event/march-ladies-luncheon-oak-and-stone/
LOCATION:Oak and Stone\, 4720 SE 9th Pl suite 400\, Cape Coral\, FL\, United States
CATEGORIES:Monthly Events & Activities
ATTACH;FMTTYPE=image/png:https://capecoralnewresident.com/wp-content/uploads/2026/02/NRC-Ladies-Luncheon-Thursday-May-15-2.png
ORGANIZER;CN="Wendy Helfer":MAILTO:wendyhelfer@gmail.com
END:VEVENT
BEGIN:VEVENT
DTSTART;TZID=America/New_York:20260325T170000
DTEND;TZID=America/New_York:20260325T193000
DTSTAMP:20260422T195242
CREATED:20260224T160632Z
LAST-MODIFIED:20260224T161124Z
UID:10005841-1774458000-1774467000@capecoralnewresident.com
SUMMARY:Dave & Busters Game Night
DESCRIPTION:
URL:https://capecoralnewresident.com/event/dave-busters-game-night/
LOCATION:Dave & Buster’s\, 13499 Cleveland Avenue; Ste 400\, Fort Myers\, 33907\, United States
CATEGORIES:Monthly Events & Activities
ATTACH;FMTTYPE=image/png:https://capecoralnewresident.com/wp-content/uploads/2026/02/Dave-and-Busters-2.png
END:VEVENT
END:VCALENDAR