BEGIN:VCALENDAR
VERSION:2.0
PRODID:-//New Resident Club of Cape Coral - ECPv6.15.20//NONSGML v1.0//EN
CALSCALE:GREGORIAN
METHOD:PUBLISH
X-WR-CALNAME:New Resident Club of Cape Coral
X-ORIGINAL-URL:https://capecoralnewresident.com
X-WR-CALDESC:Events for New Resident Club of Cape Coral
REFRESH-INTERVAL;VALUE=DURATION:PT1H
X-Robots-Tag:noindex
X-PUBLISHED-TTL:PT1H
BEGIN:VTIMEZONE
TZID:America/New_York
BEGIN:DAYLIGHT
TZOFFSETFROM:-0500
TZOFFSETTO:-0400
TZNAME:EDT
DTSTART:20250309T070000
END:DAYLIGHT
BEGIN:STANDARD
TZOFFSETFROM:-0400
TZOFFSETTO:-0500
TZNAME:EST
DTSTART:20251102T060000
END:STANDARD
BEGIN:DAYLIGHT
TZOFFSETFROM:-0500
TZOFFSETTO:-0400
TZNAME:EDT
DTSTART:20260308T070000
END:DAYLIGHT
BEGIN:STANDARD
TZOFFSETFROM:-0400
TZOFFSETTO:-0500
TZNAME:EST
DTSTART:20261101T060000
END:STANDARD
BEGIN:DAYLIGHT
TZOFFSETFROM:-0500
TZOFFSETTO:-0400
TZNAME:EDT
DTSTART:20270314T070000
END:DAYLIGHT
BEGIN:STANDARD
TZOFFSETFROM:-0400
TZOFFSETTO:-0500
TZNAME:EST
DTSTART:20271107T060000
END:STANDARD
END:VTIMEZONE
BEGIN:VEVENT
DTSTART;TZID=America/New_York:20260502T173000
DTEND;TZID=America/New_York:20260502T213000
DTSTAMP:20260422T180519
CREATED:20260324T184405Z
LAST-MODIFIED:20260324T184405Z
UID:10005851-1777743000-1777757400@capecoralnewresident.com
SUMMARY:Dinner Dance - German Social Club - Fiesta!
DESCRIPTION:NRC members are welcome to attend German Social Club Dinner Dances.  May is Fiesta! \nMusic by:  Anthony Natiello \nSign up at Capecoralsocialclub.org or at Farmer Joe’s.
URL:https://capecoralnewresident.com/event/dinner-dance-german-social-club-fiesta/
LOCATION:German American Social Club\, 2101 SW Pine Island Road\, Cape Coral\, United States
CATEGORIES:Monthly Events & Activities
END:VEVENT
BEGIN:VEVENT
DTSTART;TZID=America/New_York:20260507T170000
DTEND;TZID=America/New_York:20260507T193000
DTSTAMP:20260422T180519
CREATED:20251202T183232Z
LAST-MODIFIED:20251202T183232Z
UID:10005817-1778173200-1778182200@capecoralnewresident.com
SUMMARY:General Meeting at Cape Cabaret
DESCRIPTION: \n\nThis months general meeting will be at 5:00 pm. \nWe have a room inside for the general meeting\nThere is an opportunity to sign up for membership as well as member events at the General Meeting.\n \n\n 
URL:https://capecoralnewresident.com/event/general-meeting-at-cape-cabaret-4/
LOCATION:United States
CATEGORIES:Meeting
ATTACH;FMTTYPE=image/png:https://capecoralnewresident.com/wp-content/uploads/2023/09/meeting-notice-ssbc-e1582041008823.png
END:VEVENT
BEGIN:VEVENT
DTSTART;TZID=America/New_York:20260507T183000
DTEND;TZID=America/New_York:20260507T203000
DTSTAMP:20260422T180519
CREATED:20251202T183331Z
LAST-MODIFIED:20251202T183331Z
UID:10005818-1778178600-1778185800@capecoralnewresident.com
SUMMARY:Singo Bingo after May 7 General Meeting
DESCRIPTION:NRC has arranged for up to 60 participants to join in Singo Bingo after the general meeting.  The general meeting starts at 5p at Cape Cabaret.  Singo Bingo follows at 6:30p.   \nNO Cover Charge / $10 minimum purchase per person required
URL:https://capecoralnewresident.com/event/singo-bingo-after-may-7-general-meeting/
LOCATION:Cape Cabaret\, 4725 Vincennes Blvd\, Cape Coral\, 33904\, United States
CATEGORIES:Monthly Events & Activities
END:VEVENT
END:VCALENDAR