BEGIN:VCALENDAR
VERSION:2.0
PRODID:-//New Resident Club of Cape Coral - ECPv6.15.20//NONSGML v1.0//EN
CALSCALE:GREGORIAN
METHOD:PUBLISH
X-WR-CALNAME:New Resident Club of Cape Coral
X-ORIGINAL-URL:https://capecoralnewresident.com
X-WR-CALDESC:Events for New Resident Club of Cape Coral
REFRESH-INTERVAL;VALUE=DURATION:PT1H
X-Robots-Tag:noindex
X-PUBLISHED-TTL:PT1H
BEGIN:VTIMEZONE
TZID:America/New_York
BEGIN:DAYLIGHT
TZOFFSETFROM:-0500
TZOFFSETTO:-0400
TZNAME:EDT
DTSTART:20230312T070000
END:DAYLIGHT
BEGIN:STANDARD
TZOFFSETFROM:-0400
TZOFFSETTO:-0500
TZNAME:EST
DTSTART:20231105T060000
END:STANDARD
BEGIN:DAYLIGHT
TZOFFSETFROM:-0500
TZOFFSETTO:-0400
TZNAME:EDT
DTSTART:20240310T070000
END:DAYLIGHT
BEGIN:STANDARD
TZOFFSETFROM:-0400
TZOFFSETTO:-0500
TZNAME:EST
DTSTART:20241103T060000
END:STANDARD
BEGIN:DAYLIGHT
TZOFFSETFROM:-0500
TZOFFSETTO:-0400
TZNAME:EDT
DTSTART:20250309T070000
END:DAYLIGHT
BEGIN:STANDARD
TZOFFSETFROM:-0400
TZOFFSETTO:-0500
TZNAME:EST
DTSTART:20251102T060000
END:STANDARD
BEGIN:DAYLIGHT
TZOFFSETFROM:-0500
TZOFFSETTO:-0400
TZNAME:EDT
DTSTART:20260308T070000
END:DAYLIGHT
BEGIN:STANDARD
TZOFFSETFROM:-0400
TZOFFSETTO:-0500
TZNAME:EST
DTSTART:20261101T060000
END:STANDARD
BEGIN:DAYLIGHT
TZOFFSETFROM:-0500
TZOFFSETTO:-0400
TZNAME:EDT
DTSTART:20270314T070000
END:DAYLIGHT
BEGIN:STANDARD
TZOFFSETFROM:-0400
TZOFFSETTO:-0500
TZNAME:EST
DTSTART:20271107T060000
END:STANDARD
END:VTIMEZONE
BEGIN:VEVENT
DTSTART;TZID=America/New_York:20260115T190000
DTEND;TZID=America/New_York:20260115T210000
DTSTAMP:20260422T215041
CREATED:20251217T225644Z
LAST-MODIFIED:20251219T165800Z
UID:10005824-1768503600-1768510800@capecoralnewresident.com
SUMMARY:Flying Solo Together Get Together w Drinks (BYOB) at Cape Harbour Clubhouse
DESCRIPTION:RSVP to Dot Binder at \nnrcdotbinder@gmail.com \nor text 512-627-9305
URL:https://capecoralnewresident.com/event/flying-solo-together-drinks-dinner-at-cape-harbour-clubhouse/
LOCATION:Cape Harbour Clubhouse\, 1720 El Dorado Blvd West\, Cape Coral\, United States
CATEGORIES:Monthly Events & Activities
ATTACH;FMTTYPE=image/jpeg:https://capecoralnewresident.com/wp-content/uploads/2025/12/Happy-2026-Get-Together.jpg
ORGANIZER;CN="Dot Binder":MAILTO:nrcdotbinder@gmail.com
END:VEVENT
BEGIN:VEVENT
DTSTART;TZID=America/New_York:20251113T173000
DTEND;TZID=America/New_York:20251113T190000
DTSTAMP:20260422T215041
CREATED:20251024T011746Z
LAST-MODIFIED:20251024T012922Z
UID:10005792-1763055000-1763060400@capecoralnewresident.com
SUMMARY:Flying Solo Together Drinks & Dinner at The Rustic
DESCRIPTION:The Rustic had invited us to a Sub and Fun Night.  We will indulge in a culinary experience that combines flavor\, quality and Florida Flair.  We have the entire restaurant to try the all-you-can-eat amazing sandwiches and fresh salads.  The price for all-you-can-eat is $24 per person\, which includes the buffet\, one soft drink or ice tea\, tax and gratuity.  \nWe will collect and pay at the restaurant.  \nThere are only 25 seats available for this event. \nRSVP to Dot Binder at \nnrcdotbinder@gmail.com \n 
URL:https://capecoralnewresident.com/event/flying-solo-together-drinks-dinner-at-the-rustic/
LOCATION:The Rustic\, 2924 Del Prado Blvd\, Cape Coral\, FL\, 33914\, United States
CATEGORIES:Monthly Events & Activities
ATTACH;FMTTYPE=image/png:https://capecoralnewresident.com/wp-content/uploads/2025/10/FlyingSolo-Together-Subs-and-Funpng.png
ORGANIZER;CN="Dot Binder":MAILTO:nrcdotbinder@gmail.com
END:VEVENT
BEGIN:VEVENT
DTSTART;TZID=America/New_York:20251015T170000
DTEND;TZID=America/New_York:20251015T190000
DTSTAMP:20260422T215041
CREATED:20250924T203146Z
LAST-MODIFIED:20250924T203146Z
UID:10005789-1760547600-1760554800@capecoralnewresident.com
SUMMARY:Flying Solo Together Drinks & Dinner at Fathoms
DESCRIPTION:RSVP to Dot Binder at \nnrcdotbinder@gmail.com \nor text at:  512-627-9305
URL:https://capecoralnewresident.com/event/flying-solo-together-drinks-dinner-at-fathoms/
LOCATION:Fathoms\, 5785 Cape Harbour Drive\, Cape Coral\, FL\, 33914\, United States
CATEGORIES:Monthly Events & Activities
ATTACH;FMTTYPE=image/png:https://capecoralnewresident.com/wp-content/uploads/2025/09/FLYING-SOLO-TOGETHER.png
ORGANIZER;CN="Dot Binder":MAILTO:nrcdotbinder@gmail.com
END:VEVENT
BEGIN:VEVENT
DTSTART;TZID=America/New_York:20250911T170000
DTEND;TZID=America/New_York:20250911T193000
DTSTAMP:20260422T215041
CREATED:20250821T174752Z
LAST-MODIFIED:20250821T174821Z
UID:10005785-1757610000-1757619000@capecoralnewresident.com
SUMMARY:Flying Solo Together Drinks & Dinner at Maria's Pizzeria
DESCRIPTION:RSVP to Dot Binder at \nnrcdotbinder@gmail.com \nor text at:  512-627-9305
URL:https://capecoralnewresident.com/event/flying-solo-together-drinks-dinner-at-marias-pizzeria/
LOCATION:Maria’s Pizzeria\, 1244 SE 46th Lane\, Cape Coral\, United States
CATEGORIES:Monthly Events & Activities
ATTACH;FMTTYPE=image/jpeg:https://capecoralnewresident.com/wp-content/uploads/2025/08/Flying-Solot-Sept.jpg
ORGANIZER;CN="Dot Binder":MAILTO:nrcdotbinder@gmail.com
END:VEVENT
BEGIN:VEVENT
DTSTART;TZID=America/New_York:20250620T173000
DTEND;TZID=America/New_York:20250620T210000
DTSTAMP:20260422T215041
CREATED:20250515T192410Z
LAST-MODIFIED:20250516T203408Z
UID:10005723-1750440600-1750453200@capecoralnewresident.com
SUMMARY:Flying Solo Together's Dance Party June 2025
DESCRIPTION:Event: Flying Solo Together’s Dance Party \nDate: Friday June 20th \nDoors Open at 5:30pm\, Dance Floor Opens at 7:30pm till 10:00pm \nTickets: Free – However\, required to purchase $10 in drinks/food. \nRSVP: Dot Binder at nrcdotbinder@gmail.com \n  \nAdditional Info:  ECHO 70’s & 80’s DANCE BAND \nECHO is a five piece high energy Classic Rock dance band that plays your favorites from the 70’s & 80’s including music by: Journey\, Styx\, The Steve Miller Band\, \, ZZ Top\, Foreigner\, Kansas & more… They have one of the best female vocalists in SWFL. \nEarly Bird 20% Off Dinner Menu 5-6pm (Specials excluded)\nHappy Hour 50% Off House wines\, Wells & Dom. Draft Beer \n  \nFlying Solo Together are NRC members who are single\, separated\, divorced\, widowed\, or have a spouse who doesn’t like to attend events.  This is a social group that enjoys getting together.
URL:https://capecoralnewresident.com/event/flying-solo-togethers-dance-party-june-2025/
LOCATION:Cape Cabaret\, 4725 Vincennes Blvd\, Cape Coral\, 33904\, United States
CATEGORIES:Monthly Events & Activities
ATTACH;FMTTYPE=image/jpeg:https://capecoralnewresident.com/wp-content/uploads/2025/05/Invitation-5.jpg
ORGANIZER;CN="Dot Binder":MAILTO:nrcdotbinder@gmail.com
END:VEVENT
BEGIN:VEVENT
DTSTART;TZID=America/New_York:20240613T173000
DTEND;TZID=America/New_York:20240613T193000
DTSTAMP:20260422T215041
CREATED:20240508T032201Z
LAST-MODIFIED:20240508T032332Z
UID:10005313-1718299800-1718307000@capecoralnewresident.com
SUMMARY:Flying Solo Together Cocktails
DESCRIPTION:Flying Solo Together is a social group made up of members who are single\, separated\, divorced\, widowed or have a spouse who is not interested in participating in events. \nThe group meets for cocktails the second Thursday of the month at different locations. \nThis month we will be meeting at First Round Draft located at 1217 Del Prado Blvd from 5:30pm to 7:30pm.  Drinks and food is available to purchase.  There is no fee to attend this event. \nPlease RSVP with via website or contact Dot Binder at nrcdotbinder@gmail.com. \n  \n 
URL:https://capecoralnewresident.com/event/flying-solo-together-cocktails-3-3/
LOCATION:United States
CATEGORIES:Monthly Events & Activities
ORGANIZER;CN="Dot Binder":MAILTO:nrcdotbinder@gmail.com
END:VEVENT
BEGIN:VEVENT
DTSTART;TZID=America/New_York:20240509T173000
DTEND;TZID=America/New_York:20240509T193000
DTSTAMP:20260422T215041
CREATED:20240422T123956Z
LAST-MODIFIED:20240502T190310Z
UID:10005312-1715275800-1715283000@capecoralnewresident.com
SUMMARY:Flying Solo Together Cocktails
DESCRIPTION:Flying Solo Together is a social group made up of members who are single\, separated\, divorced\, widowed or have a spouse who is not interested in participating in events. \nPlease RSVP to meet on the Stevie Tomato’s Patio the second Thursday of each month.  Drinks and food available for purchase. \nRSVP Link will be available on the 1st of each month. \n  \n 
URL:https://capecoralnewresident.com/event/flying-solo-together-cocktails-3-2/
LOCATION:United States
CATEGORIES:Monthly Events & Activities
ORGANIZER;CN="Dot Binder":MAILTO:nrcdotbinder@gmail.com
END:VEVENT
BEGIN:VEVENT
DTSTART;TZID=America/New_York:20240411T173000
DTEND;TZID=America/New_York:20240411T193000
DTSTAMP:20260422T215041
CREATED:20240326T000405Z
LAST-MODIFIED:20240326T010828Z
UID:10005310-1712856600-1712863800@capecoralnewresident.com
SUMMARY:Flying Solo Together Cocktails
DESCRIPTION:Flying Solo Together is a social group made up of members who are single\, separated\, divorced\, widowed or have a spouse who is not interested in participating in events. \nPlease RSVP to meet on the Stevie Tomato’s Patio the second Thursday of each month.  Drinks and food available for purchase. To view entertainment visit https://www.stevietomato.com/calendar \nRSVP Link will be available on the 1st of each month. \n  \n 
URL:https://capecoralnewresident.com/event/flying-solo-together-cocktails-2/
LOCATION:United States
CATEGORIES:Monthly Events & Activities
ATTACH;FMTTYPE=image/png:https://capecoralnewresident.com/wp-content/uploads/2024/03/Flying-Solo-Together-General-2024.png
ORGANIZER;CN="Dot Binder":MAILTO:nrcdotbinder@gmail.com
END:VEVENT
BEGIN:VEVENT
DTSTART;TZID=America/New_York:20240301T173000
DTEND;TZID=America/New_York:20240301T223000
DTSTAMP:20260422T215041
CREATED:20240111T033535Z
LAST-MODIFIED:20240208T020421Z
UID:10005060-1709314200-1709332200@capecoralnewresident.com
SUMMARY:"Beautiful - Carole King Musical"
DESCRIPTION:
URL:https://capecoralnewresident.com/event/beautiful-carole-king-musical/
LOCATION:Broadway Palm Theatre\, 1380 Colonial Blvd\, Fort Myers\, 33907\, United States
CATEGORIES:Monthly Events & Activities
ORGANIZER;CN="Dot Binder":MAILTO:nrcdotbinder@gmail.com
END:VEVENT
BEGIN:VEVENT
DTSTART;TZID=America/New_York:20240127T053000
DTEND;TZID=America/New_York:20240127T220000
DTSTAMP:20260422T215041
CREATED:20231217T144059Z
LAST-MODIFIED:20231217T184740Z
UID:10005034-1706333400-1706392800@capecoralnewresident.com
SUMMARY:ELVIS — A Musical Revolution
DESCRIPTION:
URL:https://capecoralnewresident.com/event/elvis-a-musical-revolution/
LOCATION:Broadway Palm Theatre\, 1380 Colonial Blvd\, Fort Myers\, 33907\, United States
CATEGORIES:Monthly Events & Activities
ATTACH;FMTTYPE=image/png:https://capecoralnewresident.com/wp-content/uploads/2023/12/elvis-small.png
ORGANIZER;CN="Dot Binder":MAILTO:nrcdotbinder@gmail.com
END:VEVENT
END:VCALENDAR