BEGIN:VCALENDAR
VERSION:2.0
PRODID:-//New Resident Club of Cape Coral - ECPv6.15.20//NONSGML v1.0//EN
CALSCALE:GREGORIAN
METHOD:PUBLISH
X-WR-CALNAME:New Resident Club of Cape Coral
X-ORIGINAL-URL:https://capecoralnewresident.com
X-WR-CALDESC:Events for New Resident Club of Cape Coral
REFRESH-INTERVAL;VALUE=DURATION:PT1H
X-Robots-Tag:noindex
X-PUBLISHED-TTL:PT1H
BEGIN:VTIMEZONE
TZID:America/New_York
BEGIN:DAYLIGHT
TZOFFSETFROM:-0500
TZOFFSETTO:-0400
TZNAME:EDT
DTSTART:20240310T070000
END:DAYLIGHT
BEGIN:STANDARD
TZOFFSETFROM:-0400
TZOFFSETTO:-0500
TZNAME:EST
DTSTART:20241103T060000
END:STANDARD
BEGIN:DAYLIGHT
TZOFFSETFROM:-0500
TZOFFSETTO:-0400
TZNAME:EDT
DTSTART:20250309T070000
END:DAYLIGHT
BEGIN:STANDARD
TZOFFSETFROM:-0400
TZOFFSETTO:-0500
TZNAME:EST
DTSTART:20251102T060000
END:STANDARD
BEGIN:DAYLIGHT
TZOFFSETFROM:-0500
TZOFFSETTO:-0400
TZNAME:EDT
DTSTART:20260308T070000
END:DAYLIGHT
BEGIN:STANDARD
TZOFFSETFROM:-0400
TZOFFSETTO:-0500
TZNAME:EST
DTSTART:20261101T060000
END:STANDARD
END:VTIMEZONE
BEGIN:VEVENT
DTSTART;TZID=America/New_York:20251016T113000
DTEND;TZID=America/New_York:20251016T133000
DTSTAMP:20260423T010640
CREATED:20250722T221610Z
LAST-MODIFIED:20250722T221841Z
UID:10005763-1760614200-1760621400@capecoralnewresident.com
SUMMARY:Ladies Luncheon - October - Walk-Ons
DESCRIPTION:
URL:https://capecoralnewresident.com/event/ladies-luncheon-october-walk-ons/
LOCATION:Walk Ons\, 1127 SW Pine Island Road\, Cape Coral\, United States
CATEGORIES:Monthly Events & Activities
ATTACH;FMTTYPE=image/png:https://capecoralnewresident.com/wp-content/uploads/2025/07/Ladies-Luncheon-Oct-2025-Walk-Ons.png
ORGANIZER;CN="Gail Warren":MAILTO:thegailwarren@gmail.com
END:VEVENT
BEGIN:VEVENT
DTSTART;TZID=America/New_York:20250918T110000
DTEND;TZID=America/New_York:20250918T130000
DTSTAMP:20260423T010640
CREATED:20250722T212611Z
LAST-MODIFIED:20250915T185346Z
UID:10005762-1758193200-1758200400@capecoralnewresident.com
SUMMARY:Ladies Luncheon - September - Twisted Lobster
DESCRIPTION:Order from menu and pay at restaurant. \nRaffle prizes and 50/50 will be available.
URL:https://capecoralnewresident.com/event/ladies-luncheon-september-twisted-lobster/
LOCATION:Twisted Lobster\, 1341 Del Prado Blvd #1\, Cape Coral\, United States
CATEGORIES:Monthly Events & Activities
ATTACH;FMTTYPE=image/png:https://capecoralnewresident.com/wp-content/uploads/2025/07/Twisted-Lobster.png
ORGANIZER;CN="Gail Warren":MAILTO:thegailwarren@gmail.com
END:VEVENT
BEGIN:VEVENT
DTSTART;TZID=America/New_York:20250821T113000
DTEND;TZID=America/New_York:20250821T133000
DTSTAMP:20260423T010640
CREATED:20250611T195722Z
LAST-MODIFIED:20250622T163117Z
UID:10005453-1755775800-1755783000@capecoralnewresident.com
SUMMARY:Ladies Luncheon - August 21 House of Omeletes
DESCRIPTION:
URL:https://capecoralnewresident.com/event/monthly-ladies-luncheon-3/
LOCATION:House of Omelets\, 900 SW Pine Island Road\, Cape Coral\, United States
CATEGORIES:Monthly Events & Activities
ATTACH;FMTTYPE=image/png:https://capecoralnewresident.com/wp-content/uploads/2025/06/NRC-Ladies-Luncheon-1.png
ORGANIZER;CN="Gail Warren":MAILTO:thegailwarren@gmail.com
END:VEVENT
BEGIN:VEVENT
DTSTART;TZID=America/New_York:20250717T113000
DTEND;TZID=America/New_York:20250717T133000
DTSTAMP:20260423T010640
CREATED:20250609T004015Z
LAST-MODIFIED:20250621T220809Z
UID:10005745-1752751800-1752759000@capecoralnewresident.com
SUMMARY:Ladies Luncheon July -  Yucatan Waterfront Bar & Grill
DESCRIPTION:50/50 and Raffle available for Yucatan Luncheon!
URL:https://capecoralnewresident.com/event/ladies-luncheon-july-yucatan-waterfront-bar-grill/
LOCATION:Yucaton Waterfront Bar & Grill\, 4875 Pine Island Road\, Matlacha\, 33993\, United States
CATEGORIES:Monthly Events & Activities
ATTACH;FMTTYPE=image/png:https://capecoralnewresident.com/wp-content/uploads/2025/06/Ladies-Lunch-Fins-Dive-Bar-May-2024.png
ORGANIZER;CN="Gail Warren":MAILTO:thegailwarren@gmail.com
END:VEVENT
BEGIN:VEVENT
DTSTART;TZID=America/New_York:20250619T111500
DTEND;TZID=America/New_York:20250619T133000
DTSTAMP:20260423T010640
CREATED:20250602T222434Z
LAST-MODIFIED:20250602T222434Z
UID:10005730-1750331700-1750339800@capecoralnewresident.com
SUMMARY:June Ladies Luncheon - Point 57
DESCRIPTION:
URL:https://capecoralnewresident.com/event/june-ladies-luncheon-point-57/
LOCATION:Point 57\, 3522 Del Prado Blvd S\, Cape Coral\, 33904\, United States
CATEGORIES:Monthly Events & Activities
ATTACH;FMTTYPE=image/png:https://capecoralnewresident.com/wp-content/uploads/2025/06/Ladies-Lunch-Point-57-June-2025-r1-1.png
ORGANIZER;CN="Gail Warren":MAILTO:thegailwarren@gmail.com
END:VEVENT
BEGIN:VEVENT
DTSTART;TZID=America/New_York:20250515T114500
DTEND;TZID=America/New_York:20250515T133000
DTSTAMP:20260423T010640
CREATED:20250430T221456Z
LAST-MODIFIED:20250512T152317Z
UID:10005720-1747309500-1747315800@capecoralnewresident.com
SUMMARY:May Ladies Luncheon - Front Porch Social
DESCRIPTION:
URL:https://capecoralnewresident.com/event/ladies-luncheon-may-front-porch-social/
LOCATION:Front Porch Social\, 4721 Vincennes Blvd\, Cape Coral\, 33904\, United States
CATEGORIES:Monthly Events & Activities
ATTACH;FMTTYPE=image/png:https://capecoralnewresident.com/wp-content/uploads/2025/04/Ladies-Luncheon-Front-Port-Social-May-2025.png
ORGANIZER;CN="Gail Warren":MAILTO:thegailwarren@gmail.com
END:VEVENT
END:VCALENDAR