BEGIN:VCALENDAR
VERSION:2.0
PRODID:-//New Resident Club of Cape Coral - ECPv6.15.20//NONSGML v1.0//EN
CALSCALE:GREGORIAN
METHOD:PUBLISH
X-WR-CALNAME:New Resident Club of Cape Coral
X-ORIGINAL-URL:https://capecoralnewresident.com
X-WR-CALDESC:Events for New Resident Club of Cape Coral
REFRESH-INTERVAL;VALUE=DURATION:PT1H
X-Robots-Tag:noindex
X-PUBLISHED-TTL:PT1H
BEGIN:VTIMEZONE
TZID:America/New_York
BEGIN:DAYLIGHT
TZOFFSETFROM:-0500
TZOFFSETTO:-0400
TZNAME:EDT
DTSTART:20240310T070000
END:DAYLIGHT
BEGIN:STANDARD
TZOFFSETFROM:-0400
TZOFFSETTO:-0500
TZNAME:EST
DTSTART:20241103T060000
END:STANDARD
BEGIN:DAYLIGHT
TZOFFSETFROM:-0500
TZOFFSETTO:-0400
TZNAME:EDT
DTSTART:20250309T070000
END:DAYLIGHT
BEGIN:STANDARD
TZOFFSETFROM:-0400
TZOFFSETTO:-0500
TZNAME:EST
DTSTART:20251102T060000
END:STANDARD
BEGIN:DAYLIGHT
TZOFFSETFROM:-0500
TZOFFSETTO:-0400
TZNAME:EDT
DTSTART:20260308T070000
END:DAYLIGHT
BEGIN:STANDARD
TZOFFSETFROM:-0400
TZOFFSETTO:-0500
TZNAME:EST
DTSTART:20261101T060000
END:STANDARD
BEGIN:DAYLIGHT
TZOFFSETFROM:-0500
TZOFFSETTO:-0400
TZNAME:EDT
DTSTART:20270314T070000
END:DAYLIGHT
BEGIN:STANDARD
TZOFFSETFROM:-0400
TZOFFSETTO:-0500
TZNAME:EST
DTSTART:20271107T060000
END:STANDARD
END:VTIMEZONE
BEGIN:VEVENT
DTSTART;TZID=America/New_York:20260406T170000
DTEND;TZID=America/New_York:20260406T190000
DTSTAMP:20260422T233306
CREATED:20260218T163949Z
LAST-MODIFIED:20260222T224020Z
UID:10005839-1775494800-1775502000@capecoralnewresident.com
SUMMARY:Cocktails on the Cape - April 2026 - High Tide Social
DESCRIPTION:
URL:https://capecoralnewresident.com/event/cocktails-on-the-cape-april-2026-high-tide-social/
LOCATION:High Tide Social\, 6095 Silver King Blvd\, Cape Coral\, United States
CATEGORIES:Monthly Events & Activities
ATTACH;FMTTYPE=image/png:https://capecoralnewresident.com/wp-content/uploads/2026/02/High-Tide-Social-2.png
ORGANIZER;CN="Sheila Mitchell":MAILTO:sheilamitchell90@gmail.com
END:VEVENT
BEGIN:VEVENT
DTSTART;TZID=America/New_York:20260309T170000
DTEND;TZID=America/New_York:20260309T190000
DTSTAMP:20260422T233306
CREATED:20260205T230537Z
LAST-MODIFIED:20260302T220749Z
UID:10005836-1773075600-1773082800@capecoralnewresident.com
SUMMARY:Cocktails on the Cape - March 2026 - Jungle Bird Tiki
DESCRIPTION:
URL:https://capecoralnewresident.com/event/cocktails-on-the-cape-march-2026-jungle-bird-tiki/
LOCATION:Jungle Bird Tiki\, 1520 Lafayette Street\, Cape Coral\, 33904\, United States
CATEGORIES:Monthly Events & Activities
ATTACH;FMTTYPE=image/jpeg:https://capecoralnewresident.com/wp-content/uploads/2026/02/Cocktails-Tiki-1.jpg
ORGANIZER;CN="Sheila Mitchell":MAILTO:sheilamitchell90@gmail.com
END:VEVENT
BEGIN:VEVENT
DTSTART;TZID=America/New_York:20260209T170000
DTEND;TZID=America/New_York:20260209T190000
DTSTAMP:20260422T233306
CREATED:20260118T162742Z
LAST-MODIFIED:20260204T220904Z
UID:10005831-1770656400-1770663600@capecoralnewresident.com
SUMMARY:Cocktails on the Cape - February 2026 - Palmetto Pines
DESCRIPTION:
URL:https://capecoralnewresident.com/event/cocktails-on-the-cape-february-2026-palmetto-pines/
LOCATION:Palmetto Pine Country Club\, 1940 SW 9th Ct.\, Cape Coral\, FL\, 33991\, United States
CATEGORIES:Monthly Events & Activities
ATTACH;FMTTYPE=image/png:https://capecoralnewresident.com/wp-content/uploads/2026/01/PPCC-Cocktails-on-the-Cape-1.png
ORGANIZER;CN="Sheila Mitchell":MAILTO:sheilamitchell90@gmail.com
END:VEVENT
BEGIN:VEVENT
DTSTART;TZID=America/New_York:20251208T170000
DTEND;TZID=America/New_York:20251208T190000
DTSTAMP:20260422T233306
CREATED:20251108T024952Z
LAST-MODIFIED:20251207T025625Z
UID:10005805-1765213200-1765220400@capecoralnewresident.com
SUMMARY:Cocktails on the Cape - December 2025 - Overtime
DESCRIPTION:
URL:https://capecoralnewresident.com/event/cocktails-on-the-cape-december-2025-overtime/
LOCATION:Overtime Pizza\, 1708 Cape Coral Pkwy\, Cape Coral\, FL\, 33914\, United States
CATEGORIES:Monthly Events & Activities
ATTACH;FMTTYPE=image/png:https://capecoralnewresident.com/wp-content/uploads/2025/11/NRC-Cocktails-on-the-Cape-1.png
ORGANIZER;CN="Sheila Mitchell":MAILTO:sheilamitchell90@gmail.com
END:VEVENT
END:VCALENDAR