BEGIN:VCALENDAR
VERSION:2.0
PRODID:-//New Resident Club of Cape Coral - ECPv6.15.20//NONSGML v1.0//EN
CALSCALE:GREGORIAN
METHOD:PUBLISH
X-WR-CALNAME:New Resident Club of Cape Coral
X-ORIGINAL-URL:https://capecoralnewresident.com
X-WR-CALDESC:Events for New Resident Club of Cape Coral
REFRESH-INTERVAL;VALUE=DURATION:PT1H
X-Robots-Tag:noindex
X-PUBLISHED-TTL:PT1H
BEGIN:VTIMEZONE
TZID:America/New_York
BEGIN:DAYLIGHT
TZOFFSETFROM:-0500
TZOFFSETTO:-0400
TZNAME:EDT
DTSTART:20230312T070000
END:DAYLIGHT
BEGIN:STANDARD
TZOFFSETFROM:-0400
TZOFFSETTO:-0500
TZNAME:EST
DTSTART:20231105T060000
END:STANDARD
BEGIN:DAYLIGHT
TZOFFSETFROM:-0500
TZOFFSETTO:-0400
TZNAME:EDT
DTSTART:20240310T070000
END:DAYLIGHT
BEGIN:STANDARD
TZOFFSETFROM:-0400
TZOFFSETTO:-0500
TZNAME:EST
DTSTART:20241103T060000
END:STANDARD
BEGIN:DAYLIGHT
TZOFFSETFROM:-0500
TZOFFSETTO:-0400
TZNAME:EDT
DTSTART:20250309T070000
END:DAYLIGHT
BEGIN:STANDARD
TZOFFSETFROM:-0400
TZOFFSETTO:-0500
TZNAME:EST
DTSTART:20251102T060000
END:STANDARD
END:VTIMEZONE
BEGIN:VEVENT
DTSTART;TZID=America/New_York:20240727T100000
DTEND;TZID=America/New_York:20240727T140000
DTSTAMP:20260423T064804
CREATED:20240622T022516Z
LAST-MODIFIED:20240712T170418Z
UID:10005573-1722074400-1722088800@capecoralnewresident.com
SUMMARY:Blossom & Brie Farmside Dining
DESCRIPTION:Dine amongst the beautiful landscape at Blossom & Brie Farms (Open Menu for Brunch – 10 am -2 pm)  \nAfter dining you can wander the farm and enjoy the experience \nRESERVATIONS ARE LIMITED TO 50 \n  \nPlease call 239-385-0415 MENTION “NRC” WHEN MAKING RESERVATION \nYou can also book online @ blossomandbrie.com (Click Link Below) \nPLEASE ADD “NRC” AFTER YOUR LAST NAME WHEN MAKING RESERVATION (example John DoeNRC)
URL:https://capecoralnewresident.com/event/blossom-brie-farmside-dining/
LOCATION:Blossom & Brie Farms\, 8250 Nalle Grade Road\, North Fort Myers\, FL\, 33917\, United States
CATEGORIES:Monthly Events & Activities
ATTACH;FMTTYPE=image/jpeg:https://capecoralnewresident.com/wp-content/uploads/2024/06/IMG_7452-scaled.jpeg
END:VEVENT
END:VCALENDAR