BEGIN:VCALENDAR
VERSION:2.0
PRODID:-//New Resident Club of Cape Coral - ECPv6.15.20//NONSGML v1.0//EN
CALSCALE:GREGORIAN
METHOD:PUBLISH
X-WR-CALNAME:New Resident Club of Cape Coral
X-ORIGINAL-URL:https://capecoralnewresident.com
X-WR-CALDESC:Events for New Resident Club of Cape Coral
REFRESH-INTERVAL;VALUE=DURATION:PT1H
X-Robots-Tag:noindex
X-PUBLISHED-TTL:PT1H
BEGIN:VTIMEZONE
TZID:America/New_York
BEGIN:DAYLIGHT
TZOFFSETFROM:-0500
TZOFFSETTO:-0400
TZNAME:EDT
DTSTART:20240310T070000
END:DAYLIGHT
BEGIN:STANDARD
TZOFFSETFROM:-0400
TZOFFSETTO:-0500
TZNAME:EST
DTSTART:20241103T060000
END:STANDARD
BEGIN:DAYLIGHT
TZOFFSETFROM:-0500
TZOFFSETTO:-0400
TZNAME:EDT
DTSTART:20250309T070000
END:DAYLIGHT
BEGIN:STANDARD
TZOFFSETFROM:-0400
TZOFFSETTO:-0500
TZNAME:EST
DTSTART:20251102T060000
END:STANDARD
BEGIN:DAYLIGHT
TZOFFSETFROM:-0500
TZOFFSETTO:-0400
TZNAME:EDT
DTSTART:20260308T070000
END:DAYLIGHT
BEGIN:STANDARD
TZOFFSETFROM:-0400
TZOFFSETTO:-0500
TZNAME:EST
DTSTART:20261101T060000
END:STANDARD
END:VTIMEZONE
BEGIN:VEVENT
DTSTART;TZID=America/New_York:20250920T084500
DTEND;TZID=America/New_York:20250920T150000
DTSTAMP:20260423T042417
CREATED:20250610T181031Z
LAST-MODIFIED:20250919T152333Z
UID:10005753-1758357900-1758380400@capecoralnewresident.com
SUMMARY:Cancelled- Fishing Trip - Half Day
DESCRIPTION:$100 per person – includes captain\, rod\, bait\, tackle and fishing license. \nYou keep fish you catch. \nSign up so we know reservations; pay at the dock on day of fishing trip. \nMeet at Captain Tony’s in Fort Myers Beach.
URL:https://capecoralnewresident.com/event/fishing-trip-half-day/
LOCATION:Captain Tony’s\, 18800 San Carlos Blvd\, Fort Myers Beach\, United States
CATEGORIES:Monthly Events & Activities
ATTACH;FMTTYPE=image/png:https://capecoralnewresident.com/wp-content/uploads/2025/06/Lets-go-Fishing-1-002.png
END:VEVENT
END:VCALENDAR