BEGIN:VCALENDAR
VERSION:2.0
PRODID:-//New Resident Club of Cape Coral - ECPv6.15.20//NONSGML v1.0//EN
CALSCALE:GREGORIAN
METHOD:PUBLISH
X-ORIGINAL-URL:https://capecoralnewresident.com
X-WR-CALDESC:Events for New Resident Club of Cape Coral
REFRESH-INTERVAL;VALUE=DURATION:PT1H
X-Robots-Tag:noindex
X-PUBLISHED-TTL:PT1H
BEGIN:VTIMEZONE
TZID:America/New_York
BEGIN:DAYLIGHT
TZOFFSETFROM:-0500
TZOFFSETTO:-0400
TZNAME:EDT
DTSTART:20250309T070000
END:DAYLIGHT
BEGIN:STANDARD
TZOFFSETFROM:-0400
TZOFFSETTO:-0500
TZNAME:EST
DTSTART:20251102T060000
END:STANDARD
BEGIN:DAYLIGHT
TZOFFSETFROM:-0500
TZOFFSETTO:-0400
TZNAME:EDT
DTSTART:20260308T070000
END:DAYLIGHT
BEGIN:STANDARD
TZOFFSETFROM:-0400
TZOFFSETTO:-0500
TZNAME:EST
DTSTART:20261101T060000
END:STANDARD
BEGIN:DAYLIGHT
TZOFFSETFROM:-0500
TZOFFSETTO:-0400
TZNAME:EDT
DTSTART:20270314T070000
END:DAYLIGHT
BEGIN:STANDARD
TZOFFSETFROM:-0400
TZOFFSETTO:-0500
TZNAME:EST
DTSTART:20271107T060000
END:STANDARD
BEGIN:DAYLIGHT
TZOFFSETFROM:-0500
TZOFFSETTO:-0400
TZNAME:EDT
DTSTART:20280312T070000
END:DAYLIGHT
BEGIN:STANDARD
TZOFFSETFROM:-0400
TZOFFSETTO:-0500
TZNAME:EST
DTSTART:20281105T060000
END:STANDARD
END:VTIMEZONE
BEGIN:VEVENT
DTSTART;VALUE=DATE:20260506
DTEND;VALUE=DATE:20260507
DTSTAMP:20260422T214617
CREATED:20260330T201338Z
LAST-MODIFIED:20260330T201341Z
UID:10005096-1778025600-1778111999@capecoralnewresident.com
SUMMARY:Sunset with Friends
DESCRIPTION:
URL:https://capecoralnewresident.com/event/sunset-with-friends-2/2026-05-06/
LOCATION:Four Freedoms Park\, 4818 Tarpon Court\, Cape Coral\, FL\, 33904\, United States
CATEGORIES:Monthly Events & Activities
ATTACH;FMTTYPE=image/jpeg:https://capecoralnewresident.com/wp-content/uploads/2024/02/Four-Freedoms.jpg
END:VEVENT
BEGIN:VEVENT
DTSTART;TZID=America/New_York:20260506T183000
DTEND;TZID=America/New_York:20260506T201500
DTSTAMP:20260422T214617
CREATED:20260330T202332Z
LAST-MODIFIED:20260330T203315Z
UID:10005930-1778092200-1778098500@capecoralnewresident.com
SUMMARY:Sunset with Friends @ Four Freedoms Park
DESCRIPTION:Join fellow NRC members and enjoy our slice of paradise as we watch the sunset together.
URL:https://capecoralnewresident.com/event/sunset-with-friends-four-freedoms-park/2026-05-06/
LOCATION:Four Freedoms Park\, 4818 Tarpon Court\, Cape Coral\, FL\, 33904\, United States
CATEGORIES:Monthly Events & Activities
ATTACH;FMTTYPE=image/jpeg:https://capecoralnewresident.com/wp-content/uploads/2024/02/Four-Freedoms.jpg
END:VEVENT
BEGIN:VEVENT
DTSTART;VALUE=DATE:20260603
DTEND;VALUE=DATE:20260604
DTSTAMP:20260422T214617
CREATED:20260330T201338Z
LAST-MODIFIED:20260330T201341Z
UID:10005097-1780444800-1780531199@capecoralnewresident.com
SUMMARY:Sunset with Friends
DESCRIPTION:
URL:https://capecoralnewresident.com/event/sunset-with-friends-2/2026-06-03/
LOCATION:Four Freedoms Park\, 4818 Tarpon Court\, Cape Coral\, FL\, 33904\, United States
CATEGORIES:Monthly Events & Activities
ATTACH;FMTTYPE=image/jpeg:https://capecoralnewresident.com/wp-content/uploads/2024/02/Four-Freedoms.jpg
END:VEVENT
BEGIN:VEVENT
DTSTART;TZID=America/New_York:20260603T183000
DTEND;TZID=America/New_York:20260603T201500
DTSTAMP:20260422T214617
CREATED:20260330T202332Z
LAST-MODIFIED:20260330T203315Z
UID:10005931-1780511400-1780517700@capecoralnewresident.com
SUMMARY:Sunset with Friends @ Four Freedoms Park
DESCRIPTION:Join fellow NRC members and enjoy our slice of paradise as we watch the sunset together.
URL:https://capecoralnewresident.com/event/sunset-with-friends-four-freedoms-park/2026-06-03/
LOCATION:Four Freedoms Park\, 4818 Tarpon Court\, Cape Coral\, FL\, 33904\, United States
CATEGORIES:Monthly Events & Activities
ATTACH;FMTTYPE=image/jpeg:https://capecoralnewresident.com/wp-content/uploads/2024/02/Four-Freedoms.jpg
END:VEVENT
BEGIN:VEVENT
DTSTART;VALUE=DATE:20260701
DTEND;VALUE=DATE:20260702
DTSTAMP:20260422T214617
CREATED:20260330T201338Z
LAST-MODIFIED:20260330T201341Z
UID:10005098-1782864000-1782950399@capecoralnewresident.com
SUMMARY:Sunset with Friends
DESCRIPTION:
URL:https://capecoralnewresident.com/event/sunset-with-friends-2/2026-07-01/
LOCATION:Four Freedoms Park\, 4818 Tarpon Court\, Cape Coral\, FL\, 33904\, United States
CATEGORIES:Monthly Events & Activities
ATTACH;FMTTYPE=image/jpeg:https://capecoralnewresident.com/wp-content/uploads/2024/02/Four-Freedoms.jpg
END:VEVENT
BEGIN:VEVENT
DTSTART;TZID=America/New_York:20260701T183000
DTEND;TZID=America/New_York:20260701T201500
DTSTAMP:20260422T214617
CREATED:20260330T202332Z
LAST-MODIFIED:20260330T203315Z
UID:10005932-1782930600-1782936900@capecoralnewresident.com
SUMMARY:Sunset with Friends @ Four Freedoms Park
DESCRIPTION:Join fellow NRC members and enjoy our slice of paradise as we watch the sunset together.
URL:https://capecoralnewresident.com/event/sunset-with-friends-four-freedoms-park/2026-07-01/
LOCATION:Four Freedoms Park\, 4818 Tarpon Court\, Cape Coral\, FL\, 33904\, United States
CATEGORIES:Monthly Events & Activities
ATTACH;FMTTYPE=image/jpeg:https://capecoralnewresident.com/wp-content/uploads/2024/02/Four-Freedoms.jpg
END:VEVENT
BEGIN:VEVENT
DTSTART;VALUE=DATE:20260805
DTEND;VALUE=DATE:20260806
DTSTAMP:20260422T214617
CREATED:20260330T201338Z
LAST-MODIFIED:20260330T201341Z
UID:10005099-1785888000-1785974399@capecoralnewresident.com
SUMMARY:Sunset with Friends
DESCRIPTION:
URL:https://capecoralnewresident.com/event/sunset-with-friends-2/2026-08-05/
LOCATION:Four Freedoms Park\, 4818 Tarpon Court\, Cape Coral\, FL\, 33904\, United States
CATEGORIES:Monthly Events & Activities
ATTACH;FMTTYPE=image/jpeg:https://capecoralnewresident.com/wp-content/uploads/2024/02/Four-Freedoms.jpg
END:VEVENT
BEGIN:VEVENT
DTSTART;TZID=America/New_York:20260805T183000
DTEND;TZID=America/New_York:20260805T201500
DTSTAMP:20260422T214617
CREATED:20260330T202332Z
LAST-MODIFIED:20260330T203315Z
UID:10005933-1785954600-1785960900@capecoralnewresident.com
SUMMARY:Sunset with Friends @ Four Freedoms Park
DESCRIPTION:Join fellow NRC members and enjoy our slice of paradise as we watch the sunset together.
URL:https://capecoralnewresident.com/event/sunset-with-friends-four-freedoms-park/2026-08-05/
LOCATION:Four Freedoms Park\, 4818 Tarpon Court\, Cape Coral\, FL\, 33904\, United States
CATEGORIES:Monthly Events & Activities
ATTACH;FMTTYPE=image/jpeg:https://capecoralnewresident.com/wp-content/uploads/2024/02/Four-Freedoms.jpg
END:VEVENT
BEGIN:VEVENT
DTSTART;VALUE=DATE:20260902
DTEND;VALUE=DATE:20260903
DTSTAMP:20260422T214617
CREATED:20260330T201338Z
LAST-MODIFIED:20260330T201341Z
UID:10005100-1788307200-1788393599@capecoralnewresident.com
SUMMARY:Sunset with Friends
DESCRIPTION:
URL:https://capecoralnewresident.com/event/sunset-with-friends-2/2026-09-02/
LOCATION:Four Freedoms Park\, 4818 Tarpon Court\, Cape Coral\, FL\, 33904\, United States
CATEGORIES:Monthly Events & Activities
ATTACH;FMTTYPE=image/jpeg:https://capecoralnewresident.com/wp-content/uploads/2024/02/Four-Freedoms.jpg
END:VEVENT
BEGIN:VEVENT
DTSTART;TZID=America/New_York:20260902T183000
DTEND;TZID=America/New_York:20260902T201500
DTSTAMP:20260422T214617
CREATED:20260330T202332Z
LAST-MODIFIED:20260330T203315Z
UID:10005934-1788373800-1788380100@capecoralnewresident.com
SUMMARY:Sunset with Friends @ Four Freedoms Park
DESCRIPTION:Join fellow NRC members and enjoy our slice of paradise as we watch the sunset together.
URL:https://capecoralnewresident.com/event/sunset-with-friends-four-freedoms-park/2026-09-02/
LOCATION:Four Freedoms Park\, 4818 Tarpon Court\, Cape Coral\, FL\, 33904\, United States
CATEGORIES:Monthly Events & Activities
ATTACH;FMTTYPE=image/jpeg:https://capecoralnewresident.com/wp-content/uploads/2024/02/Four-Freedoms.jpg
END:VEVENT
BEGIN:VEVENT
DTSTART;VALUE=DATE:20261007
DTEND;VALUE=DATE:20261008
DTSTAMP:20260422T214617
CREATED:20260330T201338Z
LAST-MODIFIED:20260330T201341Z
UID:10005101-1791331200-1791417599@capecoralnewresident.com
SUMMARY:Sunset with Friends
DESCRIPTION:
URL:https://capecoralnewresident.com/event/sunset-with-friends-2/2026-10-07/
LOCATION:Four Freedoms Park\, 4818 Tarpon Court\, Cape Coral\, FL\, 33904\, United States
CATEGORIES:Monthly Events & Activities
ATTACH;FMTTYPE=image/jpeg:https://capecoralnewresident.com/wp-content/uploads/2024/02/Four-Freedoms.jpg
END:VEVENT
BEGIN:VEVENT
DTSTART;TZID=America/New_York:20261007T183000
DTEND;TZID=America/New_York:20261007T201500
DTSTAMP:20260422T214617
CREATED:20260330T202332Z
LAST-MODIFIED:20260330T203315Z
UID:10005935-1791397800-1791404100@capecoralnewresident.com
SUMMARY:Sunset with Friends @ Four Freedoms Park
DESCRIPTION:Join fellow NRC members and enjoy our slice of paradise as we watch the sunset together.
URL:https://capecoralnewresident.com/event/sunset-with-friends-four-freedoms-park/2026-10-07/
LOCATION:Four Freedoms Park\, 4818 Tarpon Court\, Cape Coral\, FL\, 33904\, United States
CATEGORIES:Monthly Events & Activities
ATTACH;FMTTYPE=image/jpeg:https://capecoralnewresident.com/wp-content/uploads/2024/02/Four-Freedoms.jpg
END:VEVENT
BEGIN:VEVENT
DTSTART;VALUE=DATE:20261104
DTEND;VALUE=DATE:20261105
DTSTAMP:20260422T214617
CREATED:20260330T201338Z
LAST-MODIFIED:20260330T201341Z
UID:10005102-1793750400-1793836799@capecoralnewresident.com
SUMMARY:Sunset with Friends
DESCRIPTION:
URL:https://capecoralnewresident.com/event/sunset-with-friends-2/2026-11-04/
LOCATION:Four Freedoms Park\, 4818 Tarpon Court\, Cape Coral\, FL\, 33904\, United States
CATEGORIES:Monthly Events & Activities
ATTACH;FMTTYPE=image/jpeg:https://capecoralnewresident.com/wp-content/uploads/2024/02/Four-Freedoms.jpg
END:VEVENT
BEGIN:VEVENT
DTSTART;TZID=America/New_York:20261104T183000
DTEND;TZID=America/New_York:20261104T201500
DTSTAMP:20260422T214617
CREATED:20260330T202332Z
LAST-MODIFIED:20260330T203315Z
UID:10005936-1793817000-1793823300@capecoralnewresident.com
SUMMARY:Sunset with Friends @ Four Freedoms Park
DESCRIPTION:Join fellow NRC members and enjoy our slice of paradise as we watch the sunset together.
URL:https://capecoralnewresident.com/event/sunset-with-friends-four-freedoms-park/2026-11-04/
LOCATION:Four Freedoms Park\, 4818 Tarpon Court\, Cape Coral\, FL\, 33904\, United States
CATEGORIES:Monthly Events & Activities
ATTACH;FMTTYPE=image/jpeg:https://capecoralnewresident.com/wp-content/uploads/2024/02/Four-Freedoms.jpg
END:VEVENT
BEGIN:VEVENT
DTSTART;VALUE=DATE:20261202
DTEND;VALUE=DATE:20261203
DTSTAMP:20260422T214617
CREATED:20260330T201338Z
LAST-MODIFIED:20260330T201341Z
UID:10005103-1796169600-1796255999@capecoralnewresident.com
SUMMARY:Sunset with Friends
DESCRIPTION:
URL:https://capecoralnewresident.com/event/sunset-with-friends-2/2026-12-02/
LOCATION:Four Freedoms Park\, 4818 Tarpon Court\, Cape Coral\, FL\, 33904\, United States
CATEGORIES:Monthly Events & Activities
ATTACH;FMTTYPE=image/jpeg:https://capecoralnewresident.com/wp-content/uploads/2024/02/Four-Freedoms.jpg
END:VEVENT
BEGIN:VEVENT
DTSTART;TZID=America/New_York:20261202T183000
DTEND;TZID=America/New_York:20261202T201500
DTSTAMP:20260422T214617
CREATED:20260330T202332Z
LAST-MODIFIED:20260330T203315Z
UID:10005937-1796236200-1796242500@capecoralnewresident.com
SUMMARY:Sunset with Friends @ Four Freedoms Park
DESCRIPTION:Join fellow NRC members and enjoy our slice of paradise as we watch the sunset together.
URL:https://capecoralnewresident.com/event/sunset-with-friends-four-freedoms-park/2026-12-02/
LOCATION:Four Freedoms Park\, 4818 Tarpon Court\, Cape Coral\, FL\, 33904\, United States
CATEGORIES:Monthly Events & Activities
ATTACH;FMTTYPE=image/jpeg:https://capecoralnewresident.com/wp-content/uploads/2024/02/Four-Freedoms.jpg
END:VEVENT
BEGIN:VEVENT
DTSTART;VALUE=DATE:20270106
DTEND;VALUE=DATE:20270107
DTSTAMP:20260422T214618
CREATED:20260330T201338Z
LAST-MODIFIED:20260330T201341Z
UID:10005104-1799193600-1799279999@capecoralnewresident.com
SUMMARY:Sunset with Friends
DESCRIPTION:
URL:https://capecoralnewresident.com/event/sunset-with-friends-2/2027-01-06/
LOCATION:Four Freedoms Park\, 4818 Tarpon Court\, Cape Coral\, FL\, 33904\, United States
CATEGORIES:Monthly Events & Activities
ATTACH;FMTTYPE=image/jpeg:https://capecoralnewresident.com/wp-content/uploads/2024/02/Four-Freedoms.jpg
END:VEVENT
BEGIN:VEVENT
DTSTART;TZID=America/New_York:20270106T183000
DTEND;TZID=America/New_York:20270106T201500
DTSTAMP:20260422T214618
CREATED:20260330T202332Z
LAST-MODIFIED:20260330T203315Z
UID:10005938-1799260200-1799266500@capecoralnewresident.com
SUMMARY:Sunset with Friends @ Four Freedoms Park
DESCRIPTION:Join fellow NRC members and enjoy our slice of paradise as we watch the sunset together.
URL:https://capecoralnewresident.com/event/sunset-with-friends-four-freedoms-park/2027-01-06/
LOCATION:Four Freedoms Park\, 4818 Tarpon Court\, Cape Coral\, FL\, 33904\, United States
CATEGORIES:Monthly Events & Activities
ATTACH;FMTTYPE=image/jpeg:https://capecoralnewresident.com/wp-content/uploads/2024/02/Four-Freedoms.jpg
END:VEVENT
BEGIN:VEVENT
DTSTART;VALUE=DATE:20270203
DTEND;VALUE=DATE:20270204
DTSTAMP:20260422T214618
CREATED:20260330T201338Z
LAST-MODIFIED:20260330T201341Z
UID:10005105-1801612800-1801699199@capecoralnewresident.com
SUMMARY:Sunset with Friends
DESCRIPTION:
URL:https://capecoralnewresident.com/event/sunset-with-friends-2/2027-02-03/
LOCATION:Four Freedoms Park\, 4818 Tarpon Court\, Cape Coral\, FL\, 33904\, United States
CATEGORIES:Monthly Events & Activities
ATTACH;FMTTYPE=image/jpeg:https://capecoralnewresident.com/wp-content/uploads/2024/02/Four-Freedoms.jpg
END:VEVENT
BEGIN:VEVENT
DTSTART;TZID=America/New_York:20270203T183000
DTEND;TZID=America/New_York:20270203T201500
DTSTAMP:20260422T214618
CREATED:20260330T202332Z
LAST-MODIFIED:20260330T203315Z
UID:10005939-1801679400-1801685700@capecoralnewresident.com
SUMMARY:Sunset with Friends @ Four Freedoms Park
DESCRIPTION:Join fellow NRC members and enjoy our slice of paradise as we watch the sunset together.
URL:https://capecoralnewresident.com/event/sunset-with-friends-four-freedoms-park/2027-02-03/
LOCATION:Four Freedoms Park\, 4818 Tarpon Court\, Cape Coral\, FL\, 33904\, United States
CATEGORIES:Monthly Events & Activities
ATTACH;FMTTYPE=image/jpeg:https://capecoralnewresident.com/wp-content/uploads/2024/02/Four-Freedoms.jpg
END:VEVENT
BEGIN:VEVENT
DTSTART;VALUE=DATE:20270303
DTEND;VALUE=DATE:20270304
DTSTAMP:20260422T214618
CREATED:20260330T201338Z
LAST-MODIFIED:20260330T201341Z
UID:10005106-1804032000-1804118399@capecoralnewresident.com
SUMMARY:Sunset with Friends
DESCRIPTION:
URL:https://capecoralnewresident.com/event/sunset-with-friends-2/2027-03-03/
LOCATION:Four Freedoms Park\, 4818 Tarpon Court\, Cape Coral\, FL\, 33904\, United States
CATEGORIES:Monthly Events & Activities
ATTACH;FMTTYPE=image/jpeg:https://capecoralnewresident.com/wp-content/uploads/2024/02/Four-Freedoms.jpg
END:VEVENT
BEGIN:VEVENT
DTSTART;TZID=America/New_York:20270303T183000
DTEND;TZID=America/New_York:20270303T201500
DTSTAMP:20260422T214618
CREATED:20260330T202332Z
LAST-MODIFIED:20260330T203315Z
UID:10005940-1804098600-1804104900@capecoralnewresident.com
SUMMARY:Sunset with Friends @ Four Freedoms Park
DESCRIPTION:Join fellow NRC members and enjoy our slice of paradise as we watch the sunset together.
URL:https://capecoralnewresident.com/event/sunset-with-friends-four-freedoms-park/2027-03-03/
LOCATION:Four Freedoms Park\, 4818 Tarpon Court\, Cape Coral\, FL\, 33904\, United States
CATEGORIES:Monthly Events & Activities
ATTACH;FMTTYPE=image/jpeg:https://capecoralnewresident.com/wp-content/uploads/2024/02/Four-Freedoms.jpg
END:VEVENT
BEGIN:VEVENT
DTSTART;VALUE=DATE:20270407
DTEND;VALUE=DATE:20270408
DTSTAMP:20260422T214618
CREATED:20260330T201338Z
LAST-MODIFIED:20260330T201341Z
UID:10005107-1807056000-1807142399@capecoralnewresident.com
SUMMARY:Sunset with Friends
DESCRIPTION:
URL:https://capecoralnewresident.com/event/sunset-with-friends-2/2027-04-07/
LOCATION:Four Freedoms Park\, 4818 Tarpon Court\, Cape Coral\, FL\, 33904\, United States
CATEGORIES:Monthly Events & Activities
ATTACH;FMTTYPE=image/jpeg:https://capecoralnewresident.com/wp-content/uploads/2024/02/Four-Freedoms.jpg
END:VEVENT
BEGIN:VEVENT
DTSTART;TZID=America/New_York:20270407T183000
DTEND;TZID=America/New_York:20270407T201500
DTSTAMP:20260422T214618
CREATED:20260330T202332Z
LAST-MODIFIED:20260330T203315Z
UID:10005941-1807122600-1807128900@capecoralnewresident.com
SUMMARY:Sunset with Friends @ Four Freedoms Park
DESCRIPTION:Join fellow NRC members and enjoy our slice of paradise as we watch the sunset together.
URL:https://capecoralnewresident.com/event/sunset-with-friends-four-freedoms-park/2027-04-07/
LOCATION:Four Freedoms Park\, 4818 Tarpon Court\, Cape Coral\, FL\, 33904\, United States
CATEGORIES:Monthly Events & Activities
ATTACH;FMTTYPE=image/jpeg:https://capecoralnewresident.com/wp-content/uploads/2024/02/Four-Freedoms.jpg
END:VEVENT
BEGIN:VEVENT
DTSTART;VALUE=DATE:20270505
DTEND;VALUE=DATE:20270506
DTSTAMP:20260422T214618
CREATED:20260330T201338Z
LAST-MODIFIED:20260330T201341Z
UID:10005108-1809475200-1809561599@capecoralnewresident.com
SUMMARY:Sunset with Friends
DESCRIPTION:
URL:https://capecoralnewresident.com/event/sunset-with-friends-2/2027-05-05/
LOCATION:Four Freedoms Park\, 4818 Tarpon Court\, Cape Coral\, FL\, 33904\, United States
CATEGORIES:Monthly Events & Activities
ATTACH;FMTTYPE=image/jpeg:https://capecoralnewresident.com/wp-content/uploads/2024/02/Four-Freedoms.jpg
END:VEVENT
BEGIN:VEVENT
DTSTART;TZID=America/New_York:20270505T183000
DTEND;TZID=America/New_York:20270505T201500
DTSTAMP:20260422T214618
CREATED:20260330T202332Z
LAST-MODIFIED:20260330T203315Z
UID:10005942-1809541800-1809548100@capecoralnewresident.com
SUMMARY:Sunset with Friends @ Four Freedoms Park
DESCRIPTION:Join fellow NRC members and enjoy our slice of paradise as we watch the sunset together.
URL:https://capecoralnewresident.com/event/sunset-with-friends-four-freedoms-park/2027-05-05/
LOCATION:Four Freedoms Park\, 4818 Tarpon Court\, Cape Coral\, FL\, 33904\, United States
CATEGORIES:Monthly Events & Activities
ATTACH;FMTTYPE=image/jpeg:https://capecoralnewresident.com/wp-content/uploads/2024/02/Four-Freedoms.jpg
END:VEVENT
BEGIN:VEVENT
DTSTART;VALUE=DATE:20270602
DTEND;VALUE=DATE:20270603
DTSTAMP:20260422T214618
CREATED:20260330T201338Z
LAST-MODIFIED:20260330T201341Z
UID:10005109-1811894400-1811980799@capecoralnewresident.com
SUMMARY:Sunset with Friends
DESCRIPTION:
URL:https://capecoralnewresident.com/event/sunset-with-friends-2/2027-06-02/
LOCATION:Four Freedoms Park\, 4818 Tarpon Court\, Cape Coral\, FL\, 33904\, United States
CATEGORIES:Monthly Events & Activities
ATTACH;FMTTYPE=image/jpeg:https://capecoralnewresident.com/wp-content/uploads/2024/02/Four-Freedoms.jpg
END:VEVENT
BEGIN:VEVENT
DTSTART;TZID=America/New_York:20270602T183000
DTEND;TZID=America/New_York:20270602T201500
DTSTAMP:20260422T214618
CREATED:20260330T202332Z
LAST-MODIFIED:20260330T203315Z
UID:10005943-1811961000-1811967300@capecoralnewresident.com
SUMMARY:Sunset with Friends @ Four Freedoms Park
DESCRIPTION:Join fellow NRC members and enjoy our slice of paradise as we watch the sunset together.
URL:https://capecoralnewresident.com/event/sunset-with-friends-four-freedoms-park/2027-06-02/
LOCATION:Four Freedoms Park\, 4818 Tarpon Court\, Cape Coral\, FL\, 33904\, United States
CATEGORIES:Monthly Events & Activities
ATTACH;FMTTYPE=image/jpeg:https://capecoralnewresident.com/wp-content/uploads/2024/02/Four-Freedoms.jpg
END:VEVENT
BEGIN:VEVENT
DTSTART;VALUE=DATE:20270707
DTEND;VALUE=DATE:20270708
DTSTAMP:20260422T214618
CREATED:20260330T201338Z
LAST-MODIFIED:20260330T201341Z
UID:10005110-1814918400-1815004799@capecoralnewresident.com
SUMMARY:Sunset with Friends
DESCRIPTION:
URL:https://capecoralnewresident.com/event/sunset-with-friends-2/2027-07-07/
LOCATION:Four Freedoms Park\, 4818 Tarpon Court\, Cape Coral\, FL\, 33904\, United States
CATEGORIES:Monthly Events & Activities
ATTACH;FMTTYPE=image/jpeg:https://capecoralnewresident.com/wp-content/uploads/2024/02/Four-Freedoms.jpg
END:VEVENT
BEGIN:VEVENT
DTSTART;TZID=America/New_York:20270707T183000
DTEND;TZID=America/New_York:20270707T201500
DTSTAMP:20260422T214618
CREATED:20260330T202332Z
LAST-MODIFIED:20260330T203315Z
UID:10005944-1814985000-1814991300@capecoralnewresident.com
SUMMARY:Sunset with Friends @ Four Freedoms Park
DESCRIPTION:Join fellow NRC members and enjoy our slice of paradise as we watch the sunset together.
URL:https://capecoralnewresident.com/event/sunset-with-friends-four-freedoms-park/2027-07-07/
LOCATION:Four Freedoms Park\, 4818 Tarpon Court\, Cape Coral\, FL\, 33904\, United States
CATEGORIES:Monthly Events & Activities
ATTACH;FMTTYPE=image/jpeg:https://capecoralnewresident.com/wp-content/uploads/2024/02/Four-Freedoms.jpg
END:VEVENT
END:VCALENDAR