BEGIN:VCALENDAR
VERSION:2.0
PRODID:-//New Resident Club of Cape Coral - ECPv6.15.20//NONSGML v1.0//EN
CALSCALE:GREGORIAN
METHOD:PUBLISH
X-WR-CALNAME:New Resident Club of Cape Coral
X-ORIGINAL-URL:https://capecoralnewresident.com
X-WR-CALDESC:Events for New Resident Club of Cape Coral
REFRESH-INTERVAL;VALUE=DURATION:PT1H
X-Robots-Tag:noindex
X-PUBLISHED-TTL:PT1H
BEGIN:VTIMEZONE
TZID:America/New_York
BEGIN:DAYLIGHT
TZOFFSETFROM:-0500
TZOFFSETTO:-0400
TZNAME:EDT
DTSTART:20230312T070000
END:DAYLIGHT
BEGIN:STANDARD
TZOFFSETFROM:-0400
TZOFFSETTO:-0500
TZNAME:EST
DTSTART:20231105T060000
END:STANDARD
BEGIN:DAYLIGHT
TZOFFSETFROM:-0500
TZOFFSETTO:-0400
TZNAME:EDT
DTSTART:20240310T070000
END:DAYLIGHT
BEGIN:STANDARD
TZOFFSETFROM:-0400
TZOFFSETTO:-0500
TZNAME:EST
DTSTART:20241103T060000
END:STANDARD
BEGIN:DAYLIGHT
TZOFFSETFROM:-0500
TZOFFSETTO:-0400
TZNAME:EDT
DTSTART:20250309T070000
END:DAYLIGHT
BEGIN:STANDARD
TZOFFSETFROM:-0400
TZOFFSETTO:-0500
TZNAME:EST
DTSTART:20251102T060000
END:STANDARD
BEGIN:DAYLIGHT
TZOFFSETFROM:-0500
TZOFFSETTO:-0400
TZNAME:EDT
DTSTART:20260308T070000
END:DAYLIGHT
BEGIN:STANDARD
TZOFFSETFROM:-0400
TZOFFSETTO:-0500
TZNAME:EST
DTSTART:20261101T060000
END:STANDARD
BEGIN:DAYLIGHT
TZOFFSETFROM:-0500
TZOFFSETTO:-0400
TZNAME:EDT
DTSTART:20270314T070000
END:DAYLIGHT
BEGIN:STANDARD
TZOFFSETFROM:-0400
TZOFFSETTO:-0500
TZNAME:EST
DTSTART:20271107T060000
END:STANDARD
END:VTIMEZONE
BEGIN:VEVENT
DTSTART;TZID=America/New_York:20260120T113000
DTEND;TZID=America/New_York:20260120T133000
DTSTAMP:20260422T233846
CREATED:20251217T222033Z
LAST-MODIFIED:20260106T182028Z
UID:10005822-1768908600-1768915800@capecoralnewresident.com
SUMMARY:Fashion Show at Hooked Island Grill presented by Razzle Dazzle
DESCRIPTION:Come enjoy lunch and a fashion show and some shopping too. \n$28 – Call Tammy at 309-621-5320 \nMention NRC as we have 15 reserved seats! Register by January 18\, 2026
URL:https://capecoralnewresident.com/event/fashion-show-at-hooked-island-grill-presented-by-razzle-dazzle/
LOCATION:Hooked Island Grill\, SE 47th Terrace\, Cape Coral\, FL\, 33904
CATEGORIES:Monthly Events & Activities
ATTACH;FMTTYPE=image/jpeg:https://capecoralnewresident.com/wp-content/uploads/2025/12/Razzle-Dazzle-1.jpg
END:VEVENT
BEGIN:VEVENT
DTSTART;TZID=America/New_York:20241111T170000
DTEND;TZID=America/New_York:20241111T203000
DTSTAMP:20260422T233846
CREATED:20240825T233747Z
LAST-MODIFIED:20241024T203357Z
UID:10005199-1731344400-1731357000@capecoralnewresident.com
SUMMARY:Cocktails on the Cape - Hooked Island Grill
DESCRIPTION:
URL:https://capecoralnewresident.com/event/cocktails-on-the-cape-12/
LOCATION:SE 47th Terrace\, Cape Coral\, FL\, 33904
CATEGORIES:Monthly Events & Activities
ATTACH;FMTTYPE=image/jpeg:https://capecoralnewresident.com/wp-content/uploads/2024/08/Cocktails-on-the-Cape-Hooked-November-2024.jpg
END:VEVENT
BEGIN:VEVENT
DTSTART;TZID=America/New_York:20241017T113000
DTEND;TZID=America/New_York:20241017T133000
DTSTAMP:20260422T233846
CREATED:20240712T164654Z
LAST-MODIFIED:20240925T213424Z
UID:10005443-1729164600-1729171800@capecoralnewresident.com
SUMMARY:Ladies Luncheon - Hooked Island Grill
DESCRIPTION:
URL:https://capecoralnewresident.com/event/monthly-ladies-luncheon-2/
LOCATION:Hooked Island Grill\, SE 47th Terrace\, Cape Coral\, FL\, 33904
CATEGORIES:Monthly Events & Activities
ATTACH;FMTTYPE=image/jpeg:https://capecoralnewresident.com/wp-content/uploads/2024/09/Ladies-Luncheon-Hooked-October-2024.jpg
END:VEVENT
END:VCALENDAR